PDS_VERSION_ID = PDS3
/* FILE DATA ELEMENTS */
RECORD_TYPE = STREAM
/* POINTERS TO DATA OBJECTS */
^COMPRESSED_FILE = "H8841_0000_P23.JP2"
/* IDENTIFICATION DATA ELEMENTS */
DATA_SET_ID = "MEX-M-HRSC-5-REFDR-MAPPROJECTED-V3.0"
DATA_SET_NAME = "MARS EXPRESS HRSC MAP PROJECTED REFDR V3.0"
DETECTOR_ID = MEX_HRSC_P2
EVENT_TYPE = "MARS-GLOBAL-VARIABLE-Gl-Ot-At"
INSTRUMENT_HOST_ID = MEX
INSTRUMENT_HOST_NAME = "MARS EXPRESS"
INSTRUMENT_ID = HRSC
INSTRUMENT_NAME = "HIGH RESOLUTION STEREO CAMERA"
MISSION_NAME = "MARS EXPRESS"
MISSION_PHASE_NAME = ME_Phase_22
PROCESSING_LEVEL_ID = 3
PRODUCT_CREATION_TIME = 2016-10-26T07:44:53.000Z
PRODUCT_ID = "H8841_0000_P23.JP2"
RELEASE_ID = 0093
REVISION_ID = 0000
/* QUALITY DATA ELEMENTS */
DATA_QUALITY_ID = 1
DATA_QUALITY_DESC = "Data calculated based on original SPICE kernels"
/* TIME DATA ELEMENTS */
SPACECRAFT_CLOCK_START_COUNT = "1/0239309212.08258"
SPACECRAFT_CLOCK_STOP_COUNT = "1/0239309417.48521"
START_TIME = 2010-12-01T18:48:05.680Z
STOP_TIME = 2010-12-01T18:49:56.560Z
/* ORBITAL DATA ELEMENTS */
ASCENDING_NODE_LONGITUDE = 48.48
MAXIMUM_RESOLUTION = 77.8
FOOTPRINT_POINT_LATITUDE = (-82.3289,-82.4363,-82.5051,-82.617, -82.6919,-82.7575,-82.8476,-82.9006, -83.0287,-82.8038,-82.5178,-82.4025, -82.2296,-82.0561,-81.9388,-81.8203, -81.7017,-81.5833,-81.4647,-81.3461, -81.226,-81.1059,-80.924,-80.8022, -80.6814,-80.4998,-80.3787,-80.1972, -80.0761,-79.955,-79.8339,-79.6524, -79.5316,-79.4108,-79.29,-79.1694, -79.0488,-78.9282,-78.8076,-78.6872, -78.5668,-78.4461,-78.325,-78.2055, -78.0262,-77.8461,-77.7258,-77.606, -77.427,-77.1882,-76.9715,-76.9452, -76.9206,-76.8804,-76.855,-76.8167, -76.7828,-76.7296,-76.6954,-76.6569, -76.599,-76.5642,-76.6533,-77.0002, -77.2318,-77.3501,-77.4713,-77.5878, -77.7623,-77.9372,-78.1125,-78.2288, -78.4034,-78.5199,-78.6364,-78.8112, -78.9859,-79.1022,-79.2185,-79.3348, -79.5091,-79.6253,-79.7413,-79.8572, -79.9732,-80.089,-80.2046,-80.3202, -80.4356,-80.5509,-80.7231,-80.8353, -81.0037,-81.1156,-81.2831,-81.503, -81.6656,-81.8277,-82.0956,-82.3289)
FOOTPRINT_POINT_LONGITUDE = (55.7216,57.1981,58.2041,59.9553,61.222 ,62.4044,64.1616,65.2832,66.6203, 67.2864,68.0746,68.3738,68.8054,69.2172 ,69.4845,69.7462,70.0001,70.2467,70.486 ,70.7184,70.9472,71.1726,71.4969, 71.7049,71.9083,72.2029,72.3926,72.6681 ,72.8456,73.0186,73.1871,73.4321, 73.5906,73.7451,73.896,74.0433,74.1872, 74.3275,74.4646,74.5986,74.7296,74.8572 ,74.9814,75.1046,75.2842,75.457,75.5688 ,75.6785,75.8397,76.0464,76.2272, 75.5098,74.8694,73.9141,73.3603,72.5734 ,71.9491,70.9357,70.3153,69.7038, 68.7884,68.2557,67.7134,67.2851,66.9846 ,66.8196,66.6393,66.4744,66.2222, 65.9603,65.6882,65.5041,65.2199,65.0244 ,64.8244,64.5153,64.1957,63.9769, 63.7529,63.523,63.1677,62.9234,62.6739, 62.4177,62.1545,61.8848,61.6088,61.3253 ,61.0342,60.7355,60.2744,59.9642, 59.4799,59.1471,58.6299,57.9155,57.3593 ,56.779,55.7591,55.7216)
ORBIT_NUMBER = 8841
ORBITAL_ECCENTRICITY = 0.578
ORBITAL_INCLINATION = 86.85
ORBITAL_SEMIMAJOR_AXIS = 8767.61
PERIAPSIS_ALTITUDE = 320.87
PERIAPSIS_ARGUMENT_ANGLE = 251.63
PERIAPSIS_TIME = 2010-12-01T18:41:09.000Z
SPACECRAFT_ORIENTATION = (0.0,-1.0,0.0)
^MEX_ORIENTATION_DESC = "MEX_ORIENTATION_DESC.TXT"
SPACECRAFT_POINTING_MODE = NADIR
^MEX_POINTING_DESC = "MEX_POINTING_DESC.TXT"
RIGHT_ASCENSION = -1e+32
DECLINATION = -1e+32
OFFSET_ANGLE = -1e+32
SPACECRAFT_SOLAR_DISTANCE = 2.15931e+08
TARGET_NAME = MARS
/* CAMERA DATA ELEMENTS */
DETECTOR_TEMPERATURE = 18.9822
FOCAL_PLANE_TEMPERATURE = 8.3794
INST_CMPRS_NAME = "DISCRETE COSINE TRANSFORMATION (DCT)"
INST_CMPRS_RATIO = 15.9234
INST_CMPRS_QUALITY = 0
INST_CMPRS_QUANTZ_TBL_ID = 0
INSTRUMENT_TEMPERATURE = 11.0301
LENS_TEMPERATURE = 8.3794
MACROPIXEL_SIZE = 4
MISSING_FRAMES = 0
PIXEL_SUBSAMPLING_FLAG = N
SIGNAL_CHAIN_ID = 1
/* RADIOMETRIC DATA ELEMENTS */
BANDWIDTH = 177.0
CENTER_FILTER_WAVELENGTH = 676.5
RADIANCE_OFFSET = 1.97204
RADIANCE_SCALING_FACTOR = 0.0256752
REFLECTANCE_SCALING_FACTOR = 0.000634745
MEX:REFLECTANCE_OFFSET = 0.048753
/* IMAGE OBJECT DEFINITIONS */
OBJECT = IMAGE
  INTERCHANGE_FORMAT = BINARY
  LINES = 7675
  LINE_SAMPLES = 4146
  SAMPLE_TYPE = UNSIGNED_INTEGER
  SAMPLE_BITS = 8
  BANDS = 1
  BAND_STORAGE_TYPE = BAND_SEQUENTIAL
  MAXIMUM = 255
  MEAN = 57.7651
  MINIMUM = 1
  STANDARD_DEVIATION = 34.5882
END_OBJECT = IMAGE
/* MAP OBJECT DEFINITIONS */
OBJECT = IMAGE_MAP_PROJECTION
  ^DATA_SET_MAP_PROJECTION_CATALOG= "DSMAP.CAT"
  A_AXIS_RADIUS = 3396.0
  B_AXIS_RADIUS = 3396.0
  C_AXIS_RADIUS = 3396.0
  CENTER_LATITUDE = 0.0
  CENTER_LONGITUDE = 68.0
  COORDINATE_SYSTEM_NAME = PLANETOGRAPHIC
  COORDINATE_SYSTEM_TYPE = "BODY-FIXED ROTATING"
  EASTERNMOST_LONGITUDE = 76.2272
  FIRST_STANDARD_PARALLEL = "N/A"
  LINE_FIRST_PIXEL = 1
  LINE_LAST_PIXEL = 7675
  LINE_PROJECTION_OFFSET = -90768.625
  MAP_PROJECTION_ROTATION = 0.0
  MAP_PROJECTION_TYPE = SINUSOIDAL
  MAP_RESOLUTION = 1185.42760773333
  MAP_SCALE = 0.05
  MAXIMUM_LATITUDE = -76.5642
  MINIMUM_LATITUDE = -83.0287
  POSITIVE_LONGITUDE_DIRECTION = EAST
  REFERENCE_LATITUDE = "N/A"
  REFERENCE_LONGITUDE = "N/A"
  SAMPLE_FIRST_PIXEL = 1
  SAMPLE_LAST_PIXEL = 4146
  SAMPLE_PROJECTION_OFFSET = 2023.125
  SECOND_STANDARD_PARALLEL = "N/A"
  WESTERNMOST_LONGITUDE = 55.7216
END_OBJECT = IMAGE_MAP_PROJECTION
/* The JPEG2000 image data file associated with this label. */
OBJECT = COMPRESSED_FILE
  FILE_NAME = "H8841_0000_P23.JP2"
  RECORD_TYPE = UNDEFINED
  FILE_RECORDS = UNK
  ENCODING_TYPE = "JP2"
  INTERCHANGE_FORMAT = BINARY
  UNCOMPRESSED_FILE_NAME = "H8841_0000_P23.IMG"
  REQUIRED_STORAGE_BYTES = "31845426"
  ^DESCRIPTION = "JP2INFO.TXT"
END_OBJECT = COMPRESSED_FILE
END
