PDS_VERSION_ID = PDS3
/* FILE DATA ELEMENTS */
RECORD_TYPE = STREAM
/* POINTERS TO DATA OBJECTS */
^COMPRESSED_FILE = "H8856_0000_P23.JP2"
/* IDENTIFICATION DATA ELEMENTS */
DATA_SET_ID = "MEX-M-HRSC-5-REFDR-MAPPROJECTED-V3.0"
DATA_SET_NAME = "MARS EXPRESS HRSC MAP PROJECTED REFDR V3.0"
DETECTOR_ID = MEX_HRSC_P2
EVENT_TYPE = "MARS-GLOBAL-VARIABLE-Gl-At"
INSTRUMENT_HOST_ID = MEX
INSTRUMENT_HOST_NAME = "MARS EXPRESS"
INSTRUMENT_ID = HRSC
INSTRUMENT_NAME = "HIGH RESOLUTION STEREO CAMERA"
MISSION_NAME = "MARS EXPRESS"
MISSION_PHASE_NAME = ME_Phase_22
PROCESSING_LEVEL_ID = 3
PRODUCT_CREATION_TIME = 2016-10-26T07:44:53.000Z
PRODUCT_ID = "H8856_0000_P23.JP2"
RELEASE_ID = 0093
REVISION_ID = 0000
/* QUALITY DATA ELEMENTS */
DATA_QUALITY_ID = 1
DATA_QUALITY_DESC = "Data calculated based on original SPICE kernels"
/* TIME DATA ELEMENTS */
SPACECRAFT_CLOCK_START_COUNT = "1/0239687126.09138"
SPACECRAFT_CLOCK_STOP_COUNT = "1/0239687621.09774"
START_TIME = 2010-12-06T03:47:31.888Z
STOP_TIME = 2010-12-06T03:52:34.103Z
/* ORBITAL DATA ELEMENTS */
ASCENDING_NODE_LONGITUDE = 48.19
MAXIMUM_RESOLUTION = 125.3
FOOTPRINT_POINT_LATITUDE = (-68.9761,-69.0315,-69.0753,-69.1283, -69.1727,-69.2093,-69.2454,-69.3502, -69.0567,-68.6275,-68.3388,-67.9056, -67.6206,-67.3371,-67.054,-66.7727, -66.4924,-66.2139,-65.9352,-65.6579, -65.3818,-65.1067,-64.8324,-64.5598, -64.2862,-64.0147,-63.6125,-63.3443, -63.079,-62.8146,-62.55,-62.2864, -62.0235,-61.7617,-61.5007,-61.2418, -60.9848,-60.7282,-60.4724,-60.2186, -59.8374,-59.5852,-59.209,-58.8327, -58.3396,-57.85,-57.3651,-57.0069, -56.5274,-56.1677,-56.1423,-56.1415, -56.1347,-56.1225,-56.1083,-56.0891, -56.0625,-56.0421,-56.031,-56.2491, -56.7158,-57.1898,-57.668,-58.1488, -58.626,-59.1177,-59.6129,-59.8619, -60.1122,-60.3637,-60.6169,-60.8707, -61.1257,-61.3827,-61.6402,-61.8992, -62.1581,-62.4198,-62.8154,-63.2099, -63.473,-63.7373,-64.0044,-64.2726, -64.5418,-64.8115,-65.0827,-65.3556, -65.631,-65.9039,-66.3179,-66.5953, -66.8737,-67.1543,-67.4344,-67.7146, -67.9987,-68.2821,-68.567,-68.9761)
FOOTPRINT_POINT_LONGITUDE = (338.972,339.911,340.717,341.796, 342.813,343.764,344.855,346.183,346.268 ,346.4,346.481,346.594,346.669,346.743, 346.813,346.883,346.949,347.015,347.078 ,347.139,347.199,347.257,347.313, 347.368,347.419,347.471,347.548,347.596 ,347.645,347.693,347.738,347.782, 347.825,347.866,347.907,347.947,347.987 ,348.026,348.064,348.101,348.154, 348.189,348.239,348.286,348.351,348.412 ,348.471,348.517,348.571,348.607,348.08 ,347.478,346.478,345.546,344.814, 344.016,343.153,342.555,342.085,341.435 ,341.4,341.358,341.312,341.264,341.22, 341.161,341.098,341.065,341.031,340.995 ,340.957,340.918,340.877,340.834, 340.789,340.743,340.696,340.646,340.565 ,340.485,340.431,340.375,340.314, 340.251,340.186,340.119,340.049,339.976 ,339.897,339.822,339.699,339.613, 339.524,339.429,339.334,339.237,339.131 ,339.025,338.913,338.972)
ORBIT_NUMBER = 8856
ORBITAL_ECCENTRICITY = 0.578
ORBITAL_INCLINATION = 86.85
ORBITAL_SEMIMAJOR_AXIS = 8771.15
PERIAPSIS_ALTITUDE = 322.08
PERIAPSIS_ARGUMENT_ANGLE = 249.06
PERIAPSIS_TIME = 2010-12-06T03:35:25.000Z
SPACECRAFT_ORIENTATION = (0.0,-1.0,0.0)
^MEX_ORIENTATION_DESC = "MEX_ORIENTATION_DESC.TXT"
SPACECRAFT_POINTING_MODE = NADIR
^MEX_POINTING_DESC = "MEX_POINTING_DESC.TXT"
RIGHT_ASCENSION = -1e+32
DECLINATION = -1e+32
OFFSET_ANGLE = -1e+32
SPACECRAFT_SOLAR_DISTANCE = 2.15199e+08
TARGET_NAME = MARS
/* CAMERA DATA ELEMENTS */
DETECTOR_TEMPERATURE = 18.7783
FOCAL_PLANE_TEMPERATURE = 9.195
INST_CMPRS_NAME = "DISCRETE COSINE TRANSFORMATION (DCT)"
INST_CMPRS_RATIO = 8.22504
INST_CMPRS_QUALITY = 0
INST_CMPRS_QUANTZ_TBL_ID = 0
INSTRUMENT_TEMPERATURE = 11.234
LENS_TEMPERATURE = 9.6028
MACROPIXEL_SIZE = 4
MISSING_FRAMES = 0
PIXEL_SUBSAMPLING_FLAG = N
SIGNAL_CHAIN_ID = 1
/* RADIOMETRIC DATA ELEMENTS */
BANDWIDTH = 177.0
CENTER_FILTER_WAVELENGTH = 676.5
RADIANCE_OFFSET = 5.51093
RADIANCE_SCALING_FACTOR = 0.0298632
REFLECTANCE_SCALING_FACTOR = 0.000733284
MEX:REFLECTANCE_OFFSET = 0.13532
/* IMAGE OBJECT DEFINITIONS */
OBJECT = IMAGE
  INTERCHANGE_FORMAT = BINARY
  LINES = 7923
  LINE_SAMPLES = 2419
  SAMPLE_TYPE = UNSIGNED_INTEGER
  SAMPLE_BITS = 8
  BANDS = 1
  BAND_STORAGE_TYPE = BAND_SEQUENTIAL
  MAXIMUM = 255
  MEAN = 153.663
  MINIMUM = 1
  STANDARD_DEVIATION = 79.8359
END_OBJECT = IMAGE
/* MAP OBJECT DEFINITIONS */
OBJECT = IMAGE_MAP_PROJECTION
  ^DATA_SET_MAP_PROJECTION_CATALOG= "DSMAP.CAT"
  A_AXIS_RADIUS = 3396.0
  B_AXIS_RADIUS = 3396.0
  C_AXIS_RADIUS = 3396.0
  CENTER_LATITUDE = 0.0
  CENTER_LONGITUDE = 344.0
  COORDINATE_SYSTEM_NAME = PLANETOGRAPHIC
  COORDINATE_SYSTEM_TYPE = "BODY-FIXED ROTATING"
  EASTERNMOST_LONGITUDE = 348.607
  FIRST_STANDARD_PARALLEL = "N/A"
  LINE_FIRST_PIXEL = 1
  LINE_LAST_PIXEL = 7923
  LINE_PROJECTION_OFFSET = -33194.25
  MAP_PROJECTION_ROTATION = 0.0
  MAP_PROJECTION_TYPE = SINUSOIDAL
  MAP_RESOLUTION = 592.713803866667
  MAP_SCALE = 0.1
  MAXIMUM_LATITUDE = -56.031
  MINIMUM_LATITUDE = -69.3502
  POSITIVE_LONGITUDE_DIRECTION = EAST
  REFERENCE_LATITUDE = "N/A"
  REFERENCE_LONGITUDE = "N/A"
  SAMPLE_FIRST_PIXEL = 1
  SAMPLE_LAST_PIXEL = 2419
  SAMPLE_PROJECTION_OFFSET = 1066.75
  SECOND_STANDARD_PARALLEL = "N/A"
  WESTERNMOST_LONGITUDE = 338.913
END_OBJECT = IMAGE_MAP_PROJECTION
/* The JPEG2000 image data file associated with this label. */
OBJECT = COMPRESSED_FILE
  FILE_NAME = "H8856_0000_P23.JP2"
  RECORD_TYPE = UNDEFINED
  FILE_RECORDS = UNK
  ENCODING_TYPE = "JP2"
  INTERCHANGE_FORMAT = BINARY
  UNCOMPRESSED_FILE_NAME = "H8856_0000_P23.IMG"
  REQUIRED_STORAGE_BYTES = "19185089"
  ^DESCRIPTION = "JP2INFO.TXT"
END_OBJECT = COMPRESSED_FILE
END
