PDS_VERSION_ID = PDS3
/* FILE DATA ELEMENTS */
RECORD_TYPE = STREAM
/* POINTERS TO DATA OBJECTS */
^COMPRESSED_FILE = "H8870_0000_P13.JP2"
/* IDENTIFICATION DATA ELEMENTS */
DATA_SET_ID = "MEX-M-HRSC-5-REFDR-MAPPROJECTED-V3.0"
DATA_SET_NAME = "MARS EXPRESS HRSC MAP PROJECTED REFDR V3.0"
DETECTOR_ID = MEX_HRSC_P1
EVENT_TYPE = "MARS-LOCAL-STEREO-Gl-Pf-La"
INSTRUMENT_HOST_ID = MEX
INSTRUMENT_HOST_NAME = "MARS EXPRESS"
INSTRUMENT_ID = HRSC
INSTRUMENT_NAME = "HIGH RESOLUTION STEREO CAMERA"
MISSION_NAME = "MARS EXPRESS"
MISSION_PHASE_NAME = ME_Phase_22
PROCESSING_LEVEL_ID = 3
PRODUCT_CREATION_TIME = 2016-10-26T07:44:53.000Z
PRODUCT_ID = "H8870_0000_P13.JP2"
RELEASE_ID = 0093
REVISION_ID = 0000
/* QUALITY DATA ELEMENTS */
DATA_QUALITY_ID = 1
DATA_QUALITY_DESC = "Data calculated based on original SPICE kernels"
/* TIME DATA ELEMENTS */
SPACECRAFT_CLOCK_START_COUNT = "1/0240039580.08257"
SPACECRAFT_CLOCK_STOP_COUNT = "1/0240039815.32352"
START_TIME = 2010-12-10T05:40:02.830Z
STOP_TIME = 2010-12-10T05:41:11.568Z
/* ORBITAL DATA ELEMENTS */
ASCENDING_NODE_LONGITUDE = 47.93
MAXIMUM_RESOLUTION = 50.5
FOOTPRINT_POINT_LATITUDE = (-73.8471,-73.8822,-73.9066,-73.9442, -73.9802,-74.023,-74.0709,-74.097, -74.1254,-74.1521,-74.1771,-74.2087, -74.2272,-74.2371,-74.1346,-74.0535, -73.9722,-73.8911,-73.8098,-73.6877, -73.6061,-73.4834,-73.3619,-73.2811, -73.1989,-73.1171,-73.036,-72.9551, -72.8741,-72.7932,-72.7124,-72.6316, -72.5104,-72.4295,-72.3488,-72.2681, -72.0667,-71.9057,-71.7449,-71.5855, -71.3846,-71.2241,-71.0637,-70.9035, -70.7423,-70.5839,-70.3845,-70.2256, -70.1189,-70.1116,-70.1009,-70.09, -70.0757,-70.0633,-70.0506,-70.0397, -70.0283,-70.0104,-69.9944,-69.9812, -69.964,-69.939,-69.924,-69.8971, -69.877,-69.8608,-69.8304,-69.7981, -69.7758,-69.9312,-70.0896,-70.2081, -70.4086,-70.5663,-70.7251,-70.8454, -70.9637,-71.1216,-71.2798,-71.4386, -71.5971,-71.7562,-71.8754,-72.0343, -72.1933,-72.3526,-72.5117,-72.5914, -72.6712,-72.7509,-72.8707,-72.9905, -73.0705,-73.1895,-73.3469,-73.4278, -73.5497,-73.6294,-73.7491,-73.8471)
FOOTPRINT_POINT_LONGITUDE = (344.274,344.769,345.124,345.694, 346.267,346.986,347.854,348.362,348.945 ,349.53,350.117,350.929,351.447,351.744 ,351.933,351.975,352.017,352.058,352.1, 352.161,352.202,352.263,352.321,352.359 ,352.399,352.438,352.476,352.512, 352.549,352.585,352.62,352.655,352.707, 352.742,352.776,352.809,352.891,352.956 ,353.019,353.078,353.154,353.213, 353.271,353.328,353.386,353.438,353.505 ,353.556,353.591,353.321,352.983, 352.644,352.237,351.899,351.562,351.292 ,351.023,350.621,350.285,350.018, 349.684,349.216,348.949,348.484,348.152 ,347.888,347.425,346.963,346.673, 346.597,346.521,346.463,346.366,346.285 ,346.203,346.14,346.076,345.988,345.899 ,345.809,345.716,345.621,345.549,345.45 ,345.35,345.247,345.142,345.089,345.035 ,344.981,344.898,344.814,344.757,344.67 ,344.551,344.492,344.402,344.34,344.246 ,344.274)
ORBIT_NUMBER = 8870
ORBITAL_ECCENTRICITY = 0.578
ORBITAL_INCLINATION = 86.84
ORBITAL_SEMIMAJOR_AXIS = 8774.09
PERIAPSIS_ALTITUDE = 322.35
PERIAPSIS_ARGUMENT_ANGLE = 246.68
PERIAPSIS_TIME = 2010-12-10T05:30:18.000Z
SPACECRAFT_ORIENTATION = (0.0,-1.0,0.0)
^MEX_ORIENTATION_DESC = "MEX_ORIENTATION_DESC.TXT"
SPACECRAFT_POINTING_MODE = NADIR
^MEX_POINTING_DESC = "MEX_POINTING_DESC.TXT"
RIGHT_ASCENSION = -1e+32
DECLINATION = -1e+32
OFFSET_ANGLE = -1e+32
SPACECRAFT_SOLAR_DISTANCE = 2.14535e+08
TARGET_NAME = MARS
/* CAMERA DATA ELEMENTS */
DETECTOR_TEMPERATURE = 17.351
FOCAL_PLANE_TEMPERATURE = 7.9716
INST_CMPRS_NAME = "DISCRETE COSINE TRANSFORMATION (DCT)"
INST_CMPRS_RATIO = 13.9549
INST_CMPRS_QUALITY = 0
INST_CMPRS_QUANTZ_TBL_ID = 0
INSTRUMENT_TEMPERATURE = 10.8262
LENS_TEMPERATURE = 8.3794
MACROPIXEL_SIZE = 2
MISSING_FRAMES = 0
PIXEL_SUBSAMPLING_FLAG = N
SIGNAL_CHAIN_ID = 3
/* RADIOMETRIC DATA ELEMENTS */
BANDWIDTH = 174.0
CENTER_FILTER_WAVELENGTH = 675.0
RADIANCE_OFFSET = 4.88436
RADIANCE_SCALING_FACTOR = 0.0432746
REFLECTANCE_SCALING_FACTOR = 0.0010713
MEX:REFLECTANCE_OFFSET = 0.120916
/* IMAGE OBJECT DEFINITIONS */
OBJECT = IMAGE
  INTERCHANGE_FORMAT = BINARY
  LINES = 5209
  LINE_SAMPLES = 3554
  SAMPLE_TYPE = UNSIGNED_INTEGER
  SAMPLE_BITS = 8
  BANDS = 1
  BAND_STORAGE_TYPE = BAND_SEQUENTIAL
  MAXIMUM = 255
  MEAN = 92.34
  MINIMUM = 1
  STANDARD_DEVIATION = 19.36
END_OBJECT = IMAGE
/* MAP OBJECT DEFINITIONS */
OBJECT = IMAGE_MAP_PROJECTION
  ^DATA_SET_MAP_PROJECTION_CATALOG= "DSMAP.CAT"
  A_AXIS_RADIUS = 3396.0
  B_AXIS_RADIUS = 3396.0
  C_AXIS_RADIUS = 3396.0
  CENTER_LATITUDE = 0.0
  CENTER_LONGITUDE = 349.0
  COORDINATE_SYSTEM_NAME = PLANETOGRAPHIC
  COORDINATE_SYSTEM_TYPE = "BODY-FIXED ROTATING"
  EASTERNMOST_LONGITUDE = 353.591
  FIRST_STANDARD_PARALLEL = "N/A"
  LINE_FIRST_PIXEL = 1
  LINE_LAST_PIXEL = 5209
  LINE_PROJECTION_OFFSET = -82707.25
  MAP_PROJECTION_ROTATION = 0.0
  MAP_PROJECTION_TYPE = SINUSOIDAL
  MAP_RESOLUTION = 1185.42760773333
  MAP_SCALE = 0.05
  MAXIMUM_LATITUDE = -69.7758
  MINIMUM_LATITUDE = -74.2371
  POSITIVE_LONGITUDE_DIRECTION = EAST
  REFERENCE_LATITUDE = "N/A"
  REFERENCE_LONGITUDE = "N/A"
  SAMPLE_FIRST_PIXEL = 1
  SAMPLE_LAST_PIXEL = 3554
  SAMPLE_PROJECTION_OFFSET = 1641.25
  SECOND_STANDARD_PARALLEL = "N/A"
  WESTERNMOST_LONGITUDE = 344.246
END_OBJECT = IMAGE_MAP_PROJECTION
/* The JPEG2000 image data file associated with this label. */
OBJECT = COMPRESSED_FILE
  FILE_NAME = "H8870_0000_P13.JP2"
  RECORD_TYPE = UNDEFINED
  FILE_RECORDS = UNK
  ENCODING_TYPE = "JP2"
  INTERCHANGE_FORMAT = BINARY
  UNCOMPRESSED_FILE_NAME = "H8870_0000_P13.IMG"
  REQUIRED_STORAGE_BYTES = "18534110"
  ^DESCRIPTION = "JP2INFO.TXT"
END_OBJECT = COMPRESSED_FILE
END
