PDS_VERSION_ID = PDS3
/* FILE DATA ELEMENTS */
RECORD_TYPE = STREAM
/* POINTERS TO DATA OBJECTS */
^COMPRESSED_FILE = "H8888_0000_GR3.JP2"
/* IDENTIFICATION DATA ELEMENTS */
DATA_SET_ID = "MEX-M-HRSC-5-REFDR-MAPPROJECTED-V3.0"
DATA_SET_NAME = "MARS EXPRESS HRSC MAP PROJECTED REFDR V3.0"
DETECTOR_ID = MEX_HRSC_GREEN
EVENT_TYPE = "MARS-GLOBAL-VARIABLE-Gl-At"
INSTRUMENT_HOST_ID = MEX
INSTRUMENT_HOST_NAME = "MARS EXPRESS"
INSTRUMENT_ID = HRSC
INSTRUMENT_NAME = "HIGH RESOLUTION STEREO CAMERA"
MISSION_NAME = "MARS EXPRESS"
MISSION_PHASE_NAME = ME_Phase_22
PROCESSING_LEVEL_ID = 3
PRODUCT_CREATION_TIME = 2016-10-26T07:44:53.000Z
PRODUCT_ID = "H8888_0000_GR3.JP2"
RELEASE_ID = 0093
REVISION_ID = 0000
/* QUALITY DATA ELEMENTS */
DATA_QUALITY_ID = 1
DATA_QUALITY_DESC = "Data calculated based on original SPICE kernels"
/* TIME DATA ELEMENTS */
SPACECRAFT_CLOCK_START_COUNT = "1/0240492884.08254"
SPACECRAFT_CLOCK_STOP_COUNT = "1/0240493303.46726"
START_TIME = 2010-12-15T11:35:47.181Z
STOP_TIME = 2010-12-15T11:38:49.092Z
/* ORBITAL DATA ELEMENTS */
ASCENDING_NODE_LONGITUDE = 47.59
MAXIMUM_RESOLUTION = 117.7
FOOTPRINT_POINT_LATITUDE = (-71.8756,-71.9403,-71.9956,-72.0302, -72.0709,-72.1263,-72.1721,-72.1957, -72.23,-72.2391,-72.0433,-71.8479, -71.6528,-71.4581,-71.2636,-71.0695, -70.8756,-70.6821,-70.4889,-70.296, -70.1035,-69.9112,-69.7194,-69.5278, -69.2416,-69.0507,-68.8603,-68.6703, -68.4805,-68.291,-68.1019,-67.9131, -67.7236,-67.5352,-67.253,-67.0657, -66.8788,-66.6835,-66.4973,-66.3113, -66.1259,-65.9406,-65.5713,-65.2038, -64.8387,-64.2911,-63.928,-63.5649, -63.2043,-62.846,-62.8206,-62.8096, -62.7923,-62.7655,-62.7444,-62.7263, -62.7034,-62.6753,-62.6372,-62.5789, -62.8109,-63.0782,-63.4352,-63.7932, -64.1527,-64.514,-64.8763,-65.24, -65.605,-65.9709,-66.3384,-66.5313, -66.7157,-66.9006,-67.0858,-67.2713, -67.457,-67.6431,-67.8294,-68.0161, -68.203,-68.3903,-68.6721,-68.86, -69.0485,-69.2371,-69.4261,-69.6153, -69.8048,-69.9946,-70.185,-70.3754, -70.5662,-70.7572,-70.9481,-71.1394, -71.3312,-71.523,-71.7151,-71.8756)
FOOTPRINT_POINT_LONGITUDE = (304.174,305.13,306.017,306.612,307.359 ,308.483,309.538,310.144,311.133, 312.026,312.105,312.181,312.255,312.326 ,312.397,312.466,312.533,312.599, 312.663,312.726,312.787,312.847,312.905 ,312.962,313.043,313.097,313.15,313.201 ,313.253,313.303,313.351,313.399, 313.452,313.499,313.57,313.613,313.656, 313.699,313.739,313.779,313.818,313.856 ,313.93,313.999,314.059,314.158,314.22, 314.286,314.344,314.396,313.93,313.321, 312.58,311.708,311.105,310.636,310.1, 309.497,308.763,307.764,307.156,307.101 ,307.022,306.939,306.852,306.763, 306.669,306.57,306.467,306.358,306.245, 306.183,306.123,306.061,305.999,305.934 ,305.868,305.8,305.73,305.659,305.586, 305.512,305.397,305.318,305.237,305.154 ,305.069,304.982,304.893,304.801, 304.708,304.612,304.514,304.413,304.308 ,304.201,304.091,303.978,303.862, 304.174)
ORBIT_NUMBER = 8888
ORBITAL_ECCENTRICITY = 0.578
ORBITAL_INCLINATION = 86.84
ORBITAL_SEMIMAJOR_AXIS = 8780.0
PERIAPSIS_ALTITUDE = 322.32
PERIAPSIS_ARGUMENT_ANGLE = 243.66
PERIAPSIS_TIME = 2010-12-15T11:24:02.000Z
SPACECRAFT_ORIENTATION = (0.0,-1.0,0.0)
^MEX_ORIENTATION_DESC = "MEX_ORIENTATION_DESC.TXT"
SPACECRAFT_POINTING_MODE = NADIR
^MEX_POINTING_DESC = "MEX_POINTING_DESC.TXT"
RIGHT_ASCENSION = -1e+32
DECLINATION = -1e+32
OFFSET_ANGLE = -1e+32
SPACECRAFT_SOLAR_DISTANCE = 2.13708e+08
TARGET_NAME = MARS
/* CAMERA DATA ELEMENTS */
DETECTOR_TEMPERATURE = 18.1666
FOCAL_PLANE_TEMPERATURE = 8.5833
INST_CMPRS_NAME = "DISCRETE COSINE TRANSFORMATION (DCT)"
INST_CMPRS_RATIO = 9.33052
INST_CMPRS_QUALITY = 0
INST_CMPRS_QUANTZ_TBL_ID = 0
INSTRUMENT_TEMPERATURE = 11.0301
LENS_TEMPERATURE = 8.9911
MACROPIXEL_SIZE = 4
MISSING_FRAMES = 1
PIXEL_SUBSAMPLING_FLAG = N
SIGNAL_CHAIN_ID = 2
/* RADIOMETRIC DATA ELEMENTS */
BANDWIDTH = 88.0
CENTER_FILTER_WAVELENGTH = 538.0
RADIANCE_OFFSET = 2.95548
RADIANCE_SCALING_FACTOR = 0.0147418
REFLECTANCE_SCALING_FACTOR = 0.00057967
MEX:REFLECTANCE_OFFSET = 0.116214
/* IMAGE OBJECT DEFINITIONS */
OBJECT = IMAGE
  INTERCHANGE_FORMAT = BINARY
  LINES = 5749
  LINE_SAMPLES = 2372
  SAMPLE_TYPE = UNSIGNED_INTEGER
  SAMPLE_BITS = 8
  BANDS = 1
  BAND_STORAGE_TYPE = BAND_SEQUENTIAL
  MAXIMUM = 255
  MEAN = 160.532
  MINIMUM = 1
  STANDARD_DEVIATION = 55.9566
END_OBJECT = IMAGE
/* MAP OBJECT DEFINITIONS */
OBJECT = IMAGE_MAP_PROJECTION
  ^DATA_SET_MAP_PROJECTION_CATALOG= "DSMAP.CAT"
  A_AXIS_RADIUS = 3396.0
  B_AXIS_RADIUS = 3396.0
  C_AXIS_RADIUS = 3396.0
  CENTER_LATITUDE = 0.0
  CENTER_LONGITUDE = 310.0
  COORDINATE_SYSTEM_NAME = PLANETOGRAPHIC
  COORDINATE_SYSTEM_TYPE = "BODY-FIXED ROTATING"
  EASTERNMOST_LONGITUDE = 314.396
  FIRST_STANDARD_PARALLEL = "N/A"
  LINE_FIRST_PIXEL = 1
  LINE_LAST_PIXEL = 5749
  LINE_PROJECTION_OFFSET = -37065.25
  MAP_PROJECTION_ROTATION = 0.0
  MAP_PROJECTION_TYPE = SINUSOIDAL
  MAP_RESOLUTION = 592.713803866667
  MAP_SCALE = 0.1
  MAXIMUM_LATITUDE = -62.5789
  MINIMUM_LATITUDE = -72.23909999999999
  POSITIVE_LONGITUDE_DIRECTION = EAST
  REFERENCE_LATITUDE = "N/A"
  REFERENCE_LONGITUDE = "N/A"
  SAMPLE_FIRST_PIXEL = 1
  SAMPLE_LAST_PIXEL = 2372
  SAMPLE_PROJECTION_OFFSET = 1153.25
  SECOND_STANDARD_PARALLEL = "N/A"
  WESTERNMOST_LONGITUDE = 303.862
END_OBJECT = IMAGE_MAP_PROJECTION
/* The JPEG2000 image data file associated with this label. */
OBJECT = COMPRESSED_FILE
  FILE_NAME = "H8888_0000_GR3.JP2"
  RECORD_TYPE = UNDEFINED
  FILE_RECORDS = UNK
  ENCODING_TYPE = "JP2"
  INTERCHANGE_FORMAT = BINARY
  UNCOMPRESSED_FILE_NAME = "H8888_0000_GR3.IMG"
  REQUIRED_STORAGE_BYTES = "13657976"
  ^DESCRIPTION = "JP2INFO.TXT"
END_OBJECT = COMPRESSED_FILE
END
