PDS_VERSION_ID = PDS3
/* FILE DATA ELEMENTS */
RECORD_TYPE = STREAM
/* POINTERS TO DATA OBJECTS */
^COMPRESSED_FILE = "H9201_0000_ND3.JP2"
/* IDENTIFICATION DATA ELEMENTS */
DATA_SET_ID = "MEX-M-HRSC-5-REFDR-MAPPROJECTED-V3.0"
DATA_SET_NAME = "MARS EXPRESS HRSC MAP PROJECTED REFDR V3.0"
DETECTOR_ID = MEX_HRSC_NADIR
EVENT_TYPE = "MARS-GLOBAL-VARIABLE-Gl-Eo-At"
INSTRUMENT_HOST_ID = MEX
INSTRUMENT_HOST_NAME = "MARS EXPRESS"
INSTRUMENT_ID = HRSC
INSTRUMENT_NAME = "HIGH RESOLUTION STEREO CAMERA"
MISSION_NAME = "MARS EXPRESS"
MISSION_PHASE_NAME = ME_Phase_22
PROCESSING_LEVEL_ID = 3
PRODUCT_CREATION_TIME = 2016-10-26T10:28:22.000Z
PRODUCT_ID = "H9201_0000_ND3.JP2"
RELEASE_ID = 0095
REVISION_ID = 0000
/* QUALITY DATA ELEMENTS */
DATA_QUALITY_ID = 1
DATA_QUALITY_DESC = "Data calculated based on original SPICE kernels"
/* TIME DATA ELEMENTS */
SPACECRAFT_CLOCK_START_COUNT = "1/0248374709.07297"
SPACECRAFT_CLOCK_STOP_COUNT = "1/0248375479.13791"
START_TIME = 2011-03-16T17:00:52.122Z
STOP_TIME = 2011-03-16T17:09:58.070Z
/* ORBITAL DATA ELEMENTS */
ASCENDING_NODE_LONGITUDE = 41.6
MAXIMUM_RESOLUTION = 55.2
FOOTPRINT_POINT_LATITUDE = (-75.0951,-75.2271,-75.3127,-75.3895, -75.4574,-75.5159,-75.5652,-75.605, -75.6353,-75.6558,-75.6665,-75.6673, -76.0962,-76.5278,-76.9565,-77.3824, -77.8054,-78.2256,-78.643,-79.0575, -79.4693,-79.8783,-80.2844,-80.6878, -81.0883,-81.4856,-81.8804,-82.2727, -82.6618,-83.0479,-83.4309,-83.8105, -84.1868,-84.5603,-84.9305,-85.2966, -85.6584,-86.0156,-86.3679,-87.0536, -87.7018,-88.2807,-88.7094,-88.8307, -88.5746,-88.0966,-87.5286,-86.9248, -86.3069,-85.6829,-85.4415,-85.5352, -85.5968,-85.6255,-85.5686,-85.4912, -85.2777,-84.863,-84.3791,-84.0303, -83.4893,-83.0266,-82.4497,-82.8415, -83.2004,-83.5199,-83.7892,-83.9996, -84.1416,-84.2078,-84.1925,-84.093, -83.9089,-83.6474,-83.312,-82.9107, -82.4513,-82.202,-81.9408,-81.6684, -81.3856,-81.093,-80.7912,-80.4808, -80.1621,-79.8357,-79.502,-79.1612, -78.814,-78.4603,-78.1006,-77.7352, -77.3641,-76.9874,-76.6059,-76.219, -75.8273,-75.4309,-75.0951)
FOOTPRINT_POINT_LONGITUDE = (178.373,176.428,174.993,173.539, 172.068,170.584,169.087,167.579,166.057 ,164.527,162.986,161.439,160.414, 160.247,160.07,159.885,159.687,159.477, 159.253,159.015,158.762,158.49,158.2, 157.887,157.548,157.157,156.757,156.341 ,155.871,155.345,154.761,154.097, 153.343,152.535,151.621,150.558,149.314 ,147.851,146.135,141.562,134.419, 122.252,100.474,67.936,39.173,22.169, 12.5575,6.6896,2.80862,0.126424,355.248 ,350.464,345.52,337.462,329.505,324.697 ,316.59,307.089,299.786,295.794,290.867 ,287.488,284.021,280.231,275.953, 271.157,265.821,259.971,253.677,247.067 ,240.308,233.596,227.12,221.022,215.41, 210.328,205.779,203.697,201.738,199.895 ,198.163,196.536,195.007,193.57,192.219 ,190.95,189.756,188.632,187.573,186.575 ,185.634,184.744,183.905,183.113, 182.361,181.651,180.977,180.337, 178.373)
ORBIT_NUMBER = 9201
ORBITAL_ECCENTRICITY = 0.579
ORBITAL_INCLINATION = 86.85
ORBITAL_SEMIMAJOR_AXIS = 8851.59
PERIAPSIS_ALTITUDE = 334.53
PERIAPSIS_ARGUMENT_ANGLE = 189.96
PERIAPSIS_TIME = 2011-03-16T16:40:53.000Z
SPACECRAFT_ORIENTATION = (0.0,-1.0,0.0)
^MEX_ORIENTATION_DESC = "MEX_ORIENTATION_DESC.TXT"
SPACECRAFT_POINTING_MODE = ACROSSTRACK
^MEX_POINTING_DESC = "MEX_POINTING_DESC.TXT"
RIGHT_ASCENSION = -1e+32
DECLINATION = -1e+32
OFFSET_ANGLE = -0.8
SPACECRAFT_SOLAR_DISTANCE = 2.06706e+08
TARGET_NAME = MARS
/* CAMERA DATA ELEMENTS */
DETECTOR_TEMPERATURE = 18.3705
FOCAL_PLANE_TEMPERATURE = 8.9911
INST_CMPRS_NAME = "DISCRETE COSINE TRANSFORMATION (DCT)"
INST_CMPRS_RATIO = 7.6139
INST_CMPRS_QUALITY = 0
INST_CMPRS_QUANTZ_TBL_ID = 0
INSTRUMENT_TEMPERATURE = 11.234
LENS_TEMPERATURE = 9.195
MACROPIXEL_SIZE = 1
MISSING_FRAMES = 0
PIXEL_SUBSAMPLING_FLAG = N
SIGNAL_CHAIN_ID = 0
/* RADIOMETRIC DATA ELEMENTS */
BANDWIDTH = 177.0
CENTER_FILTER_WAVELENGTH = 677.5
RADIANCE_OFFSET = 3.53279
RADIANCE_SCALING_FACTOR = 0.0505552
REFLECTANCE_SCALING_FACTOR = 0.00114752
MEX:REFLECTANCE_OFFSET = 0.0801882
/* IMAGE OBJECT DEFINITIONS */
OBJECT = IMAGE
  INTERCHANGE_FORMAT = BINARY
  LINES = 23384
  LINE_SAMPLES = 14287
  SAMPLE_TYPE = UNSIGNED_INTEGER
  SAMPLE_BITS = 8
  BANDS = 1
  BAND_STORAGE_TYPE = BAND_SEQUENTIAL
  MAXIMUM = 255
  MEAN = 87.9253
  MINIMUM = 1
  STANDARD_DEVIATION = 79.8899
END_OBJECT = IMAGE
/* MAP OBJECT DEFINITIONS */
OBJECT = IMAGE_MAP_PROJECTION
  ^DATA_SET_MAP_PROJECTION_CATALOG= "DSMAP.CAT"
  A_AXIS_RADIUS = 3396.0
  B_AXIS_RADIUS = 3396.0
  C_AXIS_RADIUS = 3396.0
  CENTER_LATITUDE = -90.0
  CENTER_LONGITUDE = 0.0
  COORDINATE_SYSTEM_NAME = PLANETOGRAPHIC
  COORDINATE_SYSTEM_TYPE = "BODY-FIXED ROTATING"
  EASTERNMOST_LONGITUDE = 360.0
  FIRST_STANDARD_PARALLEL = "N/A"
  LINE_FIRST_PIXEL = 1
  LINE_LAST_PIXEL = 23384
  LINE_PROJECTION_OFFSET = 5502.0
  MAP_PROJECTION_ROTATION = 0
  MAP_PROJECTION_TYPE = STEREOGRAPHIC
  MAP_RESOLUTION = 1185.42760773333
  MAP_SCALE = 0.05
  MAXIMUM_LATITUDE = -75.0951
  MINIMUM_LATITUDE = -90.0
  POSITIVE_LONGITUDE_DIRECTION = EAST
  REFERENCE_LATITUDE = "N/A"
  REFERENCE_LONGITUDE = "N/A"
  SAMPLE_FIRST_PIXEL = 1
  SAMPLE_LAST_PIXEL = 14287
  SAMPLE_PROJECTION_OFFSET = 8658.0
  SECOND_STANDARD_PARALLEL = "N/A"
  WESTERNMOST_LONGITUDE = 0.0
END_OBJECT = IMAGE_MAP_PROJECTION
/* The JPEG2000 image data file associated with this label. */
OBJECT = COMPRESSED_FILE
  FILE_NAME = "H9201_0000_ND3.JP2"
  RECORD_TYPE = UNDEFINED
  FILE_RECORDS = UNK
  ENCODING_TYPE = "JP2"
  INTERCHANGE_FORMAT = BINARY
  UNCOMPRESSED_FILE_NAME = "H9201_0000_ND3.IMG"
  REQUIRED_STORAGE_BYTES = "334130069"
  ^DESCRIPTION = "JP2INFO.TXT"
END_OBJECT = COMPRESSED_FILE
END
