PDS_VERSION_ID = PDS3
/* FILE DATA ELEMENTS */
RECORD_TYPE = STREAM
/* POINTERS TO DATA OBJECTS */
^COMPRESSED_FILE = "H9254_0000_IR3.JP2"
/* IDENTIFICATION DATA ELEMENTS */
DATA_SET_ID = "MEX-M-HRSC-5-REFDR-MAPPROJECTED-V3.0"
DATA_SET_NAME = "MARS EXPRESS HRSC MAP PROJECTED REFDR V3.0"
DETECTOR_ID = MEX_HRSC_IR
EVENT_TYPE = "MARS-REGIONAL-MAPPING-Im-Fl-Pf"
INSTRUMENT_HOST_ID = MEX
INSTRUMENT_HOST_NAME = "MARS EXPRESS"
INSTRUMENT_ID = HRSC
INSTRUMENT_NAME = "HIGH RESOLUTION STEREO CAMERA"
MISSION_NAME = "MARS EXPRESS"
MISSION_PHASE_NAME = ME_Phase_22
PROCESSING_LEVEL_ID = 3
PRODUCT_CREATION_TIME = 2016-10-26T10:28:22.000Z
PRODUCT_ID = "H9254_0000_IR3.JP2"
RELEASE_ID = 0095
REVISION_ID = 0000
/* QUALITY DATA ELEMENTS */
DATA_QUALITY_ID = 1
DATA_QUALITY_DESC = "Data calculated based on original SPICE kernels"
/* TIME DATA ELEMENTS */
SPACECRAFT_CLOCK_START_COUNT = "1/0249708564.08252"
SPACECRAFT_CLOCK_STOP_COUNT = "1/0249708968.02530"
START_TIME = 2011-04-01T03:29:35.028Z
STOP_TIME = 2011-04-01T03:33:19.600Z
/* ORBITAL DATA ELEMENTS */
ASCENDING_NODE_LONGITUDE = 40.57
MAXIMUM_RESOLUTION = 85.1
FOOTPRINT_POINT_LATITUDE = (-30.9844,-30.9865,-30.9876,-30.9881, -30.9882,-31.2454,-31.7175,-32.2, -32.443,-32.6849,-32.9314,-33.1768, -33.4228,-33.6727,-33.9224,-34.1709, -34.4323,-34.689,-34.9412,-35.2025, -35.5903,-35.9764,-36.3748,-36.6426, -36.9051,-37.3106,-37.5811,-37.8646, -38.1398,-38.4106,-38.6867,-39.1092, -39.3917,-39.6782,-39.9646,-40.2539, -40.5437,-40.8366,-41.1308,-41.4283, -41.7258,-42.0271,-42.4813,-42.7864, -43.0949,-43.5608,-43.8734,-44.1889, -44.5069,-44.7741,-44.7733,-44.7708, -44.7672,-44.7623,-44.7569,-44.7492, -44.7384,-44.4172,-44.102,-43.6313, -43.3218,-43.0139,-42.5556,-42.2509, -41.9508,-41.5022,-41.2046,-40.9103, -40.616,-40.3255,-39.8913,-39.6056, -39.1793,-38.8969,-38.4795,-38.1999, -37.9262,-37.5157,-37.2461,-36.8419, -36.5763,-36.1794,-35.919,-35.5278, -35.2771,-35.0184,-34.7572,-34.5033, -34.123,-33.873,-33.6224,-33.3737, -33.1278,-32.882,-32.6353,-32.3947, -32.1533,-31.6745,-31.3188,-30.9844)
FOOTPRINT_POINT_LONGITUDE = (146.281,145.802,145.418,145.111, 144.727,144.495,144.483,144.468,144.461 ,144.453,144.446,144.439,144.431, 144.423,144.416,144.409,144.398,144.389 ,144.382,144.372,144.359,144.35,144.335 ,144.326,144.319,144.305,144.296, 144.282,144.272,144.265,144.257,144.241 ,144.231,144.22,144.209,144.198,144.188 ,144.177,144.166,144.154,144.142, 144.131,144.113,144.101,144.088,144.069 ,144.056,144.044,144.03,144.019,144.507 ,145.128,145.552,146.075,146.501, 146.959,147.528,147.493,147.461,147.414 ,147.384,147.355,147.312,147.284, 147.258,147.219,147.194,147.169,147.144 ,147.121,147.086,147.064,147.032, 147.012,146.982,146.962,146.944,146.917 ,146.9,146.874,146.858,146.834,146.82, 146.798,146.787,146.772,146.756,146.742 ,146.722,146.709,146.697,146.684, 146.672,146.661,146.649,146.638,146.627 ,146.606,146.591,146.281)
ORBIT_NUMBER = 9254
ORBITAL_ECCENTRICITY = 0.578
ORBITAL_INCLINATION = 86.83
ORBITAL_SEMIMAJOR_AXIS = 8858.16
PERIAPSIS_ALTITUDE = 338.87
PERIAPSIS_ARGUMENT_ANGLE = 180.8
PERIAPSIS_TIME = 2011-04-01T03:22:15.000Z
SPACECRAFT_ORIENTATION = (0.0,-1.0,0.0)
^MEX_ORIENTATION_DESC = "MEX_ORIENTATION_DESC.TXT"
SPACECRAFT_POINTING_MODE = NADIR
^MEX_POINTING_DESC = "MEX_POINTING_DESC.TXT"
RIGHT_ASCENSION = -1e+32
DECLINATION = -1e+32
OFFSET_ANGLE = -1e+32
SPACECRAFT_SOLAR_DISTANCE = 2.07199e+08
TARGET_NAME = MARS
/* CAMERA DATA ELEMENTS */
DETECTOR_TEMPERATURE = 17.5549
FOCAL_PLANE_TEMPERATURE = 8.5833
INST_CMPRS_NAME = "DISCRETE COSINE TRANSFORMATION (DCT)"
INST_CMPRS_RATIO = 20.5316
INST_CMPRS_QUALITY = 0
INST_CMPRS_QUANTZ_TBL_ID = 0
INSTRUMENT_TEMPERATURE = 13.0691
LENS_TEMPERATURE = 8.9911
MACROPIXEL_SIZE = 4
MISSING_FRAMES = 0
PIXEL_SUBSAMPLING_FLAG = N
SIGNAL_CHAIN_ID = 2
/* RADIOMETRIC DATA ELEMENTS */
BANDWIDTH = 81.0
CENTER_FILTER_WAVELENGTH = 955.5
RADIANCE_OFFSET = 0.36329
RADIANCE_SCALING_FACTOR = 0.00265681
REFLECTANCE_SCALING_FACTOR = 0.000246074
MEX:REFLECTANCE_OFFSET = 0.0336479
/* IMAGE OBJECT DEFINITIONS */
OBJECT = IMAGE
  INTERCHANGE_FORMAT = BINARY
  LINES = 8176
  LINE_SAMPLES = 1636
  SAMPLE_TYPE = UNSIGNED_INTEGER
  SAMPLE_BITS = 8
  BANDS = 1
  BAND_STORAGE_TYPE = BAND_SEQUENTIAL
  MAXIMUM = 255
  MEAN = 118.415
  MINIMUM = 1
  STANDARD_DEVIATION = 45.9358
END_OBJECT = IMAGE
/* MAP OBJECT DEFINITIONS */
OBJECT = IMAGE_MAP_PROJECTION
  ^DATA_SET_MAP_PROJECTION_CATALOG= "DSMAP.CAT"
  A_AXIS_RADIUS = 3396.0
  B_AXIS_RADIUS = 3396.0
  C_AXIS_RADIUS = 3396.0
  CENTER_LATITUDE = 0.0
  CENTER_LONGITUDE = 146.0
  COORDINATE_SYSTEM_NAME = PLANETOGRAPHIC
  COORDINATE_SYSTEM_TYPE = "BODY-FIXED ROTATING"
  EASTERNMOST_LONGITUDE = 147.528
  FIRST_STANDARD_PARALLEL = "N/A"
  LINE_FIRST_PIXEL = 1
  LINE_LAST_PIXEL = 8176
  LINE_PROJECTION_OFFSET = -18374.375
  MAP_PROJECTION_ROTATION = 0.0
  MAP_PROJECTION_TYPE = SINUSOIDAL
  MAP_RESOLUTION = 592.713803866667
  MAP_SCALE = 0.1
  MAXIMUM_LATITUDE = -30.9844
  MINIMUM_LATITUDE = -44.7741
  POSITIVE_LONGITUDE_DIRECTION = EAST
  REFERENCE_LATITUDE = "N/A"
  REFERENCE_LONGITUDE = "N/A"
  SAMPLE_FIRST_PIXEL = 1
  SAMPLE_LAST_PIXEL = 1636
  SAMPLE_PROJECTION_OFFSET = 914.875
  SECOND_STANDARD_PARALLEL = "N/A"
  WESTERNMOST_LONGITUDE = 144.019
END_OBJECT = IMAGE_MAP_PROJECTION
/* The JPEG2000 image data file associated with this label. */
OBJECT = COMPRESSED_FILE
  FILE_NAME = "H9254_0000_IR3.JP2"
  RECORD_TYPE = UNDEFINED
  FILE_RECORDS = UNK
  ENCODING_TYPE = "JP2"
  INTERCHANGE_FORMAT = BINARY
  UNCOMPRESSED_FILE_NAME = "H9254_0000_IR3.IMG"
  REQUIRED_STORAGE_BYTES = "13395568"
  ^DESCRIPTION = "JP2INFO.TXT"
END_OBJECT = COMPRESSED_FILE
END
