PDS_VERSION_ID = PDS3
/* FILE DATA ELEMENTS */
RECORD_TYPE = STREAM
/* POINTERS TO DATA OBJECTS */
^COMPRESSED_FILE = "H9255_0000_P13.JP2"
/* IDENTIFICATION DATA ELEMENTS */
DATA_SET_ID = "MEX-M-HRSC-5-REFDR-MAPPROJECTED-V3.0"
DATA_SET_NAME = "MARS EXPRESS HRSC MAP PROJECTED REFDR V3.0"
DETECTOR_ID = MEX_HRSC_P1
EVENT_TYPE = "MARS-REGIONAL-MAPPING-Im-Fl-Pf"
INSTRUMENT_HOST_ID = MEX
INSTRUMENT_HOST_NAME = "MARS EXPRESS"
INSTRUMENT_ID = HRSC
INSTRUMENT_NAME = "HIGH RESOLUTION STEREO CAMERA"
MISSION_NAME = "MARS EXPRESS"
MISSION_PHASE_NAME = ME_Phase_22
PROCESSING_LEVEL_ID = 3
PRODUCT_CREATION_TIME = 2016-10-26T10:28:22.000Z
PRODUCT_ID = "H9255_0000_P13.JP2"
RELEASE_ID = 0095
REVISION_ID = 0000
/* QUALITY DATA ELEMENTS */
DATA_QUALITY_ID = 1
DATA_QUALITY_DESC = "Data calculated based on original SPICE kernels"
/* TIME DATA ELEMENTS */
SPACECRAFT_CLOCK_START_COUNT = "1/0249733998.09056"
SPACECRAFT_CLOCK_STOP_COUNT = "1/0249734469.20911"
START_TIME = 2011-04-01T10:33:47.276Z
STOP_TIME = 2011-04-01T10:36:46.278Z
/* ORBITAL DATA ELEMENTS */
ASCENDING_NODE_LONGITUDE = 40.56
MAXIMUM_RESOLUTION = 62.7
FOOTPRINT_POINT_LATITUDE = (-46.625,-46.6378,-46.6443,-46.6549, -46.6624,-46.6671,-46.6703,-46.6729, -46.6755,-46.8919,-47.335,-47.8732, -48.2334,-48.5957,-48.8718,-49.2411, -49.4268,-49.614,-49.8009,-50.0846, -50.2737,-50.4643,-50.6557,-50.8479, -51.0395,-51.2365,-51.4308,-51.6261, -51.9159,-52.1117,-52.4092,-52.7101, -52.9105,-53.112,-53.3138,-53.5167, -53.7205,-53.9258,-54.2348,-54.4409, -54.6492,-54.8581,-55.0682,-55.2792, -55.5968,-55.8096,-56.0238,-56.2386, -56.5331,-56.5292,-56.5261,-56.5189, -56.5133,-56.5071,-56.4974,-56.4795, -56.4635,-56.4525,-56.4275,-56.4113, -56.3837,-56.1706,-55.9576,-55.7463, -55.5362,-55.3263,-55.1179,-54.8063, -54.4966,-54.2911,-54.0869,-53.7823, -53.5792,-53.3783,-53.0777,-52.8777, -52.6788,-52.4813,-52.2849,-52.0887, -51.8939,-51.6025,-51.4086,-51.2162, -51.0242,-50.7388,-50.5481,-50.3581, -50.1686,-49.9831,-49.7955,-49.4269, -49.2425,-48.8735,-48.5981,-48.2373, -47.6965,-47.2586,-46.9079,-46.625)
FOOTPRINT_POINT_LONGITUDE = (45.2154,44.6951,44.398,43.8405,43.3578 ,42.9863,42.6892,42.3917,41.9819, 41.5993,41.5774,41.5502,41.5328,41.5158 ,41.5013,41.4825,41.4726,41.4627,41.453 ,41.4374,41.427,41.4168,41.4058,41.3952 ,41.3851,41.3719,41.3608,41.3499, 41.3363,41.3262,41.3089,41.2901,41.2784 ,41.2666,41.2547,41.243,41.2306,41.2182 ,41.1992,41.187,41.1741,41.1611,41.1478 ,41.1344,41.1143,41.1007,41.0869,41.073 ,41.1713,41.7131,42.0738,42.6743, 43.0338,43.3931,43.8723,44.5905,45.1294 ,45.4887,46.2066,46.6256,47.2455, 47.1926,47.1404,47.09,47.0407,46.992, 46.9446,46.8748,46.807,46.763,46.7198, 46.6569,46.6152,46.5751,46.516,46.4773, 46.4389,46.4022,46.366,46.3303,46.2954, 46.2439,46.2101,46.177,46.1446,46.0974, 46.0657,46.0342,46.0035,45.9756,45.9463 ,45.8921,45.8644,45.8093,45.7687, 45.7187,45.6438,45.5899,45.5456, 45.2154)
ORBIT_NUMBER = 9255
ORBITAL_ECCENTRICITY = 0.579
ORBITAL_INCLINATION = 86.83
ORBITAL_SEMIMAJOR_AXIS = 8863.6
PERIAPSIS_ALTITUDE = 338.41
PERIAPSIS_ARGUMENT_ANGLE = 180.63
PERIAPSIS_TIME = 2011-04-01T10:21:54.000Z
SPACECRAFT_ORIENTATION = (0.0,-1.0,0.0)
^MEX_ORIENTATION_DESC = "MEX_ORIENTATION_DESC.TXT"
SPACECRAFT_POINTING_MODE = NADIR
^MEX_POINTING_DESC = "MEX_POINTING_DESC.TXT"
RIGHT_ASCENSION = -1e+32
DECLINATION = -1e+32
OFFSET_ANGLE = -1e+32
SPACECRAFT_SOLAR_DISTANCE = 2.07213e+08
TARGET_NAME = MARS
/* CAMERA DATA ELEMENTS */
DETECTOR_TEMPERATURE = 17.7588
FOCAL_PLANE_TEMPERATURE = 8.5833
INST_CMPRS_NAME = "DISCRETE COSINE TRANSFORMATION (DCT)"
INST_CMPRS_RATIO = 11.6112
INST_CMPRS_QUALITY = 0
INST_CMPRS_QUANTZ_TBL_ID = 0
INSTRUMENT_TEMPERATURE = 11.234
LENS_TEMPERATURE = 8.9911
MACROPIXEL_SIZE = 2
MISSING_FRAMES = 0
PIXEL_SUBSAMPLING_FLAG = N
SIGNAL_CHAIN_ID = 3
/* RADIOMETRIC DATA ELEMENTS */
BANDWIDTH = 174.0
CENTER_FILTER_WAVELENGTH = 675.0
RADIANCE_OFFSET = 2.83806
RADIANCE_SCALING_FACTOR = 0.00720154
REFLECTANCE_SCALING_FACTOR = 0.000166321
MEX:REFLECTANCE_OFFSET = 0.0655456
/* IMAGE OBJECT DEFINITIONS */
OBJECT = IMAGE
  INTERCHANGE_FORMAT = BINARY
  LINES = 11736
  LINE_SAMPLES = 4457
  SAMPLE_TYPE = UNSIGNED_INTEGER
  SAMPLE_BITS = 8
  BANDS = 1
  BAND_STORAGE_TYPE = BAND_SEQUENTIAL
  MAXIMUM = 255
  MEAN = 113.529
  MINIMUM = 1
  STANDARD_DEVIATION = 31.2297
END_OBJECT = IMAGE
/* MAP OBJECT DEFINITIONS */
OBJECT = IMAGE_MAP_PROJECTION
  ^DATA_SET_MAP_PROJECTION_CATALOG= "DSMAP.CAT"
  A_AXIS_RADIUS = 3396.0
  B_AXIS_RADIUS = 3396.0
  C_AXIS_RADIUS = 3396.0
  CENTER_LATITUDE = 0.0
  CENTER_LONGITUDE = 44.0
  COORDINATE_SYSTEM_NAME = PLANETOGRAPHIC
  COORDINATE_SYSTEM_TYPE = "BODY-FIXED ROTATING"
  EASTERNMOST_LONGITUDE = 47.2455
  FIRST_STANDARD_PARALLEL = "N/A"
  LINE_FIRST_PIXEL = 1
  LINE_LAST_PIXEL = 11736
  LINE_PROJECTION_OFFSET = -55302.75
  MAP_PROJECTION_ROTATION = 0.0
  MAP_PROJECTION_TYPE = SINUSOIDAL
  MAP_RESOLUTION = 1185.42760773333
  MAP_SCALE = 0.05
  MAXIMUM_LATITUDE = -46.625
  MINIMUM_LATITUDE = -56.5331
  POSITIVE_LONGITUDE_DIRECTION = EAST
  REFERENCE_LATITUDE = "N/A"
  REFERENCE_LONGITUDE = "N/A"
  SAMPLE_FIRST_PIXEL = 1
  SAMPLE_LAST_PIXEL = 4457
  SAMPLE_PROJECTION_OFFSET = 2135.75
  SECOND_STANDARD_PARALLEL = "N/A"
  WESTERNMOST_LONGITUDE = 41.073
END_OBJECT = IMAGE_MAP_PROJECTION
/* The JPEG2000 image data file associated with this label. */
OBJECT = COMPRESSED_FILE
  FILE_NAME = "H9255_0000_P13.JP2"
  RECORD_TYPE = UNDEFINED
  FILE_RECORDS = UNK
  ENCODING_TYPE = "JP2"
  INTERCHANGE_FORMAT = BINARY
  UNCOMPRESSED_FILE_NAME = "H9255_0000_P13.IMG"
  REQUIRED_STORAGE_BYTES = "52334094"
  ^DESCRIPTION = "JP2INFO.TXT"
END_OBJECT = COMPRESSED_FILE
END
