PDS_VERSION_ID = PDS3
/* FILE DATA ELEMENTS */
RECORD_TYPE = STREAM
/* POINTERS TO DATA OBJECTS */
^COMPRESSED_FILE = "H9263_0000_GR3.JP2"
/* IDENTIFICATION DATA ELEMENTS */
DATA_SET_ID = "MEX-M-HRSC-5-REFDR-MAPPROJECTED-V3.0"
DATA_SET_NAME = "MARS EXPRESS HRSC MAP PROJECTED REFDR V3.0"
DETECTOR_ID = MEX_HRSC_GREEN
EVENT_TYPE = "MARS-REGIONAL-MAPPING-Te-Fl"
INSTRUMENT_HOST_ID = MEX
INSTRUMENT_HOST_NAME = "MARS EXPRESS"
INSTRUMENT_ID = HRSC
INSTRUMENT_NAME = "HIGH RESOLUTION STEREO CAMERA"
MISSION_NAME = "MARS EXPRESS"
MISSION_PHASE_NAME = ME_Phase_22
PROCESSING_LEVEL_ID = 3
PRODUCT_CREATION_TIME = 2016-10-26T10:28:22.000Z
PRODUCT_ID = "H9263_0000_GR3.JP2"
RELEASE_ID = 0095
REVISION_ID = 0000
/* QUALITY DATA ELEMENTS */
DATA_QUALITY_ID = 1
DATA_QUALITY_DESC = "Data calculated based on original SPICE kernels"
/* TIME DATA ELEMENTS */
SPACECRAFT_CLOCK_START_COUNT = "1/0249935220.08249"
SPACECRAFT_CLOCK_STOP_COUNT = "1/0249935532.29711"
START_TIME = 2011-04-03T18:27:46.550Z
STOP_TIME = 2011-04-03T18:30:26.221Z
/* ORBITAL DATA ELEMENTS */
ASCENDING_NODE_LONGITUDE = 40.4
MAXIMUM_RESOLUTION = 90.4
FOOTPRINT_POINT_LATITUDE = (-31.7694,-31.7714,-31.7733,-31.7745, -31.7745,-31.7737,-31.776,-32.1057, -32.4351,-32.6856,-33.0198,-33.3586, -33.528,-33.6972,-33.8691,-34.041, -34.2126,-34.4727,-34.6464,-34.8204, -35.0842,-35.2608,-35.437,-35.6159, -35.7945,-35.9728,-36.153,-36.3339, -36.5145,-36.697,-36.8801,-37.0629, -37.2475,-37.4327,-37.6176,-37.805, -37.9924,-38.2744,-38.4638,-38.653, -38.8445,-39.1316,-39.4217,-39.6152, -39.9084,-40.104,-40.4004,-40.5979, -40.7981,-40.856,-40.8564,-40.856, -40.8549,-40.8533,-40.8499,-40.847, -40.8434,-40.838,-40.6346,-40.4364, -40.2388,-40.0424,-39.8475,-39.652, -39.4585,-39.1679,-38.9769,-38.7857, -38.5954,-38.4067,-38.1242,-37.9384, -37.7514,-37.4709,-37.2867,-37.1021, -36.9196,-36.7368,-36.5537,-36.3743, -36.194,-36.0129,-35.8342,-35.6561, -35.4776,-35.301,-35.0374,-34.8615, -34.688,-34.4275,-34.2539,-34.0826, -33.9112,-33.6542,-33.3154,-33.0604, -32.7283,-32.3946,-32.0656,-31.7694)
FOOTPRINT_POINT_LONGITUDE = (305.253,304.998,304.658,304.251, 303.908,303.562,303.019,303.005,302.991 ,302.979,302.964,302.949,302.941, 302.933,302.925,302.917,302.909,302.897 ,302.89,302.882,302.869,302.859,302.85, 302.841,302.832,302.823,302.814,302.805 ,302.795,302.785,302.775,302.766, 302.756,302.746,302.736,302.726,302.715 ,302.7,302.69,302.679,302.669,302.653, 302.637,302.626,302.61,302.599,302.582, 302.571,302.558,302.99,303.301,303.703, 304.041,304.531,304.898,305.143,305.387 ,305.723,305.84,305.824,305.809,305.795 ,305.781,305.767,305.753,305.732, 305.719,305.706,305.694,305.682,305.665 ,305.654,305.642,305.623,305.612, 305.602,305.591,305.58,305.569,305.56, 305.55,305.54,305.529,305.52,305.51, 305.501,305.488,305.479,305.471,305.458 ,305.45,305.442,305.434,305.422,305.406 ,305.394,305.381,305.366,305.353, 305.253)
ORBIT_NUMBER = 9263
ORBITAL_ECCENTRICITY = 0.578
ORBITAL_INCLINATION = 86.84
ORBITAL_SEMIMAJOR_AXIS = 8857.57
PERIAPSIS_ALTITUDE = 339.47
PERIAPSIS_ARGUMENT_ANGLE = 179.24
PERIAPSIS_TIME = 2011-04-03T18:19:15.000Z
SPACECRAFT_ORIENTATION = (0.0,-1.0,0.0)
^MEX_ORIENTATION_DESC = "MEX_ORIENTATION_DESC.TXT"
SPACECRAFT_POINTING_MODE = ACROSSTRACK
^MEX_POINTING_DESC = "MEX_POINTING_DESC.TXT"
RIGHT_ASCENSION = -1e+32
DECLINATION = -1e+32
OFFSET_ANGLE = -0.6
SPACECRAFT_SOLAR_DISTANCE = 2.07333e+08
TARGET_NAME = MARS
/* CAMERA DATA ELEMENTS */
DETECTOR_TEMPERATURE = 18.5744
FOCAL_PLANE_TEMPERATURE = 8.3794
INST_CMPRS_NAME = "DISCRETE COSINE TRANSFORMATION (DCT)"
INST_CMPRS_RATIO = 15.1873
INST_CMPRS_QUALITY = 0
INST_CMPRS_QUANTZ_TBL_ID = 0
INSTRUMENT_TEMPERATURE = 11.0301
LENS_TEMPERATURE = 10.2145
MACROPIXEL_SIZE = 4
MISSING_FRAMES = 0
PIXEL_SUBSAMPLING_FLAG = N
SIGNAL_CHAIN_ID = 2
/* RADIOMETRIC DATA ELEMENTS */
BANDWIDTH = 88.0
CENTER_FILTER_WAVELENGTH = 538.0
RADIANCE_OFFSET = 0.859832
RADIANCE_SCALING_FACTOR = 0.00207046
REFLECTANCE_SCALING_FACTOR = 7.66291e-05
MEX:REFLECTANCE_OFFSET = 0.031823
/* IMAGE OBJECT DEFINITIONS */
OBJECT = IMAGE
  INTERCHANGE_FORMAT = BINARY
  LINES = 5378
  LINE_SAMPLES = 1540
  SAMPLE_TYPE = UNSIGNED_INTEGER
  SAMPLE_BITS = 8
  BANDS = 1
  BAND_STORAGE_TYPE = BAND_SEQUENTIAL
  MAXIMUM = 255
  MEAN = 128.52
  MINIMUM = 1
  STANDARD_DEVIATION = 37.0352
END_OBJECT = IMAGE
/* MAP OBJECT DEFINITIONS */
OBJECT = IMAGE_MAP_PROJECTION
  ^DATA_SET_MAP_PROJECTION_CATALOG= "DSMAP.CAT"
  A_AXIS_RADIUS = 3396.0
  B_AXIS_RADIUS = 3396.0
  C_AXIS_RADIUS = 3396.0
  CENTER_LATITUDE = 0.0
  CENTER_LONGITUDE = 304.0
  COORDINATE_SYSTEM_NAME = PLANETOGRAPHIC
  COORDINATE_SYSTEM_TYPE = "BODY-FIXED ROTATING"
  EASTERNMOST_LONGITUDE = 305.84
  FIRST_STANDARD_PARALLEL = "N/A"
  LINE_FIRST_PIXEL = 1
  LINE_LAST_PIXEL = 5378
  LINE_PROJECTION_OFFSET = -18834.625
  MAP_PROJECTION_ROTATION = 0.0
  MAP_PROJECTION_TYPE = SINUSOIDAL
  MAP_RESOLUTION = 592.713803866667
  MAP_SCALE = 0.1
  MAXIMUM_LATITUDE = -31.7694
  MINIMUM_LATITUDE = -40.8564
  POSITIVE_LONGITUDE_DIRECTION = EAST
  REFERENCE_LATITUDE = "N/A"
  REFERENCE_LONGITUDE = "N/A"
  SAMPLE_FIRST_PIXEL = 1
  SAMPLE_LAST_PIXEL = 1540
  SAMPLE_PROJECTION_OFFSET = 690.875
  SECOND_STANDARD_PARALLEL = "N/A"
  WESTERNMOST_LONGITUDE = 302.558
END_OBJECT = IMAGE_MAP_PROJECTION
/* The JPEG2000 image data file associated with this label. */
OBJECT = COMPRESSED_FILE
  FILE_NAME = "H9263_0000_GR3.JP2"
  RECORD_TYPE = UNDEFINED
  FILE_RECORDS = UNK
  ENCODING_TYPE = "JP2"
  INTERCHANGE_FORMAT = BINARY
  UNCOMPRESSED_FILE_NAME = "H9263_0000_GR3.IMG"
  REQUIRED_STORAGE_BYTES = "8302140"
  ^DESCRIPTION = "JP2INFO.TXT"
END_OBJECT = COMPRESSED_FILE
END
