PDS_VERSION_ID = PDS3
/* FILE DATA ELEMENTS */
RECORD_TYPE = STREAM
/* POINTERS TO DATA OBJECTS */
^COMPRESSED_FILE = "H9264_0000_S13.JP2"
/* IDENTIFICATION DATA ELEMENTS */
DATA_SET_ID = "MEX-M-HRSC-5-REFDR-MAPPROJECTED-V3.0"
DATA_SET_NAME = "MARS EXPRESS HRSC MAP PROJECTED REFDR V3.0"
DETECTOR_ID = MEX_HRSC_S1
EVENT_TYPE = "MARS-REGIONAL-MAPPING-Im-Fl"
INSTRUMENT_HOST_ID = MEX
INSTRUMENT_HOST_NAME = "MARS EXPRESS"
INSTRUMENT_ID = HRSC
INSTRUMENT_NAME = "HIGH RESOLUTION STEREO CAMERA"
MISSION_NAME = "MARS EXPRESS"
MISSION_PHASE_NAME = ME_Phase_22
PROCESSING_LEVEL_ID = 3
PRODUCT_CREATION_TIME = 2016-10-26T10:28:22.000Z
PRODUCT_ID = "H9264_0000_S13.JP2"
RELEASE_ID = 0095
REVISION_ID = 0000
/* QUALITY DATA ELEMENTS */
DATA_QUALITY_ID = 1
DATA_QUALITY_DESC = "Data calculated based on original SPICE kernels"
/* TIME DATA ELEMENTS */
SPACECRAFT_CLOCK_START_COUNT = "1/0249960574.09073"
SPACECRAFT_CLOCK_STOP_COUNT = "1/0249961111.22331"
START_TIME = 2011-04-04T01:29:37.097Z
STOP_TIME = 2011-04-04T01:33:21.442Z
/* ORBITAL DATA ELEMENTS */
ASCENDING_NODE_LONGITUDE = 40.39
MAXIMUM_RESOLUTION = 59.2
FOOTPRINT_POINT_LATITUDE = (-42.6649,-42.6727,-42.6793,-42.683, -42.6874,-42.6905,-42.8515,-43.1912, -43.5329,-43.9934,-44.4581,-44.6962, -44.9313,-45.1722,-45.5352,-45.7765, -46.019,-46.3828,-46.6303,-46.8733, -47.1228,-47.3734,-47.7492,-48.1293, -48.3858,-48.6423,-48.9007,-49.1694, -49.4314,-49.6847,-50.0831,-50.3495, -50.6205,-50.8904,-51.162,-51.5719, -51.9921,-52.2716,-52.5512,-52.832, -53.1135,-53.3975,-53.6836,-54.1166, -54.4071,-54.7004,-54.9952,-55.2914, -55.5891,-55.7873,-55.7782,-55.7696, -55.7546,-55.7397,-55.7228,-55.7085, -55.6937,-55.6642,-55.3712,-55.0752, -54.7854,-54.4892,-54.2,-53.9125, -53.6265,-53.2005,-52.7784,-52.3613, -52.0858,-51.6738,-51.2649,-50.9943, -50.7273,-50.4556,-50.0576,-49.791, -49.5279,-49.2663,-49.005,-48.7541, -48.5014,-48.2462,-47.9843,-47.7279, -47.4789,-47.2292,-46.9833,-46.7411, -46.4972,-46.1339,-45.8906,-45.6516, -45.2927,-45.0514,-44.5801,-44.1142, -43.7675,-43.3093,-42.9686,-42.6649)
FOOTPRINT_POINT_LONGITUDE = (204.173,203.664,203.155,202.805, 202.297,201.788,201.115,201.101,201.086 ,201.066,201.046,201.034,201.023, 201.011,200.992,200.981,200.969,200.952 ,200.94,200.929,200.916,200.903,200.885 ,200.866,200.852,200.839,200.826, 200.807,200.793,200.784,200.762,200.747 ,200.731,200.716,200.7,200.677,200.65, 200.633,200.616,200.6,200.584,200.567, 200.549,200.523,200.505,200.486,200.467 ,200.448,200.429,201.167,202.035, 202.612,203.419,204.054,204.688,205.148 ,205.609,206.379,206.314,206.248, 206.186,206.121,206.061,206.003,205.946 ,205.864,205.784,205.709,205.66,205.589 ,205.52,205.476,205.434,205.389,205.327 ,205.286,205.246,205.208,205.17,205.137 ,205.104,205.069,205.031,204.996, 204.964,204.933,204.903,204.875,204.846 ,204.805,204.776,204.75,204.71,204.682, 204.632,204.584,204.55,204.505,204.472, 204.173)
ORBIT_NUMBER = 9264
ORBITAL_ECCENTRICITY = 0.578
ORBITAL_INCLINATION = 86.84
ORBITAL_SEMIMAJOR_AXIS = 8856.95
PERIAPSIS_ALTITUDE = 339.73
PERIAPSIS_ARGUMENT_ANGLE = 179.03
PERIAPSIS_TIME = 2011-04-04T01:18:49.000Z
SPACECRAFT_ORIENTATION = (0.0,-1.0,0.0)
^MEX_ORIENTATION_DESC = "MEX_ORIENTATION_DESC.TXT"
SPACECRAFT_POINTING_MODE = NADIR
^MEX_POINTING_DESC = "MEX_POINTING_DESC.TXT"
RIGHT_ASCENSION = -1e+32
DECLINATION = -1e+32
OFFSET_ANGLE = -1e+32
SPACECRAFT_SOLAR_DISTANCE = 2.07349e+08
TARGET_NAME = MARS
/* CAMERA DATA ELEMENTS */
DETECTOR_TEMPERATURE = 17.5549
FOCAL_PLANE_TEMPERATURE = 8.5833
INST_CMPRS_NAME = "DISCRETE COSINE TRANSFORMATION (DCT)"
INST_CMPRS_RATIO = 9.84918
INST_CMPRS_QUALITY = 0
INST_CMPRS_QUANTZ_TBL_ID = 0
INSTRUMENT_TEMPERATURE = 11.234
LENS_TEMPERATURE = 7.7677
MACROPIXEL_SIZE = 2
MISSING_FRAMES = 0
PIXEL_SUBSAMPLING_FLAG = N
SIGNAL_CHAIN_ID = 1
/* RADIOMETRIC DATA ELEMENTS */
BANDWIDTH = 180.0
CENTER_FILTER_WAVELENGTH = 677.0
RADIANCE_OFFSET = 2.76626
RADIANCE_SCALING_FACTOR = 0.0106453
REFLECTANCE_SCALING_FACTOR = 0.000238783
MEX:REFLECTANCE_OFFSET = 0.0620495
/* IMAGE OBJECT DEFINITIONS */
OBJECT = IMAGE
  INTERCHANGE_FORMAT = BINARY
  LINES = 15545
  LINE_SAMPLES = 4591
  SAMPLE_TYPE = UNSIGNED_INTEGER
  SAMPLE_BITS = 8
  BANDS = 1
  BAND_STORAGE_TYPE = BAND_SEQUENTIAL
  MAXIMUM = 255
  MEAN = 111.551
  MINIMUM = 1
  STANDARD_DEVIATION = 27.1604
END_OBJECT = IMAGE
/* MAP OBJECT DEFINITIONS */
OBJECT = IMAGE_MAP_PROJECTION
  ^DATA_SET_MAP_PROJECTION_CATALOG= "DSMAP.CAT"
  A_AXIS_RADIUS = 3396.0
  B_AXIS_RADIUS = 3396.0
  C_AXIS_RADIUS = 3396.0
  CENTER_LATITUDE = 0.0
  CENTER_LONGITUDE = 203.0
  COORDINATE_SYSTEM_NAME = PLANETOGRAPHIC
  COORDINATE_SYSTEM_TYPE = "BODY-FIXED ROTATING"
  EASTERNMOST_LONGITUDE = 206.379
  FIRST_STANDARD_PARALLEL = "N/A"
  LINE_FIRST_PIXEL = 1
  LINE_LAST_PIXEL = 15545
  LINE_PROJECTION_OFFSET = -50611.25
  MAP_PROJECTION_ROTATION = 0.0
  MAP_PROJECTION_TYPE = SINUSOIDAL
  MAP_RESOLUTION = 1185.42760773333
  MAP_SCALE = 0.05
  MAXIMUM_LATITUDE = -42.6649
  MINIMUM_LATITUDE = -55.7873
  POSITIVE_LONGITUDE_DIRECTION = EAST
  REFERENCE_LATITUDE = "N/A"
  REFERENCE_LONGITUDE = "N/A"
  SAMPLE_FIRST_PIXEL = 1
  SAMPLE_LAST_PIXEL = 4591
  SAMPLE_PROJECTION_OFFSET = 2002.75
  SECOND_STANDARD_PARALLEL = "N/A"
  WESTERNMOST_LONGITUDE = 200.429
END_OBJECT = IMAGE_MAP_PROJECTION
/* The JPEG2000 image data file associated with this label. */
OBJECT = COMPRESSED_FILE
  FILE_NAME = "H9264_0000_S13.JP2"
  RECORD_TYPE = UNDEFINED
  FILE_RECORDS = UNK
  ENCODING_TYPE = "JP2"
  INTERCHANGE_FORMAT = BINARY
  UNCOMPRESSED_FILE_NAME = "H9264_0000_S13.IMG"
  REQUIRED_STORAGE_BYTES = "71394641"
  ^DESCRIPTION = "JP2INFO.TXT"
END_OBJECT = COMPRESSED_FILE
END
