PDS_VERSION_ID = PDS3
/* FILE DATA ELEMENTS */
RECORD_TYPE = STREAM
/* POINTERS TO DATA OBJECTS */
^COMPRESSED_FILE = "H9276_0000_GR3.JP2"
/* IDENTIFICATION DATA ELEMENTS */
DATA_SET_ID = "MEX-M-HRSC-5-REFDR-MAPPROJECTED-V3.0"
DATA_SET_NAME = "MARS EXPRESS HRSC MAP PROJECTED REFDR V3.0"
DETECTOR_ID = MEX_HRSC_GREEN
EVENT_TYPE = "MARS-REGIONAL-MAPPING-Fl-Gl-Pf"
INSTRUMENT_HOST_ID = MEX
INSTRUMENT_HOST_NAME = "MARS EXPRESS"
INSTRUMENT_ID = HRSC
INSTRUMENT_NAME = "HIGH RESOLUTION STEREO CAMERA"
MISSION_NAME = "MARS EXPRESS"
MISSION_PHASE_NAME = ME_Phase_22
PROCESSING_LEVEL_ID = 3
PRODUCT_CREATION_TIME = 2016-10-26T10:28:22.000Z
PRODUCT_ID = "H9276_0000_GR3.JP2"
RELEASE_ID = 0095
REVISION_ID = 0000
/* QUALITY DATA ELEMENTS */
DATA_QUALITY_ID = 1
DATA_QUALITY_DESC = "Data calculated based on original SPICE kernels"
/* TIME DATA ELEMENTS */
SPACECRAFT_CLOCK_START_COUNT = "1/0250262590.09043"
SPACECRAFT_CLOCK_STOP_COUNT = "1/0250263131.28649"
START_TIME = 2011-04-07T13:24:00.680Z
STOP_TIME = 2011-04-07T13:29:17.761Z
/* ORBITAL DATA ELEMENTS */
ASCENDING_NODE_LONGITUDE = 40.16
MAXIMUM_RESOLUTION = 98.6
FOOTPRINT_POINT_LATITUDE = (-32.5895,-32.5926,-32.5959,-32.5958, -32.6053,-33.0297,-33.4576,-34.0339, -34.6172,-35.0592,-35.3569,-35.6568, -36.1096,-36.4137,-36.721,-37.1977, -37.5092,-37.8236,-38.1402,-38.4585, -38.7797,-39.1031,-39.4278,-39.7557, -40.086,-40.4188,-40.7538,-41.0915, -41.4322,-41.7749,-42.12,-42.4685, -42.8194,-43.1729,-43.529,-43.8879, -44.2501,-44.6152,-44.9828,-45.3532, -45.7267,-46.1029,-46.4825,-46.8654, -47.2514,-47.6406,-48.0329,-48.4285, -48.8272,-49.2297,-49.5604,-49.5587, -49.546,-49.5292,-49.505,-49.4843, -49.2664,-48.8666,-48.4701,-48.0767, -47.6867,-47.2999,-46.9154,-46.5344, -46.1562,-45.7816,-45.4094,-45.0404, -44.6743,-44.3112,-43.9507,-43.5929, -43.2379,-42.8856,-42.5357,-42.1884, -41.8438,-41.5018,-41.1627,-40.8259, -40.491,-40.1584,-39.829,-39.5019, -39.1767,-38.8533,-38.5338,-38.0572, -37.5862,-37.1198,-36.6453,-36.1881, -35.8852,-35.5855,-35.1391,-34.5501, -33.9688,-33.3946,-32.9689,-32.5895)
FOOTPRINT_POINT_LONGITUDE = (56.1127,55.7395,54.9698,54.5268, 53.8884,53.8688,53.8493,53.8241,53.7987 ,53.7798,53.7653,53.7515,53.7304, 53.7163,53.7017,53.6788,53.6642,53.6488 ,53.6333,53.6174,53.601,53.5848,53.5699 ,53.5519,53.5359,53.5186,53.5009, 53.4814,53.4622,53.4442,53.4255,53.4047 ,53.3842,53.3634,53.342,53.3207,53.2983 ,53.2749,53.2519,53.2288,53.2053, 53.1819,53.1569,53.132,53.1068,53.0803, 53.0533,53.0259,52.9981,52.9699,52.9468 ,54.1504,55.3063,56.1734,57.0897, 57.7165,58.0859,58.0215,57.9599,57.8997 ,57.8412,57.7854,57.7295,57.6771, 57.6255,57.5768,57.5288,57.4829,57.4387 ,57.3957,57.3539,57.3132,57.2737, 57.2361,57.1995,57.1639,57.1294,57.0958 ,57.0633,57.0316,57.0003,56.9706, 56.9416,56.9134,56.8861,56.8591,56.8342 ,56.7968,56.7625,56.7291,56.6951, 56.6635,56.6427,56.6232,56.5945,56.5576 ,56.5227,56.4894,56.4657,56.1127)
ORBIT_NUMBER = 9276
ORBITAL_ECCENTRICITY = 0.578
ORBITAL_INCLINATION = 86.85
ORBITAL_SEMIMAJOR_AXIS = 8863.02
PERIAPSIS_ALTITUDE = 340.31
PERIAPSIS_ARGUMENT_ANGLE = 177.0
PERIAPSIS_TIME = 2011-04-07T13:14:36.000Z
SPACECRAFT_ORIENTATION = (0.0,-1.0,0.0)
^MEX_ORIENTATION_DESC = "MEX_ORIENTATION_DESC.TXT"
SPACECRAFT_POINTING_MODE = NADIR
^MEX_POINTING_DESC = "MEX_POINTING_DESC.TXT"
RIGHT_ASCENSION = -1e+32
DECLINATION = -1e+32
OFFSET_ANGLE = -1e+32
SPACECRAFT_SOLAR_DISTANCE = 2.07551e+08
TARGET_NAME = MARS
/* CAMERA DATA ELEMENTS */
DETECTOR_TEMPERATURE = 17.351
FOCAL_PLANE_TEMPERATURE = 8.3794
INST_CMPRS_NAME = "DISCRETE COSINE TRANSFORMATION (DCT)"
INST_CMPRS_RATIO = 20.2987
INST_CMPRS_QUALITY = 0
INST_CMPRS_QUANTZ_TBL_ID = 0
INSTRUMENT_TEMPERATURE = 11.234
LENS_TEMPERATURE = 8.7872
MACROPIXEL_SIZE = 4
MISSING_FRAMES = 1
PIXEL_SUBSAMPLING_FLAG = N
SIGNAL_CHAIN_ID = 2
/* RADIOMETRIC DATA ELEMENTS */
BANDWIDTH = 88.0
CENTER_FILTER_WAVELENGTH = 538.0
RADIANCE_OFFSET = 1.25061
RADIANCE_SCALING_FACTOR = 0.0024911
REFLECTANCE_SCALING_FACTOR = 9.23917e-05
MEX:REFLECTANCE_OFFSET = 0.0463835
/* IMAGE OBJECT DEFINITIONS */
OBJECT = IMAGE
  INTERCHANGE_FORMAT = BINARY
  LINES = 10053
  LINE_SAMPLES = 2045
  SAMPLE_TYPE = UNSIGNED_INTEGER
  SAMPLE_BITS = 8
  BANDS = 1
  BAND_STORAGE_TYPE = BAND_SEQUENTIAL
  MAXIMUM = 255
  MEAN = 136.857
  MINIMUM = 1
  STANDARD_DEVIATION = 47.9424
END_OBJECT = IMAGE
/* MAP OBJECT DEFINITIONS */
OBJECT = IMAGE_MAP_PROJECTION
  ^DATA_SET_MAP_PROJECTION_CATALOG= "DSMAP.CAT"
  A_AXIS_RADIUS = 3396.0
  B_AXIS_RADIUS = 3396.0
  C_AXIS_RADIUS = 3396.0
  CENTER_LATITUDE = 0.0
  CENTER_LONGITUDE = 55.0
  COORDINATE_SYSTEM_NAME = PLANETOGRAPHIC
  COORDINATE_SYSTEM_TYPE = "BODY-FIXED ROTATING"
  EASTERNMOST_LONGITUDE = 58.0859
  FIRST_STANDARD_PARALLEL = "N/A"
  LINE_FIRST_PIXEL = 1
  LINE_LAST_PIXEL = 10053
  LINE_PROJECTION_OFFSET = -19317.375
  MAP_PROJECTION_ROTATION = 0.0
  MAP_PROJECTION_TYPE = SINUSOIDAL
  MAP_RESOLUTION = 592.713803866667
  MAP_SCALE = 0.1
  MAXIMUM_LATITUDE = -32.5895
  MINIMUM_LATITUDE = -49.5604
  POSITIVE_LONGITUDE_DIRECTION = EAST
  REFERENCE_LATITUDE = "N/A"
  REFERENCE_LONGITUDE = "N/A"
  SAMPLE_FIRST_PIXEL = 1
  SAMPLE_LAST_PIXEL = 2045
  SAMPLE_PROJECTION_OFFSET = 830.625
  SECOND_STANDARD_PARALLEL = "N/A"
  WESTERNMOST_LONGITUDE = 52.9468
END_OBJECT = IMAGE_MAP_PROJECTION
/* The JPEG2000 image data file associated with this label. */
OBJECT = COMPRESSED_FILE
  FILE_NAME = "H9276_0000_GR3.JP2"
  RECORD_TYPE = UNDEFINED
  FILE_RECORDS = UNK
  ENCODING_TYPE = "JP2"
  INTERCHANGE_FORMAT = BINARY
  UNCOMPRESSED_FILE_NAME = "H9276_0000_GR3.IMG"
  REQUIRED_STORAGE_BYTES = "20578835"
  ^DESCRIPTION = "JP2INFO.TXT"
END_OBJECT = COMPRESSED_FILE
END
