PDS_VERSION_ID = PDS3
/* FILE DATA ELEMENTS */
RECORD_TYPE = STREAM
/* POINTERS TO DATA OBJECTS */
^COMPRESSED_FILE = "H9276_0000_RE3.JP2"
/* IDENTIFICATION DATA ELEMENTS */
DATA_SET_ID = "MEX-M-HRSC-5-REFDR-MAPPROJECTED-V3.0"
DATA_SET_NAME = "MARS EXPRESS HRSC MAP PROJECTED REFDR V3.0"
DETECTOR_ID = MEX_HRSC_RED
EVENT_TYPE = "MARS-REGIONAL-MAPPING-Fl-Gl-Pf"
INSTRUMENT_HOST_ID = MEX
INSTRUMENT_HOST_NAME = "MARS EXPRESS"
INSTRUMENT_ID = HRSC
INSTRUMENT_NAME = "HIGH RESOLUTION STEREO CAMERA"
MISSION_NAME = "MARS EXPRESS"
MISSION_PHASE_NAME = ME_Phase_22
PROCESSING_LEVEL_ID = 3
PRODUCT_CREATION_TIME = 2016-10-26T10:28:22.000Z
PRODUCT_ID = "H9276_0000_RE3.JP2"
RELEASE_ID = 0095
REVISION_ID = 0000
/* QUALITY DATA ELEMENTS */
DATA_QUALITY_ID = 1
DATA_QUALITY_DESC = "Data calculated based on original SPICE kernels"
/* TIME DATA ELEMENTS */
SPACECRAFT_CLOCK_START_COUNT = "1/0250262590.09043"
SPACECRAFT_CLOCK_STOP_COUNT = "1/0250263131.28649"
START_TIME = 2011-04-07T13:25:10.830Z
STOP_TIME = 2011-04-07T13:31:39.063Z
/* ORBITAL DATA ELEMENTS */
ASCENDING_NODE_LONGITUDE = 40.16
MAXIMUM_RESOLUTION = 114.7
FOOTPRINT_POINT_LATITUDE = (-32.6234,-32.6314,-32.6386,-32.6423, -32.6416,-32.6388,-33.1455,-33.7234, -34.3121,-34.907,-35.5103,-36.1205, -36.4295,-36.7403,-37.2082,-37.5246, -37.8425,-38.1622,-38.4841,-38.8074, -39.1356,-39.467,-39.7959,-40.2977, -40.6355,-40.9697,-41.3094,-41.6562, -42.0049,-42.351,-42.7,-43.2314, -43.5863,-43.9431,-44.3049,-44.6689, -45.0366,-45.4076,-45.7799,-46.1566, -46.5346,-46.9155,-47.2997,-47.6865, -48.0762,-48.4692,-48.8661,-49.2655, -49.5287,-49.5283,-49.5257,-49.519, -49.4969,-49.4719,-49.4234,-49.3784, -49.1569,-48.7649,-48.3762,-47.9866, -47.6018,-47.0349,-46.657,-46.2837, -45.9114,-45.5413,-45.1746,-44.8091, -44.4472,-43.9079,-43.552,-43.1984, -42.8473,-42.498,-42.1509,-41.8058, -41.4638,-41.1241,-40.7872,-40.4545, -39.956,-39.6267,-39.2976,-38.9722, -38.6482,-38.3269,-38.0076,-37.69, -37.3695,-37.0565,-36.7453,-36.4364, -36.13,-35.8255,-35.0691,-34.4738, -33.8868,-33.4504,-32.8745,-32.6234)
FOOTPRINT_POINT_LONGITUDE = (56.3729,55.9539,55.4045,54.6984, 54.2799,53.8602,53.6892,53.6558,53.6223 ,53.5872,53.5511,53.5133,53.494,53.4745 ,53.4436,53.4231,53.402,53.3803,53.3582 ,53.3353,53.3132,53.291,53.2662,53.2298 ,53.2051,53.177,53.1496,53.1237,53.097, 53.0674,53.0374,52.9922,52.96,52.9266, 52.8936,52.8597,52.8252,52.7904,52.7536 ,52.717,52.6782,52.639,52.5984,52.5568, 52.514,52.4701,52.4253,52.3789,52.8117, 53.3953,53.92,54.4432,55.5476,56.3034, 57.4072,58.2214,58.55,58.4727,58.398, 58.3272,58.2579,58.1561,58.0924,58.0298 ,57.97,57.9121,57.8559,57.8018,57.7492, 57.6736,57.6249,57.5775,57.5318,57.4877 ,57.445,57.4035,57.363,57.3239,57.2857, 57.2477,57.194,57.1596,57.1269,57.0944, 57.0632,57.0327,57.003,56.9743,56.9484, 56.9211,56.8945,56.8685,56.8428,56.8181 ,56.7603,56.7161,56.6739,56.6439, 56.6054,56.3729)
ORBIT_NUMBER = 9276
ORBITAL_ECCENTRICITY = 0.578
ORBITAL_INCLINATION = 86.85
ORBITAL_SEMIMAJOR_AXIS = 8863.02
PERIAPSIS_ALTITUDE = 340.31
PERIAPSIS_ARGUMENT_ANGLE = 177.0
PERIAPSIS_TIME = 2011-04-07T13:14:36.000Z
SPACECRAFT_ORIENTATION = (0.0,-1.0,0.0)
^MEX_ORIENTATION_DESC = "MEX_ORIENTATION_DESC.TXT"
SPACECRAFT_POINTING_MODE = NADIR
^MEX_POINTING_DESC = "MEX_POINTING_DESC.TXT"
RIGHT_ASCENSION = -1e+32
DECLINATION = -1e+32
OFFSET_ANGLE = -1e+32
SPACECRAFT_SOLAR_DISTANCE = 2.07551e+08
TARGET_NAME = MARS
/* CAMERA DATA ELEMENTS */
DETECTOR_TEMPERATURE = 18.7783
FOCAL_PLANE_TEMPERATURE = 8.3794
INST_CMPRS_NAME = "DISCRETE COSINE TRANSFORMATION (DCT)"
INST_CMPRS_RATIO = 30.6177
INST_CMPRS_QUALITY = 0
INST_CMPRS_QUANTZ_TBL_ID = 0
INSTRUMENT_TEMPERATURE = 11.234
LENS_TEMPERATURE = 8.7872
MACROPIXEL_SIZE = 4
MISSING_FRAMES = 0
PIXEL_SUBSAMPLING_FLAG = N
SIGNAL_CHAIN_ID = 2
/* RADIOMETRIC DATA ELEMENTS */
BANDWIDTH = 48.0
CENTER_FILTER_WAVELENGTH = 748.0
RADIANCE_OFFSET = 0.815918
RADIANCE_SCALING_FACTOR = 0.00221796
REFLECTANCE_SCALING_FACTOR = 0.000218038
MEX:REFLECTANCE_OFFSET = 0.0802094
/* IMAGE OBJECT DEFINITIONS */
OBJECT = IMAGE
  INTERCHANGE_FORMAT = BINARY
  LINES = 10053
  LINE_SAMPLES = 2045
  SAMPLE_TYPE = UNSIGNED_INTEGER
  SAMPLE_BITS = 8
  BANDS = 1
  BAND_STORAGE_TYPE = BAND_SEQUENTIAL
  MAXIMUM = 254
  MEAN = 140.702
  MINIMUM = 1
  STANDARD_DEVIATION = 44.8925
END_OBJECT = IMAGE
/* MAP OBJECT DEFINITIONS */
OBJECT = IMAGE_MAP_PROJECTION
  ^DATA_SET_MAP_PROJECTION_CATALOG= "DSMAP.CAT"
  A_AXIS_RADIUS = 3396.0
  B_AXIS_RADIUS = 3396.0
  C_AXIS_RADIUS = 3396.0
  CENTER_LATITUDE = 0.0
  CENTER_LONGITUDE = 55.0
  COORDINATE_SYSTEM_NAME = PLANETOGRAPHIC
  COORDINATE_SYSTEM_TYPE = "BODY-FIXED ROTATING"
  EASTERNMOST_LONGITUDE = 58.55
  FIRST_STANDARD_PARALLEL = "N/A"
  LINE_FIRST_PIXEL = 1
  LINE_LAST_PIXEL = 10053
  LINE_PROJECTION_OFFSET = -19317.375
  MAP_PROJECTION_ROTATION = 0.0
  MAP_PROJECTION_TYPE = SINUSOIDAL
  MAP_RESOLUTION = 592.713803866667
  MAP_SCALE = 0.1
  MAXIMUM_LATITUDE = -32.6234
  MINIMUM_LATITUDE = -49.5287
  POSITIVE_LONGITUDE_DIRECTION = EAST
  REFERENCE_LATITUDE = "N/A"
  REFERENCE_LONGITUDE = "N/A"
  SAMPLE_FIRST_PIXEL = 1
  SAMPLE_LAST_PIXEL = 2045
  SAMPLE_PROJECTION_OFFSET = 830.625
  SECOND_STANDARD_PARALLEL = "N/A"
  WESTERNMOST_LONGITUDE = 52.3789
END_OBJECT = IMAGE_MAP_PROJECTION
/* The JPEG2000 image data file associated with this label. */
OBJECT = COMPRESSED_FILE
  FILE_NAME = "H9276_0000_RE3.JP2"
  RECORD_TYPE = UNDEFINED
  FILE_RECORDS = UNK
  ENCODING_TYPE = "JP2"
  INTERCHANGE_FORMAT = BINARY
  UNCOMPRESSED_FILE_NAME = "H9276_0000_RE3.IMG"
  REQUIRED_STORAGE_BYTES = "20578835"
  ^DESCRIPTION = "JP2INFO.TXT"
END_OBJECT = COMPRESSED_FILE
END
