PDS_VERSION_ID = PDS3
/* FILE DATA ELEMENTS */
RECORD_TYPE = STREAM
/* POINTERS TO DATA OBJECTS */
^COMPRESSED_FILE = "H9280_0000_GR3.JP2"
/* IDENTIFICATION DATA ELEMENTS */
DATA_SET_ID = "MEX-M-HRSC-5-REFDR-MAPPROJECTED-V3.0"
DATA_SET_NAME = "MARS EXPRESS HRSC MAP PROJECTED REFDR V3.0"
DETECTOR_ID = MEX_HRSC_GREEN
EVENT_TYPE = "MARS-REGIONAL-MAPPING-Te-Im-Fl"
INSTRUMENT_HOST_ID = MEX
INSTRUMENT_HOST_NAME = "MARS EXPRESS"
INSTRUMENT_ID = HRSC
INSTRUMENT_NAME = "HIGH RESOLUTION STEREO CAMERA"
MISSION_NAME = "MARS EXPRESS"
MISSION_PHASE_NAME = ME_Phase_23
PROCESSING_LEVEL_ID = 3
PRODUCT_CREATION_TIME = 2016-10-26T10:28:22.000Z
PRODUCT_ID = "H9280_0000_GR3.JP2"
RELEASE_ID = 0095
REVISION_ID = 0000
/* QUALITY DATA ELEMENTS */
DATA_QUALITY_ID = 1
DATA_QUALITY_DESC = "Data calculated based on original SPICE kernels"
/* TIME DATA ELEMENTS */
SPACECRAFT_CLOCK_START_COUNT = "1/0250362998.09073"
SPACECRAFT_CLOCK_STOP_COUNT = "1/0250363236.37463"
START_TIME = 2011-04-08T17:17:10.217Z
STOP_TIME = 2011-04-08T17:19:38.637Z
/* ORBITAL DATA ELEMENTS */
ASCENDING_NODE_LONGITUDE = 40.09
MAXIMUM_RESOLUTION = 63.4
FOOTPRINT_POINT_LATITUDE = (-12.5905,-12.5898,-12.588,-12.5868, -12.5855,-12.5839,-12.7597,-12.9343, -13.1089,-13.2833,-13.4575,-13.6321, -13.8063,-14.1538,-14.5882,-14.8552, -15.0332,-15.3004,-15.4786,-15.6561, -15.8327,-16.1057,-16.2877,-16.4695, -16.7421,-16.9236,-17.1074,-17.2933, -17.4789,-17.6644,-17.8497,-18.0349, -18.3178,-18.5072,-18.6965,-18.8857, -19.0746,-19.2666,-19.4603,-19.6535, -19.8458,-20.0384,-20.2336,-20.4305, -20.6272,-20.8238,-21.0202,-21.2203, -21.4208,-21.6211,-21.8613,-21.8633, -21.8644,-21.8653,-21.866,-21.8663, -21.7662,-21.5659,-21.2644,-20.9655, -20.7692,-20.5726,-20.2782,-20.0814, -19.889,-19.6962,-19.5033,-19.3102, -19.1172,-18.9283,-18.7393,-18.5501, -18.3608,-18.0771,-17.892,-17.7067, -17.5211,-17.2428,-17.0569,-16.8745, -16.693,-16.5115,-16.3296,-16.1478, -15.9657,-15.7852,-15.6076,-15.4299, -15.1633,-14.9855,-14.8074,-14.5417, -14.1072,-13.7596,-13.5853,-13.411, -13.1498,-12.9752,-12.8005,-12.5905)
FOOTPRINT_POINT_LONGITUDE = (6.46575,6.27008,5.90332,5.69315, 5.48232,5.25731,5.10063,5.09682,5.09294 ,5.08902,5.08526,5.08047,5.0762,5.06921 ,5.05872,5.05279,5.04862,5.04108, 5.03521,5.03118,5.02936,5.02229,5.01727 ,5.0125,5.00461,4.99961,4.99457,4.9894, 4.98445,4.97938,4.97447,4.96932,4.96129 ,4.95616,4.95061,4.94501,4.93965, 4.93464,4.92765,4.9214,4.91752,4.91191, 4.90616,4.90023,4.89418,4.88787,4.88179 ,4.87583,4.86973,4.86338,4.98959, 5.29304,5.49439,5.72886,5.94619,6.29648 ,6.65062,6.64595,6.63824,6.63227,6.6283 ,6.6244,6.61967,6.61484,6.61148,6.60795 ,6.60452,6.60117,6.59787,6.59463, 6.59145,6.58838,6.58543,6.58099,6.57814 ,6.57536,6.57254,6.56862,6.5659,6.56334 ,6.56092,6.55854,6.55608,6.55373, 6.55136,6.5492,6.54707,6.54507,6.54219, 6.54044,6.53862,6.53583,6.53149,6.52868 ,6.52695,6.52544,6.52371,6.5222,6.52066 ,6.46575)
ORBIT_NUMBER = 9280
ORBITAL_ECCENTRICITY = 0.578
ORBITAL_INCLINATION = 86.84
ORBITAL_SEMIMAJOR_AXIS = 8858.12
PERIAPSIS_ALTITUDE = 341.45
PERIAPSIS_ARGUMENT_ANGLE = 176.26
PERIAPSIS_TIME = 2011-04-08T17:13:02.000Z
SPACECRAFT_ORIENTATION = (0.0,-1.0,0.0)
^MEX_ORIENTATION_DESC = "MEX_ORIENTATION_DESC.TXT"
SPACECRAFT_POINTING_MODE = ACROSSTRACK
^MEX_POINTING_DESC = "MEX_POINTING_DESC.TXT"
RIGHT_ASCENSION = -1e+32
DECLINATION = -1e+32
OFFSET_ANGLE = -0.269
SPACECRAFT_SOLAR_DISTANCE = 2.07624e+08
TARGET_NAME = MARS
/* CAMERA DATA ELEMENTS */
DETECTOR_TEMPERATURE = 17.7588
FOCAL_PLANE_TEMPERATURE = 8.1755
INST_CMPRS_NAME = "DISCRETE COSINE TRANSFORMATION (DCT)"
INST_CMPRS_RATIO = 20.0924
INST_CMPRS_QUALITY = 0
INST_CMPRS_QUANTZ_TBL_ID = 0
INSTRUMENT_TEMPERATURE = 11.4379
LENS_TEMPERATURE = 8.7872
MACROPIXEL_SIZE = 4
MISSING_FRAMES = 0
PIXEL_SUBSAMPLING_FLAG = N
SIGNAL_CHAIN_ID = 2
/* RADIOMETRIC DATA ELEMENTS */
BANDWIDTH = 88.0
CENTER_FILTER_WAVELENGTH = 538.0
RADIANCE_OFFSET = 0.658227
RADIANCE_SCALING_FACTOR = 0.00225862
REFLECTANCE_SCALING_FACTOR = 8.38287e-05
MEX:REFLECTANCE_OFFSET = 0.0244301
/* IMAGE OBJECT DEFINITIONS */
OBJECT = IMAGE
  INTERCHANGE_FORMAT = BINARY
  LINES = 11002
  LINE_SAMPLES = 2081
  SAMPLE_TYPE = UNSIGNED_INTEGER
  SAMPLE_BITS = 8
  BANDS = 1
  BAND_STORAGE_TYPE = BAND_SEQUENTIAL
  MAXIMUM = 255
  MEAN = 121.999
  MINIMUM = 1
  STANDARD_DEVIATION = 37.8761
END_OBJECT = IMAGE
/* MAP OBJECT DEFINITIONS */
OBJECT = IMAGE_MAP_PROJECTION
  ^DATA_SET_MAP_PROJECTION_CATALOG= "DSMAP.CAT"
  A_AXIS_RADIUS = 3396.0
  B_AXIS_RADIUS = 3396.0
  C_AXIS_RADIUS = 3396.0
  CENTER_LATITUDE = 0.0
  CENTER_LONGITUDE = 6.0
  COORDINATE_SYSTEM_NAME = PLANETOGRAPHIC
  COORDINATE_SYSTEM_TYPE = "BODY-FIXED ROTATING"
  EASTERNMOST_LONGITUDE = 6.65062
  FIRST_STANDARD_PARALLEL = "N/A"
  LINE_FIRST_PIXEL = 1
  LINE_LAST_PIXEL = 11002
  LINE_PROJECTION_OFFSET = -14916.625
  MAP_PROJECTION_ROTATION = 0.0
  MAP_PROJECTION_TYPE = SINUSOIDAL
  MAP_RESOLUTION = 1185.42760773333
  MAP_SCALE = 0.05
  MAXIMUM_LATITUDE = -12.5839
  MINIMUM_LATITUDE = -21.8663
  POSITIVE_LONGITUDE_DIRECTION = EAST
  REFERENCE_LATITUDE = "N/A"
  REFERENCE_LONGITUDE = "N/A"
  SAMPLE_FIRST_PIXEL = 1
  SAMPLE_LAST_PIXEL = 2081
  SAMPLE_PROJECTION_OFFSET = 1329.125
  SECOND_STANDARD_PARALLEL = "N/A"
  WESTERNMOST_LONGITUDE = 4.86338
END_OBJECT = IMAGE_MAP_PROJECTION
/* The JPEG2000 image data file associated with this label. */
OBJECT = COMPRESSED_FILE
  FILE_NAME = "H9280_0000_GR3.JP2"
  RECORD_TYPE = UNDEFINED
  FILE_RECORDS = UNK
  ENCODING_TYPE = "JP2"
  INTERCHANGE_FORMAT = BINARY
  UNCOMPRESSED_FILE_NAME = "H9280_0000_GR3.IMG"
  REQUIRED_STORAGE_BYTES = "22915972"
  ^DESCRIPTION = "JP2INFO.TXT"
END_OBJECT = COMPRESSED_FILE
END
