PDS_VERSION_ID = PDS3
/* FILE DATA ELEMENTS */
RECORD_TYPE = STREAM
/* POINTERS TO DATA OBJECTS */
^COMPRESSED_FILE = "H9280_0000_P13.JP2"
/* IDENTIFICATION DATA ELEMENTS */
DATA_SET_ID = "MEX-M-HRSC-5-REFDR-MAPPROJECTED-V3.0"
DATA_SET_NAME = "MARS EXPRESS HRSC MAP PROJECTED REFDR V3.0"
DETECTOR_ID = MEX_HRSC_P1
EVENT_TYPE = "MARS-REGIONAL-MAPPING-Te-Im-Fl"
INSTRUMENT_HOST_ID = MEX
INSTRUMENT_HOST_NAME = "MARS EXPRESS"
INSTRUMENT_ID = HRSC
INSTRUMENT_NAME = "HIGH RESOLUTION STEREO CAMERA"
MISSION_NAME = "MARS EXPRESS"
MISSION_PHASE_NAME = ME_Phase_23
PROCESSING_LEVEL_ID = 3
PRODUCT_CREATION_TIME = 2016-10-26T10:28:22.000Z
PRODUCT_ID = "H9280_0000_P13.JP2"
RELEASE_ID = 0095
REVISION_ID = 0000
/* QUALITY DATA ELEMENTS */
DATA_QUALITY_ID = 1
DATA_QUALITY_DESC = "Data calculated based on original SPICE kernels"
/* TIME DATA ELEMENTS */
SPACECRAFT_CLOCK_START_COUNT = "1/0250362998.09073"
SPACECRAFT_CLOCK_STOP_COUNT = "1/0250363236.37463"
START_TIME = 2011-04-08T17:16:52.914Z
STOP_TIME = 2011-04-08T17:19:17.051Z
/* ORBITAL DATA ELEMENTS */
ASCENDING_NODE_LONGITUDE = 40.09
MAXIMUM_RESOLUTION = 63.9
FOOTPRINT_POINT_LATITUDE = (-12.5856,-12.5863,-12.587,-12.5876, -12.5881,-12.5886,-12.6837,-12.8598, -13.0362,-13.2124,-13.3883,-13.5651, -13.83,-14.0928,-14.2684,-14.4444, -14.708,-14.8832,-15.1459,-15.4135, -15.7597,-15.9393,-16.1199,-16.3001, -16.4804,-16.6612,-16.8412,-17.021, -17.2049,-17.3892,-17.5732,-17.8489, -18.1248,-18.3105,-18.4986,-18.6871, -18.9696,-19.1574,-19.3446,-19.5394, -19.7296,-19.9214,-20.2091,-20.4012, -20.5974,-20.7943,-20.9906,-21.2842, -21.4812,-21.6816,-21.8633,-21.863, -21.8622,-21.8608,-21.8581,-21.7596, -21.5599,-21.2587,-21.0631,-20.867, -20.6707,-20.3772,-20.1866,-19.9927, -19.7047,-19.5126,-19.321,-19.1333, -18.9453,-18.7572,-18.4749,-18.1934, -18.0097,-17.8258,-17.6418,-17.4574, -17.2734,-16.9975,-16.7279,-16.5482, -16.368,-16.1879,-16.0076,-15.7379, -15.5625,-15.387,-15.1239,-14.949, -14.6853,-14.5096,-14.3337,-14.0696, -13.8936,-13.7185,-13.5422,-13.3659, -13.19,-13.015,-12.8385,-12.5856)
FOOTPRINT_POINT_LONGITUDE = (6.50594,6.22326,5.95239,5.74541, 5.53787,5.3295,5.11161,5.10807,5.10426, 5.10053,5.09696,5.09266,5.08631,5.08131 ,5.07758,5.07349,5.0675,5.0638,5.0582, 5.04908,5.04383,5.03966,5.0349,5.03026, 5.02554,5.02032,5.01564,5.01092,5.00614 ,5.00134,4.99665,4.98959,4.98222, 4.97718,4.97228,4.96705,4.95912,4.95412 ,4.94935,4.94216,4.93828,4.93316, 4.92522,4.91965,4.91396,4.90789,4.90212 ,4.89377,4.88793,4.88193,4.87647, 5.10551,5.49878,5.98801,6.3938,6.62517, 6.62143,6.61416,6.61058,6.60696,6.60339 ,6.59828,6.59536,6.59146,6.58672, 6.58366,6.5806,6.57769,6.57481,6.57196, 6.56777,6.56374,6.56119,6.55867,6.55619 ,6.55367,6.55136,6.54774,6.54444, 6.54233,6.54013,6.53803,6.53597,6.53301 ,6.53117,6.5294,6.52687,6.52542,6.52293 ,6.52138,6.51985,6.51756,6.51611, 6.51501,6.51358,6.51223,6.51106,6.51017 ,6.50891,6.50594)
ORBIT_NUMBER = 9280
ORBITAL_ECCENTRICITY = 0.578
ORBITAL_INCLINATION = 86.84
ORBITAL_SEMIMAJOR_AXIS = 8858.12
PERIAPSIS_ALTITUDE = 341.45
PERIAPSIS_ARGUMENT_ANGLE = 176.26
PERIAPSIS_TIME = 2011-04-08T17:13:02.000Z
SPACECRAFT_ORIENTATION = (0.0,-1.0,0.0)
^MEX_ORIENTATION_DESC = "MEX_ORIENTATION_DESC.TXT"
SPACECRAFT_POINTING_MODE = ACROSSTRACK
^MEX_POINTING_DESC = "MEX_POINTING_DESC.TXT"
RIGHT_ASCENSION = -1e+32
DECLINATION = -1e+32
OFFSET_ANGLE = -0.269
SPACECRAFT_SOLAR_DISTANCE = 2.07624e+08
TARGET_NAME = MARS
/* CAMERA DATA ELEMENTS */
DETECTOR_TEMPERATURE = 17.351
FOCAL_PLANE_TEMPERATURE = 8.1755
INST_CMPRS_NAME = "DISCRETE COSINE TRANSFORMATION (DCT)"
INST_CMPRS_RATIO = 26.1875
INST_CMPRS_QUALITY = 0
INST_CMPRS_QUANTZ_TBL_ID = 0
INSTRUMENT_TEMPERATURE = 11.4379
LENS_TEMPERATURE = 8.7872
MACROPIXEL_SIZE = 4
MISSING_FRAMES = 0
PIXEL_SUBSAMPLING_FLAG = N
SIGNAL_CHAIN_ID = 3
/* RADIOMETRIC DATA ELEMENTS */
BANDWIDTH = 174.0
CENTER_FILTER_WAVELENGTH = 675.0
RADIANCE_OFFSET = 1.7218
RADIANCE_SCALING_FACTOR = 0.00651932
REFLECTANCE_SCALING_FACTOR = 0.000151163
MEX:REFLECTANCE_OFFSET = 0.0399232
/* IMAGE OBJECT DEFINITIONS */
OBJECT = IMAGE
  INTERCHANGE_FORMAT = BINARY
  LINES = 11002
  LINE_SAMPLES = 2081
  SAMPLE_TYPE = UNSIGNED_INTEGER
  SAMPLE_BITS = 8
  BANDS = 1
  BAND_STORAGE_TYPE = BAND_SEQUENTIAL
  MAXIMUM = 255
  MEAN = 115.759
  MINIMUM = 1
  STANDARD_DEVIATION = 33.8291
END_OBJECT = IMAGE
/* MAP OBJECT DEFINITIONS */
OBJECT = IMAGE_MAP_PROJECTION
  ^DATA_SET_MAP_PROJECTION_CATALOG= "DSMAP.CAT"
  A_AXIS_RADIUS = 3396.0
  B_AXIS_RADIUS = 3396.0
  C_AXIS_RADIUS = 3396.0
  CENTER_LATITUDE = 0.0
  CENTER_LONGITUDE = 6.0
  COORDINATE_SYSTEM_NAME = PLANETOGRAPHIC
  COORDINATE_SYSTEM_TYPE = "BODY-FIXED ROTATING"
  EASTERNMOST_LONGITUDE = 6.62517
  FIRST_STANDARD_PARALLEL = "N/A"
  LINE_FIRST_PIXEL = 1
  LINE_LAST_PIXEL = 11002
  LINE_PROJECTION_OFFSET = -14916.625
  MAP_PROJECTION_ROTATION = 0.0
  MAP_PROJECTION_TYPE = SINUSOIDAL
  MAP_RESOLUTION = 1185.42760773333
  MAP_SCALE = 0.05
  MAXIMUM_LATITUDE = -12.5856
  MINIMUM_LATITUDE = -21.8633
  POSITIVE_LONGITUDE_DIRECTION = EAST
  REFERENCE_LATITUDE = "N/A"
  REFERENCE_LONGITUDE = "N/A"
  SAMPLE_FIRST_PIXEL = 1
  SAMPLE_LAST_PIXEL = 2081
  SAMPLE_PROJECTION_OFFSET = 1329.125
  SECOND_STANDARD_PARALLEL = "N/A"
  WESTERNMOST_LONGITUDE = 4.87647
END_OBJECT = IMAGE_MAP_PROJECTION
/* The JPEG2000 image data file associated with this label. */
OBJECT = COMPRESSED_FILE
  FILE_NAME = "H9280_0000_P13.JP2"
  RECORD_TYPE = UNDEFINED
  FILE_RECORDS = UNK
  ENCODING_TYPE = "JP2"
  INTERCHANGE_FORMAT = BINARY
  UNCOMPRESSED_FILE_NAME = "H9280_0000_P13.IMG"
  REQUIRED_STORAGE_BYTES = "22915972"
  ^DESCRIPTION = "JP2INFO.TXT"
END_OBJECT = COMPRESSED_FILE
END
