PDS_VERSION_ID = PDS3
/* FILE DATA ELEMENTS */
RECORD_TYPE = STREAM
/* POINTERS TO DATA OBJECTS */
^COMPRESSED_FILE = "H9299_0000_ND3.JP2"
/* IDENTIFICATION DATA ELEMENTS */
DATA_SET_ID = "MEX-M-HRSC-5-REFDR-MAPPROJECTED-V3.0"
DATA_SET_NAME = "MARS EXPRESS HRSC MAP PROJECTED REFDR V3.0"
DETECTOR_ID = MEX_HRSC_NADIR
EVENT_TYPE = "MARS-REGIONAL-MAPPING-Vo-Te"
INSTRUMENT_HOST_ID = MEX
INSTRUMENT_HOST_NAME = "MARS EXPRESS"
INSTRUMENT_ID = HRSC
INSTRUMENT_NAME = "HIGH RESOLUTION STEREO CAMERA"
MISSION_NAME = "MARS EXPRESS"
MISSION_PHASE_NAME = ME_Phase_23
PROCESSING_LEVEL_ID = 3
PRODUCT_CREATION_TIME = 2016-10-26T10:28:22.000Z
PRODUCT_ID = "H9299_0000_ND3.JP2"
RELEASE_ID = 0095
REVISION_ID = 0000
/* QUALITY DATA ELEMENTS */
DATA_QUALITY_ID = 1
DATA_QUALITY_DESC = "Data calculated based on original SPICE kernels"
/* TIME DATA ELEMENTS */
SPACECRAFT_CLOCK_START_COUNT = "1/0250841282.09055"
SPACECRAFT_CLOCK_STOP_COUNT = "1/0250841626.14653"
START_TIME = 2011-04-14T06:08:38.164Z
STOP_TIME = 2011-04-14T06:12:52.161Z
/* ORBITAL DATA ELEMENTS */
ASCENDING_NODE_LONGITUDE = 39.73
MAXIMUM_RESOLUTION = 14.9
FOOTPRINT_POINT_LATITUDE = (-5.0164,-5.01258,-5.00796,-5.30775, -5.60727,-5.90654,-6.20554,-6.50427, -6.80272,-7.10091,-7.39881,-7.6964, -7.99371,-8.29072,-8.58741,-8.88379, -9.17987,-9.47562,-9.77104,-10.0661, -10.3609,-10.6553,-11.1048,-11.4062, -11.7073,-12.0079,-12.3155,-12.777, -13.0841,-13.5526,-13.8665,-14.1799, -14.6577,-14.9777,-15.2972,-15.6229, -15.9491,-16.2747,-16.6064,-16.9386, -17.4396,-17.7779,-18.1157,-18.6314, -18.9751,-19.3248,-19.8494,-20.2058, -20.5614,-20.7584,-20.7629,-20.7664, -20.7701,-20.5908,-20.2353,-19.879, -19.3541,-19.0041,-18.4883,-18.1443, -17.8066,-17.4682,-16.9669,-16.6346, -16.3026,-15.977,-15.6507,-15.3247, -15.0052,-14.6851,-14.207,-13.8935, -13.5796,-13.1106,-12.8035,-12.3419, -12.0339,-11.7331,-11.432,-11.1305, -10.6806,-10.0913,-9.79614,-9.50064, -9.20482,-8.90866,-8.61218,-8.3154, -8.01831,-7.72092,-7.42321,-7.12522, -6.82694,-6.52839,-6.22954,-5.93044, -5.63107,-5.33144,-5.03155,-5.0164)
FOOTPRINT_POINT_LONGITUDE = (222.527,222.111,221.606,221.601, 221.595,221.589,221.583,221.577,221.57, 221.564,221.558,221.551,221.545,221.539 ,221.532,221.525,221.518,221.511, 221.504,221.497,221.49,221.482,221.471, 221.463,221.455,221.447,221.438,221.426 ,221.417,221.403,221.394,221.385, 221.371,221.361,221.351,221.34,221.33, 221.319,221.308,221.297,221.28,221.268, 221.256,221.238,221.226,221.213,221.193 ,221.18,221.168,221.408,221.807,222.185 ,222.783,223.067,223.06,223.053,223.044 ,223.038,223.029,223.024,223.019, 223.014,223.006,223.002,222.997,222.993 ,222.989,222.985,222.982,222.978, 222.973,222.97,222.967,222.963,222.96, 222.956,222.954,222.951,222.949,222.947 ,222.944,222.941,222.939,222.938, 222.936,222.935,222.934,222.932,222.931 ,222.93,222.929,222.928,222.928,222.927 ,222.926,222.926,222.925,222.925, 222.924,222.527)
ORBIT_NUMBER = 9299
ORBITAL_ECCENTRICITY = 0.578
ORBITAL_INCLINATION = 86.85
ORBITAL_SEMIMAJOR_AXIS = 8863.62
PERIAPSIS_ALTITUDE = 342.67
PERIAPSIS_ARGUMENT_ANGLE = 172.95
PERIAPSIS_TIME = 2011-04-14T06:05:31.000Z
SPACECRAFT_ORIENTATION = (0.0,-1.0,0.0)
^MEX_ORIENTATION_DESC = "MEX_ORIENTATION_DESC.TXT"
SPACECRAFT_POINTING_MODE = ACROSSTRACK
^MEX_POINTING_DESC = "MEX_POINTING_DESC.TXT"
RIGHT_ASCENSION = -1e+32
DECLINATION = -1e+32
OFFSET_ANGLE = -0.6
SPACECRAFT_SOLAR_DISTANCE = 2.08009e+08
TARGET_NAME = MARS
/* CAMERA DATA ELEMENTS */
DETECTOR_TEMPERATURE = 18.3705
FOCAL_PLANE_TEMPERATURE = 8.3794
INST_CMPRS_NAME = "DISCRETE COSINE TRANSFORMATION (DCT)"
INST_CMPRS_RATIO = 5.74528
INST_CMPRS_QUALITY = 0
INST_CMPRS_QUANTZ_TBL_ID = 0
INSTRUMENT_TEMPERATURE = 11.4379
LENS_TEMPERATURE = 8.7872
MACROPIXEL_SIZE = 1
MISSING_FRAMES = 0
PIXEL_SUBSAMPLING_FLAG = N
SIGNAL_CHAIN_ID = 0
/* RADIOMETRIC DATA ELEMENTS */
BANDWIDTH = 177.0
CENTER_FILTER_WAVELENGTH = 677.5
RADIANCE_OFFSET = 2.05819
RADIANCE_SCALING_FACTOR = 0.0149429
REFLECTANCE_SCALING_FACTOR = 0.000343466
MEX:REFLECTANCE_OFFSET = 0.0473081
/* IMAGE OBJECT DEFINITIONS */
OBJECT = IMAGE
  INTERCHANGE_FORMAT = BINARY
  LINES = 74761
  LINE_SAMPLES = 8832
  SAMPLE_TYPE = UNSIGNED_INTEGER
  SAMPLE_BITS = 8
  BANDS = 1
  BAND_STORAGE_TYPE = BAND_SEQUENTIAL
  MAXIMUM = 255
  MEAN = 87.6018
  MINIMUM = 1
  STANDARD_DEVIATION = 31.5773
END_OBJECT = IMAGE
/* MAP OBJECT DEFINITIONS */
OBJECT = IMAGE_MAP_PROJECTION
  ^DATA_SET_MAP_PROJECTION_CATALOG= "DSMAP.CAT"
  A_AXIS_RADIUS = 3396.0
  B_AXIS_RADIUS = 3396.0
  C_AXIS_RADIUS = 3396.0
  CENTER_LATITUDE = 0.0
  CENTER_LONGITUDE = 222.0
  COORDINATE_SYSTEM_NAME = PLANETOGRAPHIC
  COORDINATE_SYSTEM_TYPE = "BODY-FIXED ROTATING"
  EASTERNMOST_LONGITUDE = 223.067
  FIRST_STANDARD_PARALLEL = "N/A"
  LINE_FIRST_PIXEL = 1
  LINE_LAST_PIXEL = 74761
  LINE_PROJECTION_OFFSET = -23730.0
  MAP_PROJECTION_ROTATION = 0.0
  MAP_PROJECTION_TYPE = SINUSOIDAL
  MAP_RESOLUTION = 4741.71043093333
  MAP_SCALE = 0.0125
  MAXIMUM_LATITUDE = -5.00796
  MINIMUM_LATITUDE = -20.7701
  POSITIVE_LONGITUDE_DIRECTION = EAST
  REFERENCE_LATITUDE = "N/A"
  REFERENCE_LONGITUDE = "N/A"
  SAMPLE_FIRST_PIXEL = 1
  SAMPLE_LAST_PIXEL = 8832
  SAMPLE_PROJECTION_OFFSET = 4032.0
  SECOND_STANDARD_PARALLEL = "N/A"
  WESTERNMOST_LONGITUDE = 221.168
END_OBJECT = IMAGE_MAP_PROJECTION
/* The JPEG2000 image data file associated with this label. */
OBJECT = COMPRESSED_FILE
  FILE_NAME = "H9299_0000_ND3.JP2"
  RECORD_TYPE = UNDEFINED
  FILE_RECORDS = UNK
  ENCODING_TYPE = "JP2"
  INTERCHANGE_FORMAT = BINARY
  UNCOMPRESSED_FILE_NAME = "H9299_0000_ND3.IMG"
  REQUIRED_STORAGE_BYTES = "660324480"
  ^DESCRIPTION = "JP2INFO.TXT"
END_OBJECT = COMPRESSED_FILE
END
