PDS_VERSION_ID = PDS3
/* FILE DATA ELEMENTS */
RECORD_TYPE = STREAM
/* POINTERS TO DATA OBJECTS */
^COMPRESSED_FILE = "H9302_0000_BL3.JP2"
/* IDENTIFICATION DATA ELEMENTS */
DATA_SET_ID = "MEX-M-HRSC-5-REFDR-MAPPROJECTED-V3.0"
DATA_SET_NAME = "MARS EXPRESS HRSC MAP PROJECTED REFDR V3.0"
DETECTOR_ID = MEX_HRSC_BLUE
EVENT_TYPE = "MARS-REGIONAL-MAPPING-Vo-Te"
INSTRUMENT_HOST_ID = MEX
INSTRUMENT_HOST_NAME = "MARS EXPRESS"
INSTRUMENT_ID = HRSC
INSTRUMENT_NAME = "HIGH RESOLUTION STEREO CAMERA"
MISSION_NAME = "MARS EXPRESS"
MISSION_PHASE_NAME = ME_Phase_23
PROCESSING_LEVEL_ID = 3
PRODUCT_CREATION_TIME = 2016-10-26T12:35:54.000Z
PRODUCT_ID = "H9302_0000_BL3.JP2"
RELEASE_ID = 0096
REVISION_ID = 0000
/* QUALITY DATA ELEMENTS */
DATA_QUALITY_ID = 1
DATA_QUALITY_DESC = "Data calculated based on original SPICE kernels"
/* TIME DATA ELEMENTS */
SPACECRAFT_CLOCK_START_COUNT = "1/0250916926.09370"
SPACECRAFT_CLOCK_STOP_COUNT = "1/0250917151.06474"
START_TIME = 2011-04-15T03:09:32.677Z
STOP_TIME = 2011-04-15T03:11:47.348Z
/* ORBITAL DATA ELEMENTS */
ASCENDING_NODE_LONGITUDE = 39.66
MAXIMUM_RESOLUTION = 132.9
FOOTPRINT_POINT_LATITUDE = (-11.0603,-11.058,-11.0554,-11.0533, -11.0577,-11.2804,-11.5087,-11.8128, -12.1163,-12.4194,-12.5744,-12.7295, -12.8846,-13.0395,-13.1942,-13.5034, -13.6612,-13.8193,-13.9772,-14.1351, -14.2927,-14.4503,-14.6902,-14.8512, -15.0121,-15.1728,-15.3333,-15.4937, -15.6578,-15.9032,-16.0673,-16.2308, -16.3942,-16.5606,-16.7274,-16.894, -17.0605,-17.2268,-17.3954,-17.5651, -17.7346,-17.904,-18.0731,-18.2446, -18.4172,-18.5895,-18.7617,-18.9336, -19.2092,-19.2121,-19.2137,-19.215, -19.2163,-19.2169,-19.2174,-19.2151, -19.0398,-18.7803,-18.6082,-18.436, -18.2635,-18.0918,-17.9228,-17.7535, -17.5839,-17.4142,-17.2455,-17.0793, -16.9128,-16.7463,-16.5795,-16.413, -16.2496,-16.0862,-15.9226,-15.7588, -15.5948,-15.4325,-15.2721,-15.1115, -14.9507,-14.7898,-14.6287,-14.4692, -14.3116,-14.154,-13.9962,-13.8383, -13.6802,-13.5222,-13.2131,-12.9035, -12.7485,-12.5934,-12.4382,-12.1352, -11.8316,-11.5276,-11.0764,-11.0603)
FOOTPRINT_POINT_LONGITUDE = (276.433,276.059,275.728,275.493, 275.203,275.198,275.192,275.185,275.177 ,275.169,275.165,275.161,275.157, 275.152,275.148,275.14,275.135,275.131, 275.127,275.122,275.118,275.113,275.107 ,275.102,275.097,275.093,275.088, 275.083,275.078,275.07,275.066,275.061, 275.056,275.051,275.046,275.041,275.035 ,275.03,275.025,275.019,275.014,275.009 ,275.003,274.997,274.992,274.986,274.98 ,274.974,275.048,275.34,275.545,275.767 ,276.041,276.247,276.486,276.789, 276.785,276.779,276.776,276.772,276.768 ,276.765,276.761,276.758,276.754, 276.751,276.748,276.745,276.742,276.739 ,276.736,276.732,276.73,276.727,276.724 ,276.721,276.718,276.716,276.713, 276.711,276.708,276.706,276.703,276.701 ,276.699,276.697,276.694,276.692,276.69 ,276.688,276.684,276.68,276.678,276.676 ,276.674,276.671,276.668,276.664,276.66 ,276.433)
ORBIT_NUMBER = 9302
ORBITAL_ECCENTRICITY = 0.578
ORBITAL_INCLINATION = 86.84
ORBITAL_SEMIMAJOR_AXIS = 8865.12
PERIAPSIS_ALTITUDE = 342.79
PERIAPSIS_ARGUMENT_ANGLE = 172.46
PERIAPSIS_TIME = 2011-04-15T03:04:36.000Z
SPACECRAFT_ORIENTATION = (0.0,-1.0,0.0)
^MEX_ORIENTATION_DESC = "MEX_ORIENTATION_DESC.TXT"
SPACECRAFT_POINTING_MODE = NADIR
^MEX_POINTING_DESC = "MEX_POINTING_DESC.TXT"
RIGHT_ASCENSION = -1e+32
DECLINATION = -1e+32
OFFSET_ANGLE = -1e+32
SPACECRAFT_SOLAR_DISTANCE = 2.08075e+08
TARGET_NAME = MARS
/* CAMERA DATA ELEMENTS */
DETECTOR_TEMPERATURE = 18.3705
FOCAL_PLANE_TEMPERATURE = 8.1755
INST_CMPRS_NAME = "DISCRETE COSINE TRANSFORMATION (DCT)"
INST_CMPRS_RATIO = 23.2575
INST_CMPRS_QUALITY = 0
INST_CMPRS_QUANTZ_TBL_ID = 0
INSTRUMENT_TEMPERATURE = 11.234
LENS_TEMPERATURE = 8.5833
MACROPIXEL_SIZE = 8
MISSING_FRAMES = 0
PIXEL_SUBSAMPLING_FLAG = N
SIGNAL_CHAIN_ID = 2
/* RADIOMETRIC DATA ELEMENTS */
BANDWIDTH = 76.0
CENTER_FILTER_WAVELENGTH = 444.0
RADIANCE_OFFSET = 0.34438
RADIANCE_SCALING_FACTOR = 0.00116551
REFLECTANCE_SCALING_FACTOR = 5.18458e-05
MEX:REFLECTANCE_OFFSET = 0.0153192
/* IMAGE OBJECT DEFINITIONS */
OBJECT = IMAGE
  INTERCHANGE_FORMAT = BINARY
  LINES = 4839
  LINE_SAMPLES = 1072
  SAMPLE_TYPE = UNSIGNED_INTEGER
  SAMPLE_BITS = 8
  BANDS = 1
  BAND_STORAGE_TYPE = BAND_SEQUENTIAL
  MAXIMUM = 255
  MEAN = 91.0399
  MINIMUM = 2
  STANDARD_DEVIATION = 24.1652
END_OBJECT = IMAGE
/* MAP OBJECT DEFINITIONS */
OBJECT = IMAGE_MAP_PROJECTION
  ^DATA_SET_MAP_PROJECTION_CATALOG= "DSMAP.CAT"
  A_AXIS_RADIUS = 3396.0
  B_AXIS_RADIUS = 3396.0
  C_AXIS_RADIUS = 3396.0
  CENTER_LATITUDE = 0.0
  CENTER_LONGITUDE = 276.0
  COORDINATE_SYSTEM_NAME = PLANETOGRAPHIC
  COORDINATE_SYSTEM_TYPE = "BODY-FIXED ROTATING"
  EASTERNMOST_LONGITUDE = 276.789
  FIRST_STANDARD_PARALLEL = "N/A"
  LINE_FIRST_PIXEL = 1
  LINE_LAST_PIXEL = 4839
  LINE_PROJECTION_OFFSET = -6548.9375
  MAP_PROJECTION_ROTATION = 0.0
  MAP_PROJECTION_TYPE = SINUSOIDAL
  MAP_RESOLUTION = 592.713803866667
  MAP_SCALE = 0.1
  MAXIMUM_LATITUDE = -11.0533
  MINIMUM_LATITUDE = -19.2174
  POSITIVE_LONGITUDE_DIRECTION = EAST
  REFERENCE_LATITUDE = "N/A"
  REFERENCE_LONGITUDE = "N/A"
  SAMPLE_FIRST_PIXEL = 1
  SAMPLE_LAST_PIXEL = 1072
  SAMPLE_PROJECTION_OFFSET = 609.6875
  SECOND_STANDARD_PARALLEL = "N/A"
  WESTERNMOST_LONGITUDE = 274.974
END_OBJECT = IMAGE_MAP_PROJECTION
/* The JPEG2000 image data file associated with this label. */
OBJECT = COMPRESSED_FILE
  FILE_NAME = "H9302_0000_BL3.JP2"
  RECORD_TYPE = UNDEFINED
  FILE_RECORDS = UNK
  ENCODING_TYPE = "JP2"
  INTERCHANGE_FORMAT = BINARY
  UNCOMPRESSED_FILE_NAME = "H9302_0000_BL3.IMG"
  REQUIRED_STORAGE_BYTES = "5205632"
  ^DESCRIPTION = "JP2INFO.TXT"
END_OBJECT = COMPRESSED_FILE
END
