PDS_VERSION_ID = PDS3
/* FILE DATA ELEMENTS */
RECORD_TYPE = STREAM
/* POINTERS TO DATA OBJECTS */
^COMPRESSED_FILE = "H9302_0000_RE3.JP2"
/* IDENTIFICATION DATA ELEMENTS */
DATA_SET_ID = "MEX-M-HRSC-5-REFDR-MAPPROJECTED-V3.0"
DATA_SET_NAME = "MARS EXPRESS HRSC MAP PROJECTED REFDR V3.0"
DETECTOR_ID = MEX_HRSC_RED
EVENT_TYPE = "MARS-REGIONAL-MAPPING-Vo-Te"
INSTRUMENT_HOST_ID = MEX
INSTRUMENT_HOST_NAME = "MARS EXPRESS"
INSTRUMENT_ID = HRSC
INSTRUMENT_NAME = "HIGH RESOLUTION STEREO CAMERA"
MISSION_NAME = "MARS EXPRESS"
MISSION_PHASE_NAME = ME_Phase_23
PROCESSING_LEVEL_ID = 3
PRODUCT_CREATION_TIME = 2016-10-26T12:35:54.000Z
PRODUCT_ID = "H9302_0000_RE3.JP2"
RELEASE_ID = 0096
REVISION_ID = 0000
/* QUALITY DATA ELEMENTS */
DATA_QUALITY_ID = 1
DATA_QUALITY_DESC = "Data calculated based on original SPICE kernels"
/* TIME DATA ELEMENTS */
SPACECRAFT_CLOCK_START_COUNT = "1/0250916926.09370"
SPACECRAFT_CLOCK_STOP_COUNT = "1/0250917151.06474"
START_TIME = 2011-04-15T03:09:59.861Z
STOP_TIME = 2011-04-15T03:12:22.181Z
/* ORBITAL DATA ELEMENTS */
ASCENDING_NODE_LONGITUDE = 39.66
MAXIMUM_RESOLUTION = 144
FOOTPRINT_POINT_LATITUDE = (-11.0665,-11.066,-11.0645,-11.0628, -11.0611,-11.059,-11.1567,-11.5299, -11.8277,-12.132,-12.4358,-12.7388, -12.9697,-13.1243,-13.2788,-13.4333, -13.5872,-13.8198,-13.977,-14.134, -14.2909,-14.4473,-14.6037,-14.763, -14.9225,-15.082,-15.2412,-15.4001, -15.5612,-15.7237,-15.8859,-16.0474, -16.2089,-16.3723,-16.5369,-16.7011, -16.865,-17.0288,-17.1957,-17.4457, -17.6121,-17.8631,-18.0323,-18.2011, -18.4541,-18.6253,-18.7969,-18.9682, -19.1392,-19.2295,-19.2312,-19.2334, -19.2339,-19.234,-19.2334,-19.2325, -19.1432,-18.9724,-18.8013,-18.63, -18.459,-18.2905,-18.1218,-17.9531, -17.7838,-17.6176,-17.4506,-17.284, -17.1173,-16.9522,-16.7884,-16.6243, -16.3781,-16.2143,-16.0531,-15.8916, -15.7299,-15.5678,-15.4068,-15.2481, -15.0888,-14.9293,-14.7697,-14.6104, -14.454,-14.2973,-14.1405,-13.9835, -13.8263,-13.5937,-13.2857,-13.1311, -12.9763,-12.8215,-12.5186,-12.2152, -11.7606,-11.4627,-11.164,-11.0665)
FOOTPRINT_POINT_LONGITUDE = (276.493,276.305,276.002,275.772, 275.584,275.397,275.164,275.154,275.146 ,275.137,275.128,275.12,275.113,275.108 ,275.104,275.099,275.094,275.087, 275.082,275.078,275.073,275.068,275.063 ,275.058,275.053,275.047,275.042, 275.037,275.032,275.026,275.021,275.016 ,275.01,275.005,274.999,274.993,274.988 ,274.982,274.976,274.967,274.961, 274.952,274.946,274.94,274.93,274.924, 274.918,274.911,274.905,275.226,275.463 ,275.735,276.008,276.19,276.499,276.663 ,276.837,276.832,276.828,276.823, 276.819,276.815,276.811,276.807,276.803 ,276.799,276.795,276.792,276.788, 276.784,276.781,276.777,276.772,276.769 ,276.765,276.762,276.759,276.756, 276.753,276.75,276.747,276.744,276.741, 276.738,276.735,276.733,276.73,276.728, 276.725,276.721,276.716,276.714,276.712 ,276.71,276.705,276.701,276.695,276.691 ,276.688,276.493)
ORBIT_NUMBER = 9302
ORBITAL_ECCENTRICITY = 0.578
ORBITAL_INCLINATION = 86.84
ORBITAL_SEMIMAJOR_AXIS = 8865.12
PERIAPSIS_ALTITUDE = 342.79
PERIAPSIS_ARGUMENT_ANGLE = 172.46
PERIAPSIS_TIME = 2011-04-15T03:04:36.000Z
SPACECRAFT_ORIENTATION = (0.0,-1.0,0.0)
^MEX_ORIENTATION_DESC = "MEX_ORIENTATION_DESC.TXT"
SPACECRAFT_POINTING_MODE = NADIR
^MEX_POINTING_DESC = "MEX_POINTING_DESC.TXT"
RIGHT_ASCENSION = -1e+32
DECLINATION = -1e+32
OFFSET_ANGLE = -1e+32
SPACECRAFT_SOLAR_DISTANCE = 2.08075e+08
TARGET_NAME = MARS
/* CAMERA DATA ELEMENTS */
DETECTOR_TEMPERATURE = 18.5744
FOCAL_PLANE_TEMPERATURE = 8.1755
INST_CMPRS_NAME = "DISCRETE COSINE TRANSFORMATION (DCT)"
INST_CMPRS_RATIO = 24.4416
INST_CMPRS_QUALITY = 0
INST_CMPRS_QUANTZ_TBL_ID = 0
INSTRUMENT_TEMPERATURE = 11.234
LENS_TEMPERATURE = 8.5833
MACROPIXEL_SIZE = 8
MISSING_FRAMES = 0
PIXEL_SUBSAMPLING_FLAG = N
SIGNAL_CHAIN_ID = 2
/* RADIOMETRIC DATA ELEMENTS */
BANDWIDTH = 48.0
CENTER_FILTER_WAVELENGTH = 748.0
RADIANCE_OFFSET = 0.504025
RADIANCE_SCALING_FACTOR = 0.0027748
REFLECTANCE_SCALING_FACTOR = 0.000274158
MEX:REFLECTANCE_OFFSET = 0.049799
/* IMAGE OBJECT DEFINITIONS */
OBJECT = IMAGE
  INTERCHANGE_FORMAT = BINARY
  LINES = 4839
  LINE_SAMPLES = 1072
  SAMPLE_TYPE = UNSIGNED_INTEGER
  SAMPLE_BITS = 8
  BANDS = 1
  BAND_STORAGE_TYPE = BAND_SEQUENTIAL
  MAXIMUM = 255
  MEAN = 81.7595
  MINIMUM = 1
  STANDARD_DEVIATION = 17.8952
END_OBJECT = IMAGE
/* MAP OBJECT DEFINITIONS */
OBJECT = IMAGE_MAP_PROJECTION
  ^DATA_SET_MAP_PROJECTION_CATALOG= "DSMAP.CAT"
  A_AXIS_RADIUS = 3396.0
  B_AXIS_RADIUS = 3396.0
  C_AXIS_RADIUS = 3396.0
  CENTER_LATITUDE = 0.0
  CENTER_LONGITUDE = 276.0
  COORDINATE_SYSTEM_NAME = PLANETOGRAPHIC
  COORDINATE_SYSTEM_TYPE = "BODY-FIXED ROTATING"
  EASTERNMOST_LONGITUDE = 276.837
  FIRST_STANDARD_PARALLEL = "N/A"
  LINE_FIRST_PIXEL = 1
  LINE_LAST_PIXEL = 4839
  LINE_PROJECTION_OFFSET = -6548.9375
  MAP_PROJECTION_ROTATION = 0.0
  MAP_PROJECTION_TYPE = SINUSOIDAL
  MAP_RESOLUTION = 592.713803866667
  MAP_SCALE = 0.1
  MAXIMUM_LATITUDE = -11.059
  MINIMUM_LATITUDE = -19.234
  POSITIVE_LONGITUDE_DIRECTION = EAST
  REFERENCE_LATITUDE = "N/A"
  REFERENCE_LONGITUDE = "N/A"
  SAMPLE_FIRST_PIXEL = 1
  SAMPLE_LAST_PIXEL = 1072
  SAMPLE_PROJECTION_OFFSET = 609.6875
  SECOND_STANDARD_PARALLEL = "N/A"
  WESTERNMOST_LONGITUDE = 274.905
END_OBJECT = IMAGE_MAP_PROJECTION
/* The JPEG2000 image data file associated with this label. */
OBJECT = COMPRESSED_FILE
  FILE_NAME = "H9302_0000_RE3.JP2"
  RECORD_TYPE = UNDEFINED
  FILE_RECORDS = UNK
  ENCODING_TYPE = "JP2"
  INTERCHANGE_FORMAT = BINARY
  UNCOMPRESSED_FILE_NAME = "H9302_0000_RE3.IMG"
  REQUIRED_STORAGE_BYTES = "5205632"
  ^DESCRIPTION = "JP2INFO.TXT"
END_OBJECT = COMPRESSED_FILE
END
