PDS_VERSION_ID = PDS3
/* FILE DATA ELEMENTS */
RECORD_TYPE = STREAM
/* POINTERS TO DATA OBJECTS */
^COMPRESSED_FILE = "H9316_0000_IR3.JP2"
/* IDENTIFICATION DATA ELEMENTS */
DATA_SET_ID = "MEX-M-HRSC-5-REFDR-MAPPROJECTED-V3.0"
DATA_SET_NAME = "MARS EXPRESS HRSC MAP PROJECTED REFDR V3.0"
DETECTOR_ID = MEX_HRSC_IR
EVENT_TYPE = "MARS-REGIONAL-MAPPING-Vo-Te-Pf"
INSTRUMENT_HOST_ID = MEX
INSTRUMENT_HOST_NAME = "MARS EXPRESS"
INSTRUMENT_ID = HRSC
INSTRUMENT_NAME = "HIGH RESOLUTION STEREO CAMERA"
MISSION_NAME = "MARS EXPRESS"
MISSION_PHASE_NAME = ME_Phase_23
PROCESSING_LEVEL_ID = 3
PRODUCT_CREATION_TIME = 2016-10-26T12:35:54.000Z
PRODUCT_ID = "H9316_0000_IR3.JP2"
RELEASE_ID = 0096
REVISION_ID = 0000
/* QUALITY DATA ELEMENTS */
DATA_QUALITY_ID = 1
DATA_QUALITY_DESC = "Data calculated based on original SPICE kernels"
/* TIME DATA ELEMENTS */
SPACECRAFT_CLOCK_START_COUNT = "1/0251269448.08274"
SPACECRAFT_CLOCK_STOP_COUNT = "1/0251269672.57659"
START_TIME = 2011-04-19T05:04:17.543Z
STOP_TIME = 2011-04-19T05:06:17.291Z
/* ORBITAL DATA ELEMENTS */
ASCENDING_NODE_LONGITUDE = 39.38
MAXIMUM_RESOLUTION = 139.2
FOOTPRINT_POINT_LATITUDE = (-10.9606,-10.9586,-10.9562,-10.9542, -10.9524,-10.9506,-11.0723,-11.2841, -11.4267,-11.5688,-11.8533,-11.997, -12.2093,-12.3516,-12.4966,-12.6424, -12.7893,-13.0093,-13.1551,-13.3007, -13.4459,-13.5924,-13.7386,-13.8882, -14.0367,-14.1857,-14.3346,-14.558, -14.7089,-14.8612,-15.0137,-15.2414, -15.4687,-15.6203,-15.7758,-15.9315, -16.0869,-16.2423,-16.475,-16.6303, -16.7888,-16.9474,-17.1058,-17.3434, -17.5015,-17.7424,-17.9845,-18.1459, -18.3074,-18.4688,-18.6333,-18.6347, -18.6365,-18.6385,-18.641,-18.6423, -18.6437,-18.6454,-18.6447,-18.4801, -18.3187,-18.1575,-17.9961,-17.7538, -17.5923,-17.4341,-17.2757,-17.1171, -16.8792,-16.6411,-16.4862,-16.2538, -16.0208,-15.7882,-15.6331,-15.4813, -15.2535,-15.1016,-14.9494,-14.7973, -14.5701,-14.4212,-14.2723,-14.1235, -13.9743,-13.7511,-13.5266,-13.3812, -13.2354,-13.0895,-12.8709,-12.6519, -12.5059,-12.3607,-12.2184,-11.9344, -11.727,-11.5208,-11.2361,-10.9606)
FOOTPRINT_POINT_LONGITUDE = (284.563,284.355,284.09,283.868,283.659 ,283.437,283.224,283.218,283.215, 283.211,283.204,283.2,283.194,283.191, 283.187,283.183,283.178,283.172,283.168 ,283.164,283.16,283.156,283.153,283.149 ,283.145,283.14,283.136,283.13,283.125, 283.121,283.116,283.11,283.103,283.099, 283.094,283.089,283.084,283.08,283.073, 283.068,283.063,283.058,283.053,283.045 ,283.04,283.033,283.025,283.02,283.014, 283.009,283.004,283.203,283.507,283.725 ,284.045,284.197,284.349,284.551, 284.798,284.795,284.792,284.789,284.786 ,284.782,284.779,284.777,284.774, 284.771,284.767,284.763,284.761,284.758 ,284.754,284.751,284.748,284.746, 284.743,284.741,284.739,284.737,284.734 ,284.732,284.73,284.729,284.727,284.724 ,284.721,284.72,284.718,284.716,284.714 ,284.711,284.71,284.708,284.707,284.704 ,284.705,284.706,284.703,284.563)
ORBIT_NUMBER = 9316
ORBITAL_ECCENTRICITY = 0.578
ORBITAL_INCLINATION = 86.85
ORBITAL_SEMIMAJOR_AXIS = 8860.67
PERIAPSIS_ALTITUDE = 344.17
PERIAPSIS_ARGUMENT_ANGLE = 170.03
PERIAPSIS_TIME = 2011-04-19T04:59:23.000Z
SPACECRAFT_ORIENTATION = (0.0,-1.0,0.0)
^MEX_ORIENTATION_DESC = "MEX_ORIENTATION_DESC.TXT"
SPACECRAFT_POINTING_MODE = NADIR
^MEX_POINTING_DESC = "MEX_POINTING_DESC.TXT"
RIGHT_ASCENSION = -1e+32
DECLINATION = -1e+32
OFFSET_ANGLE = -1e+32
SPACECRAFT_SOLAR_DISTANCE = 2.08405e+08
TARGET_NAME = MARS
/* CAMERA DATA ELEMENTS */
DETECTOR_TEMPERATURE = 17.5549
FOCAL_PLANE_TEMPERATURE = 8.3794
INST_CMPRS_NAME = "DISCRETE COSINE TRANSFORMATION (DCT)"
INST_CMPRS_RATIO = 15.3878
INST_CMPRS_QUALITY = 0
INST_CMPRS_QUANTZ_TBL_ID = 0
INSTRUMENT_TEMPERATURE = 11.234
LENS_TEMPERATURE = 8.7872
MACROPIXEL_SIZE = 8
MISSING_FRAMES = 0
PIXEL_SUBSAMPLING_FLAG = N
SIGNAL_CHAIN_ID = 2
/* RADIOMETRIC DATA ELEMENTS */
BANDWIDTH = 81.0
CENTER_FILTER_WAVELENGTH = 955.5
RADIANCE_OFFSET = 0.347914
RADIANCE_SCALING_FACTOR = 0.00364969
REFLECTANCE_SCALING_FACTOR = 0.000341979
MEX:REFLECTANCE_OFFSET = 0.0325999
/* IMAGE OBJECT DEFINITIONS */
OBJECT = IMAGE
  INTERCHANGE_FORMAT = BINARY
  LINES = 4568
  LINE_SAMPLES = 1123
  SAMPLE_TYPE = UNSIGNED_INTEGER
  SAMPLE_BITS = 8
  BANDS = 1
  BAND_STORAGE_TYPE = BAND_SEQUENTIAL
  MAXIMUM = 255
  MEAN = 105.629
  MINIMUM = 1
  STANDARD_DEVIATION = 23.6375
END_OBJECT = IMAGE
/* MAP OBJECT DEFINITIONS */
OBJECT = IMAGE_MAP_PROJECTION
  ^DATA_SET_MAP_PROJECTION_CATALOG= "DSMAP.CAT"
  A_AXIS_RADIUS = 3396.0
  B_AXIS_RADIUS = 3396.0
  C_AXIS_RADIUS = 3396.0
  CENTER_LATITUDE = 0.0
  CENTER_LONGITUDE = 284.0
  COORDINATE_SYSTEM_NAME = PLANETOGRAPHIC
  COORDINATE_SYSTEM_TYPE = "BODY-FIXED ROTATING"
  EASTERNMOST_LONGITUDE = 284.798
  FIRST_STANDARD_PARALLEL = "N/A"
  LINE_FIRST_PIXEL = 1
  LINE_LAST_PIXEL = 4568
  LINE_PROJECTION_OFFSET = -6486.3125
  MAP_PROJECTION_ROTATION = 0.0
  MAP_PROJECTION_TYPE = SINUSOIDAL
  MAP_RESOLUTION = 592.713803866667
  MAP_SCALE = 0.1
  MAXIMUM_LATITUDE = -10.9506
  MINIMUM_LATITUDE = -18.6454
  POSITIVE_LONGITUDE_DIRECTION = EAST
  REFERENCE_LATITUDE = "N/A"
  REFERENCE_LONGITUDE = "N/A"
  SAMPLE_FIRST_PIXEL = 1
  SAMPLE_LAST_PIXEL = 1123
  SAMPLE_PROJECTION_OFFSET = 620.6875
  SECOND_STANDARD_PARALLEL = "N/A"
  WESTERNMOST_LONGITUDE = 283.004
END_OBJECT = IMAGE_MAP_PROJECTION
/* The JPEG2000 image data file associated with this label. */
OBJECT = COMPRESSED_FILE
  FILE_NAME = "H9316_0000_IR3.JP2"
  RECORD_TYPE = UNDEFINED
  FILE_RECORDS = UNK
  ENCODING_TYPE = "JP2"
  INTERCHANGE_FORMAT = BINARY
  UNCOMPRESSED_FILE_NAME = "H9316_0000_IR3.IMG"
  REQUIRED_STORAGE_BYTES = "5148955"
  ^DESCRIPTION = "JP2INFO.TXT"
END_OBJECT = COMPRESSED_FILE
END
