PDS_VERSION_ID = PDS3
/* FILE DATA ELEMENTS */
RECORD_TYPE = STREAM
/* POINTERS TO DATA OBJECTS */
^COMPRESSED_FILE = "H9316_0000_ND3.JP2"
/* IDENTIFICATION DATA ELEMENTS */
DATA_SET_ID = "MEX-M-HRSC-5-REFDR-MAPPROJECTED-V3.0"
DATA_SET_NAME = "MARS EXPRESS HRSC MAP PROJECTED REFDR V3.0"
DETECTOR_ID = MEX_HRSC_NADIR
EVENT_TYPE = "MARS-REGIONAL-MAPPING-Vo-Te-Pf"
INSTRUMENT_HOST_ID = MEX
INSTRUMENT_HOST_NAME = "MARS EXPRESS"
INSTRUMENT_ID = HRSC
INSTRUMENT_NAME = "HIGH RESOLUTION STEREO CAMERA"
MISSION_NAME = "MARS EXPRESS"
MISSION_PHASE_NAME = ME_Phase_23
PROCESSING_LEVEL_ID = 3
PRODUCT_CREATION_TIME = 2016-10-26T12:35:54.000Z
PRODUCT_ID = "H9316_0000_ND3.JP2"
RELEASE_ID = 0096
REVISION_ID = 0000
/* QUALITY DATA ELEMENTS */
DATA_QUALITY_ID = 1
DATA_QUALITY_DESC = "Data calculated based on original SPICE kernels"
/* TIME DATA ELEMENTS */
SPACECRAFT_CLOCK_START_COUNT = "1/0251269448.08274"
SPACECRAFT_CLOCK_STOP_COUNT = "1/0251269672.57659"
START_TIME = 2011-04-19T05:04:50.032Z
STOP_TIME = 2011-04-19T05:06:57.015Z
/* ORBITAL DATA ELEMENTS */
ASCENDING_NODE_LONGITUDE = 39.38
MAXIMUM_RESOLUTION = 17.3
FOOTPRINT_POINT_LATITUDE = (-10.9544,-10.952,-10.9503,-10.9478, -10.9462,-10.9447,-11.0857,-11.3704, -11.8063,-12.097,-12.3873,-12.5345, -12.6828,-12.8311,-12.9793,-13.1273, -13.2753,-13.4231,-13.5743,-13.7255, -13.8765,-14.0274,-14.1781,-14.3287, -14.4817,-14.6355,-14.7893,-14.9429, -15.0963,-15.2496,-15.4842,-15.6407, -15.797,-15.9532,-16.1092,-16.2684, -16.4276,-16.5866,-16.7455,-16.9043, -17.0658,-17.2277,-17.3894,-17.5509, -17.7123,-17.9588,-18.1232,-18.2874, -18.4515,-18.6179,-18.6396,-18.6421, -18.6438,-18.6465,-18.6481,-18.6489, -18.649,-18.4823,-18.3183,-18.1541, -17.9898,-17.8253,-17.5817,-17.4202, -17.2585,-17.0967,-16.9348,-16.7761, -16.6173,-16.4582,-16.2991,-16.0616, -15.9055,-15.7493,-15.5929,-15.4364, -15.2797,-15.1264,-14.9729,-14.8194, -14.6657,-14.5118,-14.3585,-14.2079, -14.0572,-13.9063,-13.7553,-13.6042, -13.3788,-13.2309,-13.0829,-12.9348, -12.7865,-12.6382,-12.4164,-12.1261, -11.6898,-11.3987,-11.1141,-10.9544)
FOOTPRINT_POINT_LONGITUDE = (284.578,284.226,283.996,283.706, 283.537,283.384,283.18,283.172,283.16, 283.152,283.143,283.139,283.134,283.13, 283.125,283.12,283.116,283.111,283.107, 283.103,283.099,283.094,283.089,283.085 ,283.08,283.075,283.07,283.065,283.06, 283.055,283.047,283.042,283.037,283.032 ,283.027,283.021,283.016,283.01,283.005 ,282.999,282.994,282.988,282.982, 282.977,282.971,282.962,282.956,282.95, 282.944,282.938,283.163,283.427,283.634 ,284.029,284.349,284.594,284.848, 284.844,284.841,284.837,284.834,284.83, 284.825,284.822,284.819,284.815,284.812 ,284.809,284.806,284.803,284.8,284.796, 284.793,284.791,284.788,284.785,284.783 ,284.78,284.778,284.775,284.773,284.77, 284.768,284.766,284.763,284.761,284.759 ,284.757,284.753,284.751,284.749, 284.747,284.745,284.743,284.74,284.737, 284.734,284.737,284.733,284.578)
ORBIT_NUMBER = 9316
ORBITAL_ECCENTRICITY = 0.578
ORBITAL_INCLINATION = 86.85
ORBITAL_SEMIMAJOR_AXIS = 8860.67
PERIAPSIS_ALTITUDE = 344.17
PERIAPSIS_ARGUMENT_ANGLE = 170.03
PERIAPSIS_TIME = 2011-04-19T04:59:23.000Z
SPACECRAFT_ORIENTATION = (0.0,-1.0,0.0)
^MEX_ORIENTATION_DESC = "MEX_ORIENTATION_DESC.TXT"
SPACECRAFT_POINTING_MODE = NADIR
^MEX_POINTING_DESC = "MEX_POINTING_DESC.TXT"
RIGHT_ASCENSION = -1e+32
DECLINATION = -1e+32
OFFSET_ANGLE = -1e+32
SPACECRAFT_SOLAR_DISTANCE = 2.08405e+08
TARGET_NAME = MARS
/* CAMERA DATA ELEMENTS */
DETECTOR_TEMPERATURE = 18.3705
FOCAL_PLANE_TEMPERATURE = 8.3794
INST_CMPRS_NAME = "DISCRETE COSINE TRANSFORMATION (DCT)"
INST_CMPRS_RATIO = 7.52702
INST_CMPRS_QUALITY = 0
INST_CMPRS_QUANTZ_TBL_ID = 0
INSTRUMENT_TEMPERATURE = 11.234
LENS_TEMPERATURE = 8.7872
MACROPIXEL_SIZE = 1
MISSING_FRAMES = 0
PIXEL_SUBSAMPLING_FLAG = N
SIGNAL_CHAIN_ID = 0
/* RADIOMETRIC DATA ELEMENTS */
BANDWIDTH = 177.0
CENTER_FILTER_WAVELENGTH = 677.5
RADIANCE_OFFSET = 1.53226
RADIANCE_SCALING_FACTOR = 0.0130627
REFLECTANCE_SCALING_FACTOR = 0.000301394
MEX:REFLECTANCE_OFFSET = 0.0353535
/* IMAGE OBJECT DEFINITIONS */
OBJECT = IMAGE
  INTERCHANGE_FORMAT = BINARY
  LINES = 36542
  LINE_SAMPLES = 8984
  SAMPLE_TYPE = UNSIGNED_INTEGER
  SAMPLE_BITS = 8
  BANDS = 1
  BAND_STORAGE_TYPE = BAND_SEQUENTIAL
  MAXIMUM = 255
  MEAN = 97.1527
  MINIMUM = 1
  STANDARD_DEVIATION = 22.3429
END_OBJECT = IMAGE
/* MAP OBJECT DEFINITIONS */
OBJECT = IMAGE_MAP_PROJECTION
  ^DATA_SET_MAP_PROJECTION_CATALOG= "DSMAP.CAT"
  A_AXIS_RADIUS = 3396.0
  B_AXIS_RADIUS = 3396.0
  C_AXIS_RADIUS = 3396.0
  CENTER_LATITUDE = 0.0
  CENTER_LONGITUDE = 284.0
  COORDINATE_SYSTEM_NAME = PLANETOGRAPHIC
  COORDINATE_SYSTEM_TYPE = "BODY-FIXED ROTATING"
  EASTERNMOST_LONGITUDE = 284.848
  FIRST_STANDARD_PARALLEL = "N/A"
  LINE_FIRST_PIXEL = 1
  LINE_LAST_PIXEL = 36542
  LINE_PROJECTION_OFFSET = -51887.0
  MAP_PROJECTION_ROTATION = 0.0
  MAP_PROJECTION_TYPE = SINUSOIDAL
  MAP_RESOLUTION = 4741.71043093333
  MAP_SCALE = 0.0125
  MAXIMUM_LATITUDE = -10.9447
  MINIMUM_LATITUDE = -18.649
  POSITIVE_LONGITUDE_DIRECTION = EAST
  REFERENCE_LATITUDE = "N/A"
  REFERENCE_LONGITUDE = "N/A"
  SAMPLE_FIRST_PIXEL = 1
  SAMPLE_LAST_PIXEL = 8984
  SAMPLE_PROJECTION_OFFSET = 4969.0
  SECOND_STANDARD_PARALLEL = "N/A"
  WESTERNMOST_LONGITUDE = 282.938
END_OBJECT = IMAGE_MAP_PROJECTION
/* The JPEG2000 image data file associated with this label. */
OBJECT = COMPRESSED_FILE
  FILE_NAME = "H9316_0000_ND3.JP2"
  RECORD_TYPE = UNDEFINED
  FILE_RECORDS = UNK
  ENCODING_TYPE = "JP2"
  INTERCHANGE_FORMAT = BINARY
  UNCOMPRESSED_FILE_NAME = "H9316_0000_ND3.IMG"
  REQUIRED_STORAGE_BYTES = "328329264"
  ^DESCRIPTION = "JP2INFO.TXT"
END_OBJECT = COMPRESSED_FILE
END
