PDS_VERSION_ID = PDS3
/* FILE DATA ELEMENTS */
RECORD_TYPE = STREAM
/* POINTERS TO DATA OBJECTS */
^COMPRESSED_FILE = "H9319_0000_GR3.JP2"
/* IDENTIFICATION DATA ELEMENTS */
DATA_SET_ID = "MEX-M-HRSC-5-REFDR-MAPPROJECTED-V3.0"
DATA_SET_NAME = "MARS EXPRESS HRSC MAP PROJECTED REFDR V3.0"
DETECTOR_ID = MEX_HRSC_GREEN
EVENT_TYPE = "MARS-REGIONAL-MAPPING-Im-Fl"
INSTRUMENT_HOST_ID = MEX
INSTRUMENT_HOST_NAME = "MARS EXPRESS"
INSTRUMENT_ID = HRSC
INSTRUMENT_NAME = "HIGH RESOLUTION STEREO CAMERA"
MISSION_NAME = "MARS EXPRESS"
MISSION_PHASE_NAME = ME_Phase_23
PROCESSING_LEVEL_ID = 3
PRODUCT_CREATION_TIME = 2016-10-26T12:35:54.000Z
PRODUCT_ID = "H9319_0000_GR3.JP2"
RELEASE_ID = 0096
REVISION_ID = 0000
/* QUALITY DATA ELEMENTS */
DATA_QUALITY_ID = 1
DATA_QUALITY_DESC = "Data calculated based on original SPICE kernels"
/* TIME DATA ELEMENTS */
SPACECRAFT_CLOCK_START_COUNT = "1/0251345058.09044"
SPACECRAFT_CLOCK_STOP_COUNT = "1/0251345465.36729"
START_TIME = 2011-04-20T02:04:58.097Z
STOP_TIME = 2011-04-20T02:09:18.761Z
/* ORBITAL DATA ELEMENTS */
ASCENDING_NODE_LONGITUDE = 39.33
MAXIMUM_RESOLUTION = 78.9
FOOTPRINT_POINT_LATITUDE = (-16.0366,-16.0329,-16.0288,-16.0257, -16.287,-16.8058,-17.0698,-17.3341, -17.5979,-17.8662,-18.1347,-18.5404, -18.8124,-19.0852,-19.5001,-19.7774, -20.1982,-20.4794,-20.7635,-21.0493, -21.4817,-21.7709,-22.2096,-22.5037, -22.9499,-23.2484,-23.5509,-23.853, -24.1598,-24.4658,-24.7767,-25.2454, -25.5606,-25.8776,-26.3571,-26.6794, -27.0051,-27.4981,-27.8283,-28.1624, -28.4986,-29.0073,-29.349,-29.6947, -30.0427,-30.3929,-30.7459,-31.1224, -31.1268,-31.129,-31.1288,-31.1278, -31.122,-30.766,-30.4137,-30.064, -29.7162,-29.3709,-29.0301,-28.6899, -28.3526,-28.0183,-27.6859,-27.3558, -27.029,-26.7033,-26.3813,-26.0608, -25.7428,-25.2696,-24.9565,-24.6464, -24.1847,-23.878,-23.5758,-23.124, -22.8261,-22.5289,-22.2349,-21.9413, -21.6521,-21.2185,-20.933,-20.506, -20.2248,-19.8039,-19.5269,-19.1119, -18.8393,-18.5665,-18.296,-17.8932, -17.6244,-17.3606,-17.0965,-16.8324, -16.5732,-16.3135,-16.0535,-16.0366)
FOOTPRINT_POINT_LONGITUDE = (337.766,337.254,336.809,336.511, 336.262,336.245,336.236,336.227,336.218 ,336.209,336.2,336.183,336.175,336.165, 336.15,336.139,336.123,336.113,336.102, 336.091,336.072,336.062,336.045,336.033 ,336.015,336.002,335.99,335.977,335.964 ,335.951,335.937,335.916,335.9,335.888, 335.867,335.852,335.837,335.812,335.797 ,335.781,335.765,335.74,335.723,335.705 ,335.687,335.669,335.65,335.955,336.5, 337.153,337.589,337.917,338.554,338.535 ,338.516,338.499,338.481,338.464,338.45 ,338.432,338.418,338.402,338.388, 338.374,338.361,338.348,338.335,338.322 ,338.311,338.293,338.282,338.271, 338.255,338.245,338.235,338.221,338.212 ,338.203,338.194,338.187,338.18,338.168 ,338.16,338.15,338.143,338.132,338.125, 338.116,338.11,338.104,338.099,338.09, 338.084,338.078,338.073,338.068,338.064 ,338.059,338.055,337.766)
ORBIT_NUMBER = 9319
ORBITAL_ECCENTRICITY = 0.577
ORBITAL_INCLINATION = 86.86
ORBITAL_SEMIMAJOR_AXIS = 8850.67
PERIAPSIS_ALTITUDE = 345.03
PERIAPSIS_ARGUMENT_ANGLE = 169.47
PERIAPSIS_TIME = 2011-04-20T01:58:06.000Z
SPACECRAFT_ORIENTATION = (0.0,-1.0,0.0)
^MEX_ORIENTATION_DESC = "MEX_ORIENTATION_DESC.TXT"
SPACECRAFT_POINTING_MODE = ACROSSTRACK
^MEX_POINTING_DESC = "MEX_POINTING_DESC.TXT"
RIGHT_ASCENSION = -1e+32
DECLINATION = -1e+32
OFFSET_ANGLE = 0.05
SPACECRAFT_SOLAR_DISTANCE = 2.08479e+08
TARGET_NAME = MARS
/* CAMERA DATA ELEMENTS */
DETECTOR_TEMPERATURE = 18.1666
FOCAL_PLANE_TEMPERATURE = 8.3794
INST_CMPRS_NAME = "DISCRETE COSINE TRANSFORMATION (DCT)"
INST_CMPRS_RATIO = 15.1264
INST_CMPRS_QUALITY = 0
INST_CMPRS_QUANTZ_TBL_ID = 0
INSTRUMENT_TEMPERATURE = 11.234
LENS_TEMPERATURE = 10.0106
MACROPIXEL_SIZE = 4
MISSING_FRAMES = 0
PIXEL_SUBSAMPLING_FLAG = N
SIGNAL_CHAIN_ID = 2
/* RADIOMETRIC DATA ELEMENTS */
BANDWIDTH = 88.0
CENTER_FILTER_WAVELENGTH = 538.0
RADIANCE_OFFSET = 1.07524
RADIANCE_SCALING_FACTOR = 0.00282762
REFLECTANCE_SCALING_FACTOR = 0.000105813
MEX:REFLECTANCE_OFFSET = 0.0402368
/* IMAGE OBJECT DEFINITIONS */
OBJECT = IMAGE
  INTERCHANGE_FORMAT = BINARY
  LINES = 8961
  LINE_SAMPLES = 1555
  SAMPLE_TYPE = UNSIGNED_INTEGER
  SAMPLE_BITS = 8
  BANDS = 1
  BAND_STORAGE_TYPE = BAND_SEQUENTIAL
  MAXIMUM = 255
  MEAN = 109.596
  MINIMUM = 1
  STANDARD_DEVIATION = 28.3042
END_OBJECT = IMAGE
/* MAP OBJECT DEFINITIONS */
OBJECT = IMAGE_MAP_PROJECTION
  ^DATA_SET_MAP_PROJECTION_CATALOG= "DSMAP.CAT"
  A_AXIS_RADIUS = 3396.0
  B_AXIS_RADIUS = 3396.0
  C_AXIS_RADIUS = 3396.0
  CENTER_LATITUDE = 0.0
  CENTER_LONGITUDE = 337.0
  COORDINATE_SYSTEM_NAME = PLANETOGRAPHIC
  COORDINATE_SYSTEM_TYPE = "BODY-FIXED ROTATING"
  EASTERNMOST_LONGITUDE = 338.554
  FIRST_STANDARD_PARALLEL = "N/A"
  LINE_FIRST_PIXEL = 1
  LINE_LAST_PIXEL = 8961
  LINE_PROJECTION_OFFSET = -9488.875
  MAP_PROJECTION_ROTATION = 0.0
  MAP_PROJECTION_TYPE = SINUSOIDAL
  MAP_RESOLUTION = 592.713803866667
  MAP_SCALE = 0.1
  MAXIMUM_LATITUDE = -16.0257
  MINIMUM_LATITUDE = -31.129
  POSITIVE_LONGITUDE_DIRECTION = EAST
  REFERENCE_LATITUDE = "N/A"
  REFERENCE_LONGITUDE = "N/A"
  SAMPLE_FIRST_PIXEL = 1
  SAMPLE_LAST_PIXEL = 1555
  SAMPLE_PROJECTION_OFFSET = 733.375
  SECOND_STANDARD_PARALLEL = "N/A"
  WESTERNMOST_LONGITUDE = 335.65
END_OBJECT = IMAGE_MAP_PROJECTION
/* The JPEG2000 image data file associated with this label. */
OBJECT = COMPRESSED_FILE
  FILE_NAME = "H9319_0000_GR3.JP2"
  RECORD_TYPE = UNDEFINED
  FILE_RECORDS = UNK
  ENCODING_TYPE = "JP2"
  INTERCHANGE_FORMAT = BINARY
  UNCOMPRESSED_FILE_NAME = "H9319_0000_GR3.IMG"
  REQUIRED_STORAGE_BYTES = "13954570"
  ^DESCRIPTION = "JP2INFO.TXT"
END_OBJECT = COMPRESSED_FILE
END
