PDS_VERSION_ID = PDS3
/* FILE DATA ELEMENTS */
RECORD_TYPE = STREAM
/* POINTERS TO DATA OBJECTS */
^COMPRESSED_FILE = "H9322_0000_GR3.JP2"
/* IDENTIFICATION DATA ELEMENTS */
DATA_SET_ID = "MEX-M-HRSC-5-REFDR-MAPPROJECTED-V3.0"
DATA_SET_NAME = "MARS EXPRESS HRSC MAP PROJECTED REFDR V3.0"
DETECTOR_ID = MEX_HRSC_GREEN
EVENT_TYPE = "MARS-REGIONAL-MAPPING-Im-Fl"
INSTRUMENT_HOST_ID = MEX
INSTRUMENT_HOST_NAME = "MARS EXPRESS"
INSTRUMENT_ID = HRSC
INSTRUMENT_NAME = "HIGH RESOLUTION STEREO CAMERA"
MISSION_NAME = "MARS EXPRESS"
MISSION_PHASE_NAME = ME_Phase_23
PROCESSING_LEVEL_ID = 3
PRODUCT_CREATION_TIME = 2016-10-26T12:35:54.000Z
PRODUCT_ID = "H9322_0000_GR3.JP2"
RELEASE_ID = 0096
REVISION_ID = 0000
/* QUALITY DATA ELEMENTS */
DATA_QUALITY_ID = 1
DATA_QUALITY_DESC = "Data calculated based on original SPICE kernels"
/* TIME DATA ELEMENTS */
SPACECRAFT_CLOCK_START_COUNT = "1/0251420425.07292"
SPACECRAFT_CLOCK_STOP_COUNT = "1/0251420683.62098"
START_TIME = 2011-04-20T23:00:57.378Z
STOP_TIME = 2011-04-20T23:03:44.585Z
/* ORBITAL DATA ELEMENTS */
ASCENDING_NODE_LONGITUDE = 39.27
MAXIMUM_RESOLUTION = 62.7
FOOTPRINT_POINT_LATITUDE = (-4.46338,-4.45961,-4.45585,-4.45211, -4.44839,-4.44468,-4.44102,-4.73126, -4.92619,-5.21843,-5.41307,-5.60754, -5.89901,-6.38436,-6.68144,-6.88032, -7.07893,-7.37697,-7.57532,-7.87553, -8.07884,-8.28144,-8.48451,-8.68724, -8.88973,-9.09445,-9.30196,-9.61297, -9.81985,-10.1302,-10.3409,-10.5526, -10.764,-10.9752,-11.1872,-11.4016, -11.6166,-11.8323,-12.0476,-12.2627, -12.5922,-12.8118,-13.0313,-13.2504, -13.4742,-13.698,-13.922,-14.1448, -14.4856,-14.7133,-14.8886,-14.892, -14.8953,-14.8989,-14.9012,-14.9034, -14.905,-14.6778,-14.4502,-14.2222, -13.9991,-13.7758,-13.5522,-13.2178, -12.9985,-12.7791,-12.5594,-12.2313, -12.0162,-11.8009,-11.4775,-11.2619, -11.0508,-10.8405,-10.6296,-10.4183, -10.1023,-9.8943,-9.6892,-9.48218, -9.2749,-8.96536,-8.66094,-8.4574, -8.15333,-7.95055,-7.74879,-7.55056, -7.35217,-7.15364,-6.9549,-6.75609, -6.45785,-6.16681,-5.77841,-5.38933, -5.19472,-5.00002,-4.80513,-4.46338)
FOOTPRINT_POINT_LONGITUDE = (32.1173,31.8997,31.6847,31.4723, 31.2628,31.0557,30.8507,30.751,30.7473, 30.7417,30.738,30.7341,30.7283,30.7187, 30.7128,30.7087,30.7044,30.6984,30.6942 ,30.6881,30.6838,30.679,30.6747,30.6703 ,30.6658,30.6614,30.6568,30.65,30.6453, 30.6384,30.6336,30.6288,30.624,30.6191, 30.615,30.61,30.6043,30.5993,30.5942, 30.589,30.5811,30.5757,30.5703,30.5649, 30.5593,30.5537,30.5484,30.5424,30.5337 ,30.5278,30.7304,30.9727,31.2334, 31.5463,31.763,31.9814,32.2928,32.2883, 32.2837,32.2788,32.2743,32.2701,32.2658 ,32.2593,32.2546,32.2503,32.2461, 32.2403,32.2368,32.2333,32.2277,32.224, 32.2198,32.2201,32.219,32.2167,32.2089, 32.2006,32.2068,32.2047,32.2024,32.1988 ,32.1929,32.1871,32.1859,32.1859, 32.1857,32.1841,32.1825,32.1809,32.1791 ,32.1776,32.1754,32.1729,32.1703,32.167 ,32.166,32.1652,32.1641,32.1173)
ORBIT_NUMBER = 9322
ORBITAL_ECCENTRICITY = 0.578
ORBITAL_INCLINATION = 86.84
ORBITAL_SEMIMAJOR_AXIS = 8858.53
PERIAPSIS_ALTITUDE = 345.05
PERIAPSIS_ARGUMENT_ANGLE = 168.98
PERIAPSIS_TIME = 2011-04-20T22:57:03.000Z
SPACECRAFT_ORIENTATION = (0.0,-1.0,0.0)
^MEX_ORIENTATION_DESC = "MEX_ORIENTATION_DESC.TXT"
SPACECRAFT_POINTING_MODE = ACROSSTRACK
^MEX_POINTING_DESC = "MEX_POINTING_DESC.TXT"
RIGHT_ASCENSION = -1e+32
DECLINATION = -1e+32
OFFSET_ANGLE = 1.1
SPACECRAFT_SOLAR_DISTANCE = 2.08556e+08
TARGET_NAME = MARS
/* CAMERA DATA ELEMENTS */
DETECTOR_TEMPERATURE = 18.1666
FOCAL_PLANE_TEMPERATURE = 8.9911
INST_CMPRS_NAME = "DISCRETE COSINE TRANSFORMATION (DCT)"
INST_CMPRS_RATIO = 16.3636
INST_CMPRS_QUALITY = 0
INST_CMPRS_QUANTZ_TBL_ID = 0
INSTRUMENT_TEMPERATURE = 11.0301
LENS_TEMPERATURE = 8.1755
MACROPIXEL_SIZE = 4
MISSING_FRAMES = 0
PIXEL_SUBSAMPLING_FLAG = N
SIGNAL_CHAIN_ID = 2
/* RADIOMETRIC DATA ELEMENTS */
BANDWIDTH = 88.0
CENTER_FILTER_WAVELENGTH = 538.0
RADIANCE_OFFSET = 0.822784
RADIANCE_SCALING_FACTOR = 0.00262162
REFLECTANCE_SCALING_FACTOR = 9.8176e-05
MEX:REFLECTANCE_OFFSET = 0.0308122
/* IMAGE OBJECT DEFINITIONS */
OBJECT = IMAGE
  INTERCHANGE_FORMAT = BINARY
  LINES = 12392
  LINE_SAMPLES = 2177
  SAMPLE_TYPE = UNSIGNED_INTEGER
  SAMPLE_BITS = 8
  BANDS = 1
  BAND_STORAGE_TYPE = BAND_SEQUENTIAL
  MAXIMUM = 255
  MEAN = 94.3257
  MINIMUM = 1
  STANDARD_DEVIATION = 25.9125
END_OBJECT = IMAGE
/* MAP OBJECT DEFINITIONS */
OBJECT = IMAGE_MAP_PROJECTION
  ^DATA_SET_MAP_PROJECTION_CATALOG= "DSMAP.CAT"
  A_AXIS_RADIUS = 3396.0
  B_AXIS_RADIUS = 3396.0
  C_AXIS_RADIUS = 3396.0
  CENTER_LATITUDE = 0.0
  CENTER_LONGITUDE = 31.0
  COORDINATE_SYSTEM_NAME = PLANETOGRAPHIC
  COORDINATE_SYSTEM_TYPE = "BODY-FIXED ROTATING"
  EASTERNMOST_LONGITUDE = 32.2928
  FIRST_STANDARD_PARALLEL = "N/A"
  LINE_FIRST_PIXEL = 1
  LINE_LAST_PIXEL = 12392
  LINE_PROJECTION_OFFSET = -5266.875
  MAP_PROJECTION_ROTATION = 0.0
  MAP_PROJECTION_TYPE = SINUSOIDAL
  MAP_RESOLUTION = 1185.42760773333
  MAP_SCALE = 0.05
  MAXIMUM_LATITUDE = -4.44102
  MINIMUM_LATITUDE = -14.905
  POSITIVE_LONGITUDE_DIRECTION = EAST
  REFERENCE_LATITUDE = "N/A"
  REFERENCE_LONGITUDE = "N/A"
  SAMPLE_FIRST_PIXEL = 1
  SAMPLE_LAST_PIXEL = 2177
  SAMPLE_PROJECTION_OFFSET = 566.125
  SECOND_STANDARD_PARALLEL = "N/A"
  WESTERNMOST_LONGITUDE = 30.5278
END_OBJECT = IMAGE_MAP_PROJECTION
/* The JPEG2000 image data file associated with this label. */
OBJECT = COMPRESSED_FILE
  FILE_NAME = "H9322_0000_GR3.JP2"
  RECORD_TYPE = UNDEFINED
  FILE_RECORDS = UNK
  ENCODING_TYPE = "JP2"
  INTERCHANGE_FORMAT = BINARY
  UNCOMPRESSED_FILE_NAME = "H9322_0000_GR3.IMG"
  REQUIRED_STORAGE_BYTES = "26999154"
  ^DESCRIPTION = "JP2INFO.TXT"
END_OBJECT = COMPRESSED_FILE
END
