PDS_VERSION_ID = PDS3
/* FILE DATA ELEMENTS */
RECORD_TYPE = STREAM
/* POINTERS TO DATA OBJECTS */
^COMPRESSED_FILE = "H9322_0000_RE3.JP2"
/* IDENTIFICATION DATA ELEMENTS */
DATA_SET_ID = "MEX-M-HRSC-5-REFDR-MAPPROJECTED-V3.0"
DATA_SET_NAME = "MARS EXPRESS HRSC MAP PROJECTED REFDR V3.0"
DETECTOR_ID = MEX_HRSC_RED
EVENT_TYPE = "MARS-REGIONAL-MAPPING-Im-Fl"
INSTRUMENT_HOST_ID = MEX
INSTRUMENT_HOST_NAME = "MARS EXPRESS"
INSTRUMENT_ID = HRSC
INSTRUMENT_NAME = "HIGH RESOLUTION STEREO CAMERA"
MISSION_NAME = "MARS EXPRESS"
MISSION_PHASE_NAME = ME_Phase_23
PROCESSING_LEVEL_ID = 3
PRODUCT_CREATION_TIME = 2016-10-26T12:35:54.000Z
PRODUCT_ID = "H9322_0000_RE3.JP2"
RELEASE_ID = 0096
REVISION_ID = 0000
/* QUALITY DATA ELEMENTS */
DATA_QUALITY_ID = 1
DATA_QUALITY_DESC = "Data calculated based on original SPICE kernels"
/* TIME DATA ELEMENTS */
SPACECRAFT_CLOCK_START_COUNT = "1/0251420425.07292"
SPACECRAFT_CLOCK_STOP_COUNT = "1/0251420683.62098"
START_TIME = 2011-04-20T23:01:35.438Z
STOP_TIME = 2011-04-20T23:04:35.033Z
/* ORBITAL DATA ELEMENTS */
ASCENDING_NODE_LONGITUDE = 39.27
MAXIMUM_RESOLUTION = 68.4
FOOTPRINT_POINT_LATITUDE = (-4.42517,-4.43625,-4.44686,-4.45697, -4.46658,-4.47577,-4.49444,-4.87919, -5.16674,-5.5541,-5.74997,-5.94586, -6.14145,-6.53155,-6.73054,-6.93015, -7.22885,-7.52695,-7.72661,-7.92877, -8.13192,-8.3362,-8.53791,-8.74144, -8.94786,-9.1531,-9.46097,-9.77167, -9.98117,-10.1898,-10.3991,-10.6075, -10.8202,-11.0326,-11.2393,-11.451, -11.6703,-11.9929,-12.2079,-12.4255, -12.6445,-12.8632,-13.1922,-13.4145, -13.6366,-13.8555,-14.083,-14.3086, -14.5328,-14.9462,-14.9379,-14.9212, -14.9108,-14.8958,-14.8745,-14.6392, -14.4128,-14.1889,-13.9642,-13.7399, -13.519,-13.2976,-12.9666,-12.64, -12.4224,-12.0962,-11.774,-11.5589, -11.3447,-11.1345,-10.8129,-10.5986, -10.3876,-10.18,-9.98011,-9.76611, -9.55294,-9.34795,-9.14271,-8.93715, -8.73173,-8.53391,-8.33201,-8.1285, -7.92354,-7.71953,-7.51819,-7.22038, -7.02193,-6.823,-6.62358,-6.42553, -6.03624,-5.84068,-5.64559,-5.45014, -5.25505,-4.87216,-4.58523,-4.42517)
FOOTPRINT_POINT_LONGITUDE = (32.0369,31.8103,31.5863,31.365,31.1465 ,30.9303,30.7242,30.7159,30.7097, 30.7012,30.6968,30.6924,30.688,30.6791, 30.6745,30.6698,30.6628,30.6557,30.6509 ,30.6462,30.6411,30.6359,30.6309, 30.6258,30.6206,30.6155,30.6077,30.5997 ,30.5942,30.5888,30.5833,30.5778, 30.5721,30.5664,30.5614,30.5556,30.5492 ,30.5403,30.5343,30.5281,30.5219, 30.5156,30.5061,30.4996,30.493,30.4866, 30.4797,30.4728,30.466,30.4533,30.7127, 31.1691,31.4355,31.7947,32.2503,32.3614 ,32.3558,32.3499,32.3443,32.339,32.3337 ,32.3285,32.3201,32.3126,32.3071, 32.3006,32.2939,32.2893,32.2847,32.2797 ,32.277,32.2748,32.2719,32.2677,32.2568 ,32.2576,32.2582,32.2551,32.252,32.249, 32.2457,32.2373,32.2348,32.2335,32.2332 ,32.2319,32.2296,32.2264,32.224,32.2217 ,32.2198,32.2177,32.2133,32.2116, 32.2093,32.2072,32.2057,32.2025,32.1995 ,32.0369)
ORBIT_NUMBER = 9322
ORBITAL_ECCENTRICITY = 0.578
ORBITAL_INCLINATION = 86.84
ORBITAL_SEMIMAJOR_AXIS = 8858.53
PERIAPSIS_ALTITUDE = 345.05
PERIAPSIS_ARGUMENT_ANGLE = 168.98
PERIAPSIS_TIME = 2011-04-20T22:57:03.000Z
SPACECRAFT_ORIENTATION = (0.0,-1.0,0.0)
^MEX_ORIENTATION_DESC = "MEX_ORIENTATION_DESC.TXT"
SPACECRAFT_POINTING_MODE = ACROSSTRACK
^MEX_POINTING_DESC = "MEX_POINTING_DESC.TXT"
RIGHT_ASCENSION = -1e+32
DECLINATION = -1e+32
OFFSET_ANGLE = 1.1
SPACECRAFT_SOLAR_DISTANCE = 2.08556e+08
TARGET_NAME = MARS
/* CAMERA DATA ELEMENTS */
DETECTOR_TEMPERATURE = 18.3705
FOCAL_PLANE_TEMPERATURE = 8.9911
INST_CMPRS_NAME = "DISCRETE COSINE TRANSFORMATION (DCT)"
INST_CMPRS_RATIO = 22.4286
INST_CMPRS_QUALITY = 0
INST_CMPRS_QUANTZ_TBL_ID = 0
INSTRUMENT_TEMPERATURE = 11.0301
LENS_TEMPERATURE = 8.1755
MACROPIXEL_SIZE = 4
MISSING_FRAMES = 0
PIXEL_SUBSAMPLING_FLAG = N
SIGNAL_CHAIN_ID = 2
/* RADIOMETRIC DATA ELEMENTS */
BANDWIDTH = 48.0
CENTER_FILTER_WAVELENGTH = 748.0
RADIANCE_OFFSET = 0.48771
RADIANCE_SCALING_FACTOR = 0.00281263
REFLECTANCE_SCALING_FACTOR = 0.00027918
MEX:REFLECTANCE_OFFSET = 0.0484098
/* IMAGE OBJECT DEFINITIONS */
OBJECT = IMAGE
  INTERCHANGE_FORMAT = BINARY
  LINES = 12392
  LINE_SAMPLES = 2177
  SAMPLE_TYPE = UNSIGNED_INTEGER
  SAMPLE_BITS = 8
  BANDS = 1
  BAND_STORAGE_TYPE = BAND_SEQUENTIAL
  MAXIMUM = 255
  MEAN = 81.6737
  MINIMUM = 1
  STANDARD_DEVIATION = 35.3611
END_OBJECT = IMAGE
/* MAP OBJECT DEFINITIONS */
OBJECT = IMAGE_MAP_PROJECTION
  ^DATA_SET_MAP_PROJECTION_CATALOG= "DSMAP.CAT"
  A_AXIS_RADIUS = 3396.0
  B_AXIS_RADIUS = 3396.0
  C_AXIS_RADIUS = 3396.0
  CENTER_LATITUDE = 0.0
  CENTER_LONGITUDE = 31.0
  COORDINATE_SYSTEM_NAME = PLANETOGRAPHIC
  COORDINATE_SYSTEM_TYPE = "BODY-FIXED ROTATING"
  EASTERNMOST_LONGITUDE = 32.3614
  FIRST_STANDARD_PARALLEL = "N/A"
  LINE_FIRST_PIXEL = 1
  LINE_LAST_PIXEL = 12392
  LINE_PROJECTION_OFFSET = -5266.875
  MAP_PROJECTION_ROTATION = 0.0
  MAP_PROJECTION_TYPE = SINUSOIDAL
  MAP_RESOLUTION = 1185.42760773333
  MAP_SCALE = 0.05
  MAXIMUM_LATITUDE = -4.42517
  MINIMUM_LATITUDE = -14.9462
  POSITIVE_LONGITUDE_DIRECTION = EAST
  REFERENCE_LATITUDE = "N/A"
  REFERENCE_LONGITUDE = "N/A"
  SAMPLE_FIRST_PIXEL = 1
  SAMPLE_LAST_PIXEL = 2177
  SAMPLE_PROJECTION_OFFSET = 566.125
  SECOND_STANDARD_PARALLEL = "N/A"
  WESTERNMOST_LONGITUDE = 30.4533
END_OBJECT = IMAGE_MAP_PROJECTION
/* The JPEG2000 image data file associated with this label. */
OBJECT = COMPRESSED_FILE
  FILE_NAME = "H9322_0000_RE3.JP2"
  RECORD_TYPE = UNDEFINED
  FILE_RECORDS = UNK
  ENCODING_TYPE = "JP2"
  INTERCHANGE_FORMAT = BINARY
  UNCOMPRESSED_FILE_NAME = "H9322_0000_RE3.IMG"
  REQUIRED_STORAGE_BYTES = "26999154"
  ^DESCRIPTION = "JP2INFO.TXT"
END_OBJECT = COMPRESSED_FILE
END
