PDS_VERSION_ID = PDS3
/* FILE DATA ELEMENTS */
RECORD_TYPE = STREAM
/* POINTERS TO DATA OBJECTS */
^COMPRESSED_FILE = "H9323_0000_P13.JP2"
/* IDENTIFICATION DATA ELEMENTS */
DATA_SET_ID = "MEX-M-HRSC-5-REFDR-MAPPROJECTED-V3.0"
DATA_SET_NAME = "MARS EXPRESS HRSC MAP PROJECTED REFDR V3.0"
DETECTOR_ID = MEX_HRSC_P1
EVENT_TYPE = "MARS-REGIONAL-MAPPING-Vo-Te-Im"
INSTRUMENT_HOST_ID = MEX
INSTRUMENT_HOST_NAME = "MARS EXPRESS"
INSTRUMENT_ID = HRSC
INSTRUMENT_NAME = "HIGH RESOLUTION STEREO CAMERA"
MISSION_NAME = "MARS EXPRESS"
MISSION_PHASE_NAME = ME_Phase_23
PROCESSING_LEVEL_ID = 3
PRODUCT_CREATION_TIME = 2016-10-26T12:35:54.000Z
PRODUCT_ID = "H9323_0000_P13.JP2"
RELEASE_ID = 0096
REVISION_ID = 0000
/* QUALITY DATA ELEMENTS */
DATA_QUALITY_ID = 1
DATA_QUALITY_DESC = "Data calculated based on original SPICE kernels"
/* TIME DATA ELEMENTS */
SPACECRAFT_CLOCK_START_COUNT = "1/0251445438.09071"
SPACECRAFT_CLOCK_STOP_COUNT = "1/0251445666.41271"
START_TIME = 2011-04-21T05:57:31.400Z
STOP_TIME = 2011-04-21T06:00:07.245Z
/* ORBITAL DATA ELEMENTS */
ASCENDING_NODE_LONGITUDE = 39.25
MAXIMUM_RESOLUTION = 56.8
FOOTPRINT_POINT_LATITUDE = (6.90506,6.89974,6.89352,6.89111, 6.59891,6.30676,6.112,5.91701,5.72203, 5.52706,5.33215,5.13713,4.94201,4.7472, 4.55214,4.25952,4.06439,3.86917,3.67432 ,3.38337,3.18894,2.9949,2.80062,2.60609 ,2.3144,2.11961,1.92466,1.73005,1.53488 ,1.33968,1.14452,0.851469,0.55804, 0.26639,0.0713655,-0.123132,-0.318232, -0.513581,-0.708876,-0.903883,-1.09877, -1.33053,-1.68143,-2.02773,-2.37606, -2.60832,-2.84056,-3.07368,-3.28088, -3.28382,-3.28101,-3.27092,-3.15153, -2.78755,-2.43908,-2.20693,-1.97432, -1.74137,-1.50845,-1.27556,-0.95254, -0.75773,-0.562604,-0.367357,-0.172136, 0.0233261,0.218868,0.511304,0.706005, 0.901133,1.09632,1.29129,1.48647, 1.68146,1.87607,2.07105,2.26587,2.46025 ,2.65493,2.84953,3.14118,3.33587, 3.53079,3.91968,4.11499,4.31029,4.50552 ,4.70083,4.89605,5.09122,5.28633, 5.48144,5.67669,5.87171,6.06679,6.26192 ,6.45699,6.6521,6.84716,6.90506)
FOOTPRINT_POINT_LONGITUDE = (287.953,287.589,287.221,286.999, 286.997,286.996,286.994,286.993,286.991 ,286.99,286.988,286.987,286.985,286.984 ,286.982,286.979,286.977,286.975, 286.974,286.972,286.971,286.97,286.968, 286.966,286.964,286.962,286.96,286.958, 286.955,286.952,286.95,286.945,286.941, 286.937,286.934,286.932,286.929,286.925 ,286.922,286.919,286.916,286.912, 286.904,286.9,286.894,286.89,286.886, 286.881,287.014,287.313,287.627,287.988 ,288.201,288.199,288.199,288.199, 288.199,288.199,288.199,288.199,288.199 ,288.199,288.2,288.2,288.2,288.2,288.2, 288.201,288.201,288.202,288.202,288.203 ,288.203,288.203,288.204,288.204, 288.205,288.206,288.206,288.207,288.208 ,288.208,288.209,288.211,288.211, 288.212,288.213,288.213,288.214,288.215 ,288.216,288.216,288.217,288.218, 288.219,288.22,288.221,288.222,288.223, 287.953)
ORBIT_NUMBER = 9323
ORBITAL_ECCENTRICITY = 0.578
ORBITAL_INCLINATION = 86.85
ORBITAL_SEMIMAJOR_AXIS = 8858.6
PERIAPSIS_ALTITUDE = 344.98
PERIAPSIS_ARGUMENT_ANGLE = 168.81
PERIAPSIS_TIME = 2011-04-21T05:56:45.000Z
SPACECRAFT_ORIENTATION = (0.0,-1.0,0.0)
^MEX_ORIENTATION_DESC = "MEX_ORIENTATION_DESC.TXT"
SPACECRAFT_POINTING_MODE = ACROSSTRACK
^MEX_POINTING_DESC = "MEX_POINTING_DESC.TXT"
RIGHT_ASCENSION = -1e+32
DECLINATION = -1e+32
OFFSET_ANGLE = -0.5
SPACECRAFT_SOLAR_DISTANCE = 2.08581e+08
TARGET_NAME = MARS
/* CAMERA DATA ELEMENTS */
DETECTOR_TEMPERATURE = 17.5549
FOCAL_PLANE_TEMPERATURE = 8.3794
INST_CMPRS_NAME = "DISCRETE COSINE TRANSFORMATION (DCT)"
INST_CMPRS_RATIO = 11.2641
INST_CMPRS_QUALITY = 0
INST_CMPRS_QUANTZ_TBL_ID = 0
INSTRUMENT_TEMPERATURE = 11.234
LENS_TEMPERATURE = 8.9911
MACROPIXEL_SIZE = 4
MISSING_FRAMES = 0
PIXEL_SUBSAMPLING_FLAG = N
SIGNAL_CHAIN_ID = 3
/* RADIOMETRIC DATA ELEMENTS */
BANDWIDTH = 174.0
CENTER_FILTER_WAVELENGTH = 675.0
RADIANCE_OFFSET = 2.40081
RADIANCE_SCALING_FACTOR = 0.015121
REFLECTANCE_SCALING_FACTOR = 0.000353849
MEX:REFLECTANCE_OFFSET = 0.0561818
/* IMAGE OBJECT DEFINITIONS */
OBJECT = IMAGE
  INTERCHANGE_FORMAT = BINARY
  LINES = 12050
  LINE_SAMPLES = 1722
  SAMPLE_TYPE = UNSIGNED_INTEGER
  SAMPLE_BITS = 8
  BANDS = 1
  BAND_STORAGE_TYPE = BAND_SEQUENTIAL
  MAXIMUM = 255
  MEAN = 63.2183
  MINIMUM = 1
  STANDARD_DEVIATION = 24.472
END_OBJECT = IMAGE
/* MAP OBJECT DEFINITIONS */
OBJECT = IMAGE_MAP_PROJECTION
  ^DATA_SET_MAP_PROJECTION_CATALOG= "DSMAP.CAT"
  A_AXIS_RADIUS = 3396.0
  B_AXIS_RADIUS = 3396.0
  C_AXIS_RADIUS = 3396.0
  CENTER_LATITUDE = 0.0
  CENTER_LONGITUDE = 288.0
  COORDINATE_SYSTEM_NAME = PLANETOGRAPHIC
  COORDINATE_SYSTEM_TYPE = "BODY-FIXED ROTATING"
  EASTERNMOST_LONGITUDE = 288.223
  FIRST_STANDARD_PARALLEL = "N/A"
  LINE_FIRST_PIXEL = 1
  LINE_LAST_PIXEL = 12050
  LINE_PROJECTION_OFFSET = 8171.625
  MAP_PROJECTION_ROTATION = 0.0
  MAP_PROJECTION_TYPE = SINUSOIDAL
  MAP_RESOLUTION = 1185.42760773333
  MAP_SCALE = 0.05
  MAXIMUM_LATITUDE = 6.90506
  MINIMUM_LATITUDE = -3.28382
  POSITIVE_LONGITUDE_DIRECTION = EAST
  REFERENCE_LATITUDE = "N/A"
  REFERENCE_LONGITUDE = "N/A"
  SAMPLE_FIRST_PIXEL = 1
  SAMPLE_LAST_PIXEL = 1722
  SAMPLE_PROJECTION_OFFSET = 1446.875
  SECOND_STANDARD_PARALLEL = "N/A"
  WESTERNMOST_LONGITUDE = 286.881
END_OBJECT = IMAGE_MAP_PROJECTION
/* The JPEG2000 image data file associated with this label. */
OBJECT = COMPRESSED_FILE
  FILE_NAME = "H9323_0000_P13.JP2"
  RECORD_TYPE = UNDEFINED
  FILE_RECORDS = UNK
  ENCODING_TYPE = "JP2"
  INTERCHANGE_FORMAT = BINARY
  UNCOMPRESSED_FILE_NAME = "H9323_0000_P13.IMG"
  REQUIRED_STORAGE_BYTES = "20770764"
  ^DESCRIPTION = "JP2INFO.TXT"
END_OBJECT = COMPRESSED_FILE
END
