PDS_VERSION_ID = PDS3
/* FILE DATA ELEMENTS */
RECORD_TYPE = STREAM
/* POINTERS TO DATA OBJECTS */
^COMPRESSED_FILE = "H9324_0000_GR3.JP2"
/* IDENTIFICATION DATA ELEMENTS */
DATA_SET_ID = "MEX-M-HRSC-5-REFDR-MAPPROJECTED-V3.0"
DATA_SET_NAME = "MARS EXPRESS HRSC MAP PROJECTED REFDR V3.0"
DETECTOR_ID = MEX_HRSC_GREEN
EVENT_TYPE = "MARS-REGIONAL-MAPPING-Vo-Fl-Eo"
INSTRUMENT_HOST_ID = MEX
INSTRUMENT_HOST_NAME = "MARS EXPRESS"
INSTRUMENT_ID = HRSC
INSTRUMENT_NAME = "HIGH RESOLUTION STEREO CAMERA"
MISSION_NAME = "MARS EXPRESS"
MISSION_PHASE_NAME = ME_Phase_23
PROCESSING_LEVEL_ID = 3
PRODUCT_CREATION_TIME = 2016-10-26T12:35:54.000Z
PRODUCT_ID = "H9324_0000_GR3.JP2"
RELEASE_ID = 0096
REVISION_ID = 0000
/* QUALITY DATA ELEMENTS */
DATA_QUALITY_ID = 1
DATA_QUALITY_DESC = "Data calculated based on original SPICE kernels"
/* TIME DATA ELEMENTS */
SPACECRAFT_CLOCK_START_COUNT = "1/0251470846.09060"
SPACECRAFT_CLOCK_STOP_COUNT = "1/0251471296.25636"
START_TIME = 2011-04-21T13:01:20.717Z
STOP_TIME = 2011-04-21T13:06:41.396Z
/* ORBITAL DATA ELEMENTS */
ASCENDING_NODE_LONGITUDE = 39.23
MAXIMUM_RESOLUTION = 136.6
FOOTPRINT_POINT_LATITUDE = (-8.30598,-8.30209,-8.46123,-9.09467, -9.41815,-9.7423,-10.2286,-10.559, -10.8899,-11.2197,-11.5544,-11.8907, -12.2267,-12.5683,-12.9115,-13.4291, -13.7785,-14.1289,-14.6616,-15.0174, -15.3798,-15.7413,-16.2922,-16.66, -17.034,-17.4083,-17.7889,-18.1694, -18.5557,-19.1385,-19.5312,-19.9281, -20.3266,-20.7308,-21.1371,-21.5475, -21.9627,-22.38,-22.8021,-23.2283, -23.6576,-24.0906,-24.5293,-24.9716, -25.4179,-25.8684,-26.3236,-26.7841, -27.2433,-27.4362,-27.4397,-27.4438, -27.4445,-27.4395,-26.9812,-26.5224, -26.0646,-25.6122,-25.1637,-24.7196, -24.2808,-23.8458,-23.4139,-22.9858, -22.5643,-21.9365,-21.5224,-21.112, -20.7064,-20.3024,-19.9038,-19.3132, -18.9188,-18.5325,-18.1469,-17.7665, -17.3869,-17.0124,-16.6389,-16.2707, -15.9019,-15.5398,-15.1771,-14.8189, -14.4627,-14.1078,-13.5845,-13.2347, -12.8924,-12.5491,-12.0404,-11.5354, -11.2008,-10.8708,-10.5397,-10.2101, -9.56294,-9.07793,-8.44353,-8.30598)
FOOTPRINT_POINT_LONGITUDE = (185.616,185.172,184.749,184.734, 184.725,184.716,184.7,184.69,184.68, 184.671,184.663,184.655,184.646,184.637 ,184.627,184.61,184.6,184.586,184.571, 184.558,184.546,184.535,184.515,184.502 ,184.49,184.476,184.461,184.447,184.432 ,184.409,184.394,184.378,184.361, 184.345,184.328,184.311,184.292,184.274 ,184.254,184.235,184.216,184.196, 184.175,184.154,184.133,184.111,184.089 ,184.066,184.042,184.593,185.033, 185.568,185.982,186.628,186.61,186.595, 186.577,186.561,186.546,186.531,186.517 ,186.503,186.49,186.477,186.466,186.449 ,186.438,186.428,186.418,186.408, 186.398,186.388,186.377,186.369,186.362 ,186.354,186.347,186.34,186.334,186.328 ,186.322,186.317,186.311,186.306, 186.301,186.296,186.29,186.285,186.282, 186.278,186.274,186.269,186.266,186.263 ,186.26,186.257,186.252,186.248,186.243 ,185.616)
ORBIT_NUMBER = 9324
ORBITAL_ECCENTRICITY = 0.577
ORBITAL_INCLINATION = 86.86
ORBITAL_SEMIMAJOR_AXIS = 8849.0
PERIAPSIS_ALTITUDE = 345.51
PERIAPSIS_ARGUMENT_ANGLE = 168.61
PERIAPSIS_TIME = 2011-04-21T12:56:19.000Z
SPACECRAFT_ORIENTATION = (0.0,-1.0,0.0)
^MEX_ORIENTATION_DESC = "MEX_ORIENTATION_DESC.TXT"
SPACECRAFT_POINTING_MODE = ACROSSTRACK
^MEX_POINTING_DESC = "MEX_POINTING_DESC.TXT"
RIGHT_ASCENSION = -1e+32
DECLINATION = -1e+32
OFFSET_ANGLE = -0.229
SPACECRAFT_SOLAR_DISTANCE = 2.08607e+08
TARGET_NAME = MARS
/* CAMERA DATA ELEMENTS */
DETECTOR_TEMPERATURE = 18.3705
FOCAL_PLANE_TEMPERATURE = 8.3794
INST_CMPRS_NAME = "DISCRETE COSINE TRANSFORMATION (DCT)"
INST_CMPRS_RATIO = 7.03163
INST_CMPRS_QUALITY = 0
INST_CMPRS_QUANTZ_TBL_ID = 0
INSTRUMENT_TEMPERATURE = 11.234
LENS_TEMPERATURE = 8.9911
MACROPIXEL_SIZE = 8
MISSING_FRAMES = 0
PIXEL_SUBSAMPLING_FLAG = N
SIGNAL_CHAIN_ID = 2
/* RADIOMETRIC DATA ELEMENTS */
BANDWIDTH = 88.0
CENTER_FILTER_WAVELENGTH = 538.0
RADIANCE_OFFSET = 1.01851
RADIANCE_SCALING_FACTOR = 0.00371175
REFLECTANCE_SCALING_FACTOR = 0.000139068
MEX:REFLECTANCE_OFFSET = 0.0381606
/* IMAGE OBJECT DEFINITIONS */
OBJECT = IMAGE
  INTERCHANGE_FORMAT = BINARY
  LINES = 11353
  LINE_SAMPLES = 1436
  SAMPLE_TYPE = UNSIGNED_INTEGER
  SAMPLE_BITS = 8
  BANDS = 1
  BAND_STORAGE_TYPE = BAND_SEQUENTIAL
  MAXIMUM = 255
  MEAN = 109.587
  MINIMUM = 1
  STANDARD_DEVIATION = 26.1316
END_OBJECT = IMAGE
/* MAP OBJECT DEFINITIONS */
OBJECT = IMAGE_MAP_PROJECTION
  ^DATA_SET_MAP_PROJECTION_CATALOG= "DSMAP.CAT"
  A_AXIS_RADIUS = 3396.0
  B_AXIS_RADIUS = 3396.0
  C_AXIS_RADIUS = 3396.0
  CENTER_LATITUDE = 0.0
  CENTER_LONGITUDE = 185.0
  COORDINATE_SYSTEM_NAME = PLANETOGRAPHIC
  COORDINATE_SYSTEM_TYPE = "BODY-FIXED ROTATING"
  EASTERNMOST_LONGITUDE = 186.628
  FIRST_STANDARD_PARALLEL = "N/A"
  LINE_FIRST_PIXEL = 1
  LINE_LAST_PIXEL = 11353
  LINE_PROJECTION_OFFSET = -4908.0625
  MAP_PROJECTION_ROTATION = 0.0
  MAP_PROJECTION_TYPE = SINUSOIDAL
  MAP_RESOLUTION = 592.713803866667
  MAP_SCALE = 0.1
  MAXIMUM_LATITUDE = -8.30209
  MINIMUM_LATITUDE = -27.4445
  POSITIVE_LONGITUDE_DIRECTION = EAST
  REFERENCE_LATITUDE = "N/A"
  REFERENCE_LONGITUDE = "N/A"
  SAMPLE_FIRST_PIXEL = 1
  SAMPLE_LAST_PIXEL = 1436
  SAMPLE_PROJECTION_OFFSET = 554.0625
  SECOND_STANDARD_PARALLEL = "N/A"
  WESTERNMOST_LONGITUDE = 184.042
END_OBJECT = IMAGE_MAP_PROJECTION
/* The JPEG2000 image data file associated with this label. */
OBJECT = COMPRESSED_FILE
  FILE_NAME = "H9324_0000_GR3.JP2"
  RECORD_TYPE = UNDEFINED
  FILE_RECORDS = UNK
  ENCODING_TYPE = "JP2"
  INTERCHANGE_FORMAT = BINARY
  UNCOMPRESSED_FILE_NAME = "H9324_0000_GR3.IMG"
  REQUIRED_STORAGE_BYTES = "16321576"
  ^DESCRIPTION = "JP2INFO.TXT"
END_OBJECT = COMPRESSED_FILE
END
