PDS_VERSION_ID = PDS3
/* FILE DATA ELEMENTS */
RECORD_TYPE = STREAM
/* POINTERS TO DATA OBJECTS */
^COMPRESSED_FILE = "H9324_0000_S23.JP2"
/* IDENTIFICATION DATA ELEMENTS */
DATA_SET_ID = "MEX-M-HRSC-5-REFDR-MAPPROJECTED-V3.0"
DATA_SET_NAME = "MARS EXPRESS HRSC MAP PROJECTED REFDR V3.0"
DETECTOR_ID = MEX_HRSC_S2
EVENT_TYPE = "MARS-REGIONAL-MAPPING-Vo-Fl-Eo"
INSTRUMENT_HOST_ID = MEX
INSTRUMENT_HOST_NAME = "MARS EXPRESS"
INSTRUMENT_ID = HRSC
INSTRUMENT_NAME = "HIGH RESOLUTION STEREO CAMERA"
MISSION_NAME = "MARS EXPRESS"
MISSION_PHASE_NAME = ME_Phase_23
PROCESSING_LEVEL_ID = 3
PRODUCT_CREATION_TIME = 2016-10-26T12:35:54.000Z
PRODUCT_ID = "H9324_0000_S23.JP2"
RELEASE_ID = 0096
REVISION_ID = 0000
/* QUALITY DATA ELEMENTS */
DATA_QUALITY_ID = 1
DATA_QUALITY_DESC = "Data calculated based on original SPICE kernels"
/* TIME DATA ELEMENTS */
SPACECRAFT_CLOCK_START_COUNT = "1/0251470846.09060"
SPACECRAFT_CLOCK_STOP_COUNT = "1/0251471296.25636"
START_TIME = 2011-04-21T13:02:10.078Z
STOP_TIME = 2011-04-21T13:08:17.364Z
/* ORBITAL DATA ELEMENTS */
ASCENDING_NODE_LONGITUDE = 39.23
MAXIMUM_RESOLUTION = 38.8
FOOTPRINT_POINT_LATITUDE = (-8.30958,-8.29937,-8.43255,-8.76506, -9.09772,-9.43344,-9.76738,-10.0991, -10.4387,-10.7772,-11.1218,-11.476, -11.827,-12.1829,-12.5368,-12.8932, -13.2499,-13.6129,-14.1535,-14.5272, -14.8937,-15.2637,-15.6436,-16.2102, -16.7851,-17.1706,-17.5589,-17.9501, -18.3437,-18.7419,-19.1433,-19.5473, -19.9542,-20.5757,-21.2002,-21.618, -22.2562,-22.6818,-23.1045,-23.5248, -23.9419,-24.5662,-24.9762,-25.3865, -25.7939,-26.2004,-26.6022,-27.0014, -27.3983,-27.4331,-27.4433,-27.4397, -27.4503,-27.2497,-26.8436,-26.4388, -25.8449,-25.4369,-25.0272,-24.6157, -24.2017,-23.7855,-23.369,-22.9454, -22.5209,-22.0943,-21.6691,-21.2475, -20.8292,-20.4151,-20.006,-19.6001, -18.9936,-18.5955,-18.1973,-17.8033, -17.2192,-16.8316,-16.4484,-16.0691, -15.5018,-14.9438,-14.5758,-14.0273, -13.6615,-13.3043,-12.9455,-12.5808, -12.2182,-11.8703,-11.5185,-11.1699, -10.8246,-10.4858,-10.1438,-9.80454, -9.46933,-8.96737,-8.30708,-8.30958)
FOOTPRINT_POINT_LONGITUDE = (185.857,185.36,184.672,184.662,184.653 ,184.642,184.63,184.617,184.605,184.593 ,184.581,184.572,184.56,184.549,184.537 ,184.524,184.511,184.497,184.474, 184.463,184.446,184.431,184.417,184.393 ,184.368,184.351,184.333,184.315, 184.296,184.277,184.257,184.237,184.217 ,184.186,184.153,184.129,184.093, 184.069,184.045,184.02,183.995,183.958, 183.931,183.906,183.88,183.854,183.827, 183.8,183.773,184.486,185.048,185.876, 186.318,186.819,186.8,186.781,186.749, 186.73,186.712,186.693,186.675,186.658, 186.64,186.624,186.608,186.592,186.577, 186.562,186.548,186.534,186.521,186.508 ,186.49,186.479,186.468,186.458,186.443 ,186.434,186.425,186.416,186.404, 186.392,186.384,186.374,186.368,186.36, 186.354,186.35,186.347,186.341,186.336, 186.331,186.326,186.321,186.317,186.313 ,186.309,186.303,186.295,185.857)
ORBIT_NUMBER = 9324
ORBITAL_ECCENTRICITY = 0.577
ORBITAL_INCLINATION = 86.86
ORBITAL_SEMIMAJOR_AXIS = 8849.0
PERIAPSIS_ALTITUDE = 345.51
PERIAPSIS_ARGUMENT_ANGLE = 168.61
PERIAPSIS_TIME = 2011-04-21T12:56:19.000Z
SPACECRAFT_ORIENTATION = (0.0,-1.0,0.0)
^MEX_ORIENTATION_DESC = "MEX_ORIENTATION_DESC.TXT"
SPACECRAFT_POINTING_MODE = ACROSSTRACK
^MEX_POINTING_DESC = "MEX_POINTING_DESC.TXT"
RIGHT_ASCENSION = -1e+32
DECLINATION = -1e+32
OFFSET_ANGLE = -0.229
SPACECRAFT_SOLAR_DISTANCE = 2.08607e+08
TARGET_NAME = MARS
/* CAMERA DATA ELEMENTS */
DETECTOR_TEMPERATURE = 18.5744
FOCAL_PLANE_TEMPERATURE = 8.3794
INST_CMPRS_NAME = "DISCRETE COSINE TRANSFORMATION (DCT)"
INST_CMPRS_RATIO = 8.17196
INST_CMPRS_QUALITY = 0
INST_CMPRS_QUANTZ_TBL_ID = 0
INSTRUMENT_TEMPERATURE = 11.234
LENS_TEMPERATURE = 8.9911
MACROPIXEL_SIZE = 2
MISSING_FRAMES = 0
PIXEL_SUBSAMPLING_FLAG = N
SIGNAL_CHAIN_ID = 1
/* RADIOMETRIC DATA ELEMENTS */
BANDWIDTH = 178.0
CENTER_FILTER_WAVELENGTH = 679.0
RADIANCE_OFFSET = 2.57072
RADIANCE_SCALING_FACTOR = 0.0153871
REFLECTANCE_SCALING_FACTOR = 0.000354608
MEX:REFLECTANCE_OFFSET = 0.059244
/* IMAGE OBJECT DEFINITIONS */
OBJECT = IMAGE
  INTERCHANGE_FORMAT = BINARY
  LINES = 45412
  LINE_SAMPLES = 5744
  SAMPLE_TYPE = UNSIGNED_INTEGER
  SAMPLE_BITS = 8
  BANDS = 1
  BAND_STORAGE_TYPE = BAND_SEQUENTIAL
  MAXIMUM = 255
  MEAN = 106.139
  MINIMUM = 1
  STANDARD_DEVIATION = 31.5592
END_OBJECT = IMAGE
/* MAP OBJECT DEFINITIONS */
OBJECT = IMAGE_MAP_PROJECTION
  ^DATA_SET_MAP_PROJECTION_CATALOG= "DSMAP.CAT"
  A_AXIS_RADIUS = 3396.0
  B_AXIS_RADIUS = 3396.0
  C_AXIS_RADIUS = 3396.0
  CENTER_LATITUDE = 0.0
  CENTER_LONGITUDE = 185.0
  COORDINATE_SYSTEM_NAME = PLANETOGRAPHIC
  COORDINATE_SYSTEM_TYPE = "BODY-FIXED ROTATING"
  EASTERNMOST_LONGITUDE = 186.819
  FIRST_STANDARD_PARALLEL = "N/A"
  LINE_FIRST_PIXEL = 1
  LINE_LAST_PIXEL = 45412
  LINE_PROJECTION_OFFSET = -19630.75
  MAP_PROJECTION_ROTATION = 0.0
  MAP_PROJECTION_TYPE = SINUSOIDAL
  MAP_RESOLUTION = 2370.85521546667
  MAP_SCALE = 0.025
  MAXIMUM_LATITUDE = -8.29937
  MINIMUM_LATITUDE = -27.4503
  POSITIVE_LONGITUDE_DIRECTION = EAST
  REFERENCE_LATITUDE = "N/A"
  REFERENCE_LONGITUDE = "N/A"
  SAMPLE_FIRST_PIXEL = 1
  SAMPLE_LAST_PIXEL = 5744
  SAMPLE_PROJECTION_OFFSET = 2217.75
  SECOND_STANDARD_PARALLEL = "N/A"
  WESTERNMOST_LONGITUDE = 183.773
END_OBJECT = IMAGE_MAP_PROJECTION
/* The JPEG2000 image data file associated with this label. */
OBJECT = COMPRESSED_FILE
  FILE_NAME = "H9324_0000_S23.JP2"
  RECORD_TYPE = UNDEFINED
  FILE_RECORDS = UNK
  ENCODING_TYPE = "JP2"
  INTERCHANGE_FORMAT = BINARY
  UNCOMPRESSED_FILE_NAME = "H9324_0000_S23.IMG"
  REQUIRED_STORAGE_BYTES = "260875248"
  ^DESCRIPTION = "JP2INFO.TXT"
END_OBJECT = COMPRESSED_FILE
END
