PDS_VERSION_ID = PDS3
/* FILE DATA ELEMENTS */
RECORD_TYPE = STREAM
/* POINTERS TO DATA OBJECTS */
^COMPRESSED_FILE = "H9325_0000_P23.JP2"
/* IDENTIFICATION DATA ELEMENTS */
DATA_SET_ID = "MEX-M-HRSC-5-REFDR-MAPPROJECTED-V3.0"
DATA_SET_NAME = "MARS EXPRESS HRSC MAP PROJECTED REFDR V3.0"
DETECTOR_ID = MEX_HRSC_P2
EVENT_TYPE = "MARS-REGIONAL-MAPPING-Te-Im-Fl"
INSTRUMENT_HOST_ID = MEX
INSTRUMENT_HOST_NAME = "MARS EXPRESS"
INSTRUMENT_ID = HRSC
INSTRUMENT_NAME = "HIGH RESOLUTION STEREO CAMERA"
MISSION_NAME = "MARS EXPRESS"
MISSION_PHASE_NAME = ME_Phase_23
PROCESSING_LEVEL_ID = 3
PRODUCT_CREATION_TIME = 2016-10-26T12:35:54.000Z
PRODUCT_ID = "H9325_0000_P23.JP2"
RELEASE_ID = 0096
REVISION_ID = 0000
/* QUALITY DATA ELEMENTS */
DATA_QUALITY_ID = 1
DATA_QUALITY_DESC = "Data calculated based on original SPICE kernels"
/* TIME DATA ELEMENTS */
SPACECRAFT_CLOCK_START_COUNT = "1/0251495948.08239"
SPACECRAFT_CLOCK_STOP_COUNT = "1/0251496230.64690"
START_TIME = 2011-04-21T20:00:10.195Z
STOP_TIME = 2011-04-21T20:03:32.742Z
/* ORBITAL DATA ELEMENTS */
ASCENDING_NODE_LONGITUDE = 39.21
MAXIMUM_RESOLUTION = 65.7
FOOTPRINT_POINT_LATITUDE = (-3.24524,-3.25054,-3.25553,-3.26019, -3.26458,-3.39041,-3.60796,-3.82615, -4.04485,-4.37246,-4.59585,-4.81729, -5.03969,-5.26133,-5.59377,-5.9319, -6.15876,-6.38504,-6.6074,-6.95061, -7.18434,-7.41487,-7.7605,-8.11145, -8.34748,-8.58297,-8.81603,-9.16614, -9.5242,-9.76315,-10.0053,-10.2572, -10.4967,-10.7386,-11.1077,-11.3576, -11.6036,-11.9775,-12.228,-12.4787, -12.7312,-12.9871,-13.2384,-13.493, -13.885,-14.1452,-14.4073,-14.6689, -14.9322,-15.2156,-15.2136,-15.2041, -15.2022,-15.1896,-15.0461,-14.7809, -14.5196,-14.2577,-13.997,-13.7397, -13.4817,-13.0971,-12.7156,-12.461, -12.2098,-11.9599,-11.7098,-11.4637, -11.2166,-10.8488,-10.61,-10.3604, -10.1134,-9.87452,-9.5173,-9.27911, -9.03925,-8.68451,-8.44965,-8.21407, -7.86116,-7.63152,-7.28684,-7.0558, -6.71091,-6.48536,-6.25932,-6.03231, -5.80536,-5.46457,-5.24413,-5.02066, -4.79738,-4.57451,-4.35258,-4.13529, -3.809,-3.58929,-3.26169,-3.24524)
FOOTPRINT_POINT_LONGITUDE = (84.6494,84.4345,84.2215,84.0105, 83.8011,83.5997,83.5951,83.5905,83.5857 ,83.5785,83.5735,83.5686,83.5636, 83.5585,83.5509,83.543,83.5376,83.5322, 83.5269,83.5185,83.5127,83.507,83.4983, 83.4893,83.4832,83.4771,83.471,83.4616, 83.452,83.4455,83.4389,83.432,83.4253, 83.4185,83.408,83.4008,83.3937,83.3827, 83.3752,83.3677,83.36,83.3523,83.3444, 83.3363,83.3242,83.3161,83.3076,83.2991 ,83.2905,83.384,83.6985,84.0513,84.3688 ,84.8706,85.1822,85.1752,85.169,85.1629 ,85.1568,85.1508,85.145,85.1375,85.13, 85.1253,85.1216,85.1165,85.1111,85.1063 ,85.1027,85.094,85.0865,85.089,85.0891, 85.0815,85.0762,85.0724,85.0698,85.0659 ,85.0633,85.0611,85.0577,85.0547, 85.0498,85.0474,85.0445,85.0418,85.0394 ,85.0376,85.0354,85.0368,85.0335, 85.0329,85.0318,85.0302,85.0283,85.0265 ,85.0238,85.0239,85.0217,84.6494)
ORBIT_NUMBER = 9325
ORBITAL_ECCENTRICITY = 0.578
ORBITAL_INCLINATION = 86.86
ORBITAL_SEMIMAJOR_AXIS = 8859.73
PERIAPSIS_ALTITUDE = 344.79
PERIAPSIS_ARGUMENT_ANGLE = 168.43
PERIAPSIS_TIME = 2011-04-21T19:55:56.000Z
SPACECRAFT_ORIENTATION = (0.0,-1.0,0.0)
^MEX_ORIENTATION_DESC = "MEX_ORIENTATION_DESC.TXT"
SPACECRAFT_POINTING_MODE = ACROSSTRACK
^MEX_POINTING_DESC = "MEX_POINTING_DESC.TXT"
RIGHT_ASCENSION = -1e+32
DECLINATION = -1e+32
OFFSET_ANGLE = 0.8
SPACECRAFT_SOLAR_DISTANCE = 2.08633e+08
TARGET_NAME = MARS
/* CAMERA DATA ELEMENTS */
DETECTOR_TEMPERATURE = 18.5744
FOCAL_PLANE_TEMPERATURE = 8.3794
INST_CMPRS_NAME = "DISCRETE COSINE TRANSFORMATION (DCT)"
INST_CMPRS_RATIO = 12.1469
INST_CMPRS_QUALITY = 0
INST_CMPRS_QUANTZ_TBL_ID = 0
INSTRUMENT_TEMPERATURE = 11.234
LENS_TEMPERATURE = 8.7872
MACROPIXEL_SIZE = 4
MISSING_FRAMES = 0
PIXEL_SUBSAMPLING_FLAG = N
SIGNAL_CHAIN_ID = 3
/* RADIOMETRIC DATA ELEMENTS */
BANDWIDTH = 177.0
CENTER_FILTER_WAVELENGTH = 676.5
RADIANCE_OFFSET = 1.73618
RADIANCE_SCALING_FACTOR = 0.00770148
REFLECTANCE_SCALING_FACTOR = 0.000177746
MEX:REFLECTANCE_OFFSET = 0.04007
/* IMAGE OBJECT DEFINITIONS */
OBJECT = IMAGE
  INTERCHANGE_FORMAT = BINARY
  LINES = 14147
  LINE_SAMPLES = 2173
  SAMPLE_TYPE = UNSIGNED_INTEGER
  SAMPLE_BITS = 8
  BANDS = 1
  BAND_STORAGE_TYPE = BAND_SEQUENTIAL
  MAXIMUM = 255
  MEAN = 107.621
  MINIMUM = 1
  STANDARD_DEVIATION = 27.4319
END_OBJECT = IMAGE
/* MAP OBJECT DEFINITIONS */
OBJECT = IMAGE_MAP_PROJECTION
  ^DATA_SET_MAP_PROJECTION_CATALOG= "DSMAP.CAT"
  A_AXIS_RADIUS = 3396.0
  B_AXIS_RADIUS = 3396.0
  C_AXIS_RADIUS = 3396.0
  CENTER_LATITUDE = 0.0
  CENTER_LONGITUDE = 84.0
  COORDINATE_SYSTEM_NAME = PLANETOGRAPHIC
  COORDINATE_SYSTEM_TYPE = "BODY-FIXED ROTATING"
  EASTERNMOST_LONGITUDE = 85.18219999999999
  FIRST_STANDARD_PARALLEL = "N/A"
  LINE_FIRST_PIXEL = 1
  LINE_LAST_PIXEL = 14147
  LINE_PROJECTION_OFFSET = -3857.125
  MAP_PROJECTION_ROTATION = 0.0
  MAP_PROJECTION_TYPE = SINUSOIDAL
  MAP_RESOLUTION = 1185.42760773333
  MAP_SCALE = 0.05
  MAXIMUM_LATITUDE = -3.24524
  MINIMUM_LATITUDE = -15.2156
  POSITIVE_LONGITUDE_DIRECTION = EAST
  REFERENCE_LATITUDE = "N/A"
  REFERENCE_LONGITUDE = "N/A"
  SAMPLE_FIRST_PIXEL = 1
  SAMPLE_LAST_PIXEL = 2173
  SAMPLE_PROJECTION_OFFSET = 774.875
  SECOND_STANDARD_PARALLEL = "N/A"
  WESTERNMOST_LONGITUDE = 83.29049999999999
END_OBJECT = IMAGE_MAP_PROJECTION
/* The JPEG2000 image data file associated with this label. */
OBJECT = COMPRESSED_FILE
  FILE_NAME = "H9325_0000_P23.JP2"
  RECORD_TYPE = UNDEFINED
  FILE_RECORDS = UNK
  ENCODING_TYPE = "JP2"
  INTERCHANGE_FORMAT = BINARY
  UNCOMPRESSED_FILE_NAME = "H9325_0000_P23.IMG"
  REQUIRED_STORAGE_BYTES = "30763161"
  ^DESCRIPTION = "JP2INFO.TXT"
END_OBJECT = COMPRESSED_FILE
END
