PDS_VERSION_ID = PDS3
/* FILE DATA ELEMENTS */
RECORD_TYPE = STREAM
/* POINTERS TO DATA OBJECTS */
^COMPRESSED_FILE = "H9325_0000_RE3.JP2"
/* IDENTIFICATION DATA ELEMENTS */
DATA_SET_ID = "MEX-M-HRSC-5-REFDR-MAPPROJECTED-V3.0"
DATA_SET_NAME = "MARS EXPRESS HRSC MAP PROJECTED REFDR V3.0"
DETECTOR_ID = MEX_HRSC_RED
EVENT_TYPE = "MARS-REGIONAL-MAPPING-Te-Im-Fl"
INSTRUMENT_HOST_ID = MEX
INSTRUMENT_HOST_NAME = "MARS EXPRESS"
INSTRUMENT_ID = HRSC
INSTRUMENT_NAME = "HIGH RESOLUTION STEREO CAMERA"
MISSION_NAME = "MARS EXPRESS"
MISSION_PHASE_NAME = ME_Phase_23
PROCESSING_LEVEL_ID = 3
PRODUCT_CREATION_TIME = 2016-10-26T12:35:54.000Z
PRODUCT_ID = "H9325_0000_RE3.JP2"
RELEASE_ID = 0096
REVISION_ID = 0000
/* QUALITY DATA ELEMENTS */
DATA_QUALITY_ID = 1
DATA_QUALITY_DESC = "Data calculated based on original SPICE kernels"
/* TIME DATA ELEMENTS */
SPACECRAFT_CLOCK_START_COUNT = "1/0251495948.08239"
SPACECRAFT_CLOCK_STOP_COUNT = "1/0251496230.64690"
START_TIME = 2011-04-21T20:00:16.889Z
STOP_TIME = 2011-04-21T20:03:42.350Z
/* ORBITAL DATA ELEMENTS */
ASCENDING_NODE_LONGITUDE = 39.21
MAXIMUM_RESOLUTION = 67.2
FOOTPRINT_POINT_LATITUDE = (-3.23873,-3.24611,-3.25314,-3.26597, -3.29178,-3.50878,-3.9397,-4.1615, -4.49412,-4.71555,-5.04399,-5.26291, -5.48765,-5.71155,-5.93626,-6.16073, -6.49318,-6.72181,-6.95181,-7.1843, -7.41234,-7.6434,-7.99393,-8.22746, -8.4609,-8.81616,-9.16049,-9.39573, -9.63593,-10.0015,-10.2496,-10.4872, -10.8526,-11.0968,-11.3465,-11.5937, -11.8403,-12.0882,-12.3403,-12.8444, -13.2219,-13.4737,-13.7341,-13.9971, -14.2552,-14.516,-14.7783,-15.0401, -15.2257,-15.2204,-15.2099,-15.2035, -15.1953,-15.1853,-14.9153,-14.5232, -14.2611,-14.0036,-13.7455,-13.4882, -13.2334,-12.978,-12.7243,-12.4731, -12.22,-11.9698,-11.6004,-11.3538, -11.1044,-10.8625,-10.627,-10.3743, -10.1285,-9.89437,-9.65469,-9.41325, -9.0597,-8.70411,-8.46669,-8.23396, -8.00129,-7.65221,-7.42013,-7.19399, -6.96513,-6.73606,-6.50738,-6.28114, -5.94455,-5.72024,-5.48973,-5.26693, -4.93397,-4.71267,-4.49243,-4.16156, -3.94062,-3.61758,-3.39927,-3.23873)
FOOTPRINT_POINT_LONGITUDE = (84.858,84.6394,84.4226,83.995,83.5959, 83.5912,83.5817,83.5767,83.5692,83.5641 ,83.5566,83.5515,83.5462,83.5409, 83.5355,83.5301,83.5219,83.5163,83.5105 ,83.5046,83.4988,83.4928,83.4837, 83.4775,83.4713,83.4618,83.4523,83.4458 ,83.4391,83.4289,83.422,83.4151,83.4044 ,83.3973,83.39,83.3826,83.3751,83.3676, 83.3598,83.3442,83.332,83.3237,83.3155, 83.3072,83.2986,83.2899,83.2811,83.2722 ,83.4415,83.8507,84.1207,84.5529, 84.8083,85.1202,85.1943,85.1842,85.1778 ,85.1715,85.1653,85.1592,85.154,85.1489 ,85.1434,85.1386,85.1349,85.1293, 85.1214,85.116,85.1139,85.1086,85.0985, 85.1005,85.1006,85.0927,85.0887,85.0856 ,85.0805,85.0764,85.0736,85.0712, 85.0686,85.0645,85.0616,85.0577,85.0556 ,85.0535,85.0508,85.0482,85.0453,85.043 ,85.0452,85.0414,85.0401,85.0391, 85.0372,85.0342,85.0329,85.0301,85.0302 ,84.858)
ORBIT_NUMBER = 9325
ORBITAL_ECCENTRICITY = 0.578
ORBITAL_INCLINATION = 86.86
ORBITAL_SEMIMAJOR_AXIS = 8859.73
PERIAPSIS_ALTITUDE = 344.79
PERIAPSIS_ARGUMENT_ANGLE = 168.43
PERIAPSIS_TIME = 2011-04-21T19:55:56.000Z
SPACECRAFT_ORIENTATION = (0.0,-1.0,0.0)
^MEX_ORIENTATION_DESC = "MEX_ORIENTATION_DESC.TXT"
SPACECRAFT_POINTING_MODE = ACROSSTRACK
^MEX_POINTING_DESC = "MEX_POINTING_DESC.TXT"
RIGHT_ASCENSION = -1e+32
DECLINATION = -1e+32
OFFSET_ANGLE = 0.8
SPACECRAFT_SOLAR_DISTANCE = 2.08633e+08
TARGET_NAME = MARS
/* CAMERA DATA ELEMENTS */
DETECTOR_TEMPERATURE = 18.5744
FOCAL_PLANE_TEMPERATURE = 8.3794
INST_CMPRS_NAME = "DISCRETE COSINE TRANSFORMATION (DCT)"
INST_CMPRS_RATIO = 16.4259
INST_CMPRS_QUALITY = 0
INST_CMPRS_QUANTZ_TBL_ID = 0
INSTRUMENT_TEMPERATURE = 11.234
LENS_TEMPERATURE = 8.7872
MACROPIXEL_SIZE = 4
MISSING_FRAMES = 0
PIXEL_SUBSAMPLING_FLAG = N
SIGNAL_CHAIN_ID = 2
/* RADIOMETRIC DATA ELEMENTS */
BANDWIDTH = 48.0
CENTER_FILTER_WAVELENGTH = 748.0
RADIANCE_OFFSET = 0.439895
RADIANCE_SCALING_FACTOR = 0.0022126
REFLECTANCE_SCALING_FACTOR = 0.000219785
MEX:REFLECTANCE_OFFSET = 0.0436962
/* IMAGE OBJECT DEFINITIONS */
OBJECT = IMAGE
  INTERCHANGE_FORMAT = BINARY
  LINES = 14147
  LINE_SAMPLES = 2173
  SAMPLE_TYPE = UNSIGNED_INTEGER
  SAMPLE_BITS = 8
  BANDS = 1
  BAND_STORAGE_TYPE = BAND_SEQUENTIAL
  MAXIMUM = 255
  MEAN = 106.607
  MINIMUM = 1
  STANDARD_DEVIATION = 26.753
END_OBJECT = IMAGE
/* MAP OBJECT DEFINITIONS */
OBJECT = IMAGE_MAP_PROJECTION
  ^DATA_SET_MAP_PROJECTION_CATALOG= "DSMAP.CAT"
  A_AXIS_RADIUS = 3396.0
  B_AXIS_RADIUS = 3396.0
  C_AXIS_RADIUS = 3396.0
  CENTER_LATITUDE = 0.0
  CENTER_LONGITUDE = 84.0
  COORDINATE_SYSTEM_NAME = PLANETOGRAPHIC
  COORDINATE_SYSTEM_TYPE = "BODY-FIXED ROTATING"
  EASTERNMOST_LONGITUDE = 85.1943
  FIRST_STANDARD_PARALLEL = "N/A"
  LINE_FIRST_PIXEL = 1
  LINE_LAST_PIXEL = 14147
  LINE_PROJECTION_OFFSET = -3857.125
  MAP_PROJECTION_ROTATION = 0.0
  MAP_PROJECTION_TYPE = SINUSOIDAL
  MAP_RESOLUTION = 1185.42760773333
  MAP_SCALE = 0.05
  MAXIMUM_LATITUDE = -3.23873
  MINIMUM_LATITUDE = -15.2257
  POSITIVE_LONGITUDE_DIRECTION = EAST
  REFERENCE_LATITUDE = "N/A"
  REFERENCE_LONGITUDE = "N/A"
  SAMPLE_FIRST_PIXEL = 1
  SAMPLE_LAST_PIXEL = 2173
  SAMPLE_PROJECTION_OFFSET = 774.875
  SECOND_STANDARD_PARALLEL = "N/A"
  WESTERNMOST_LONGITUDE = 83.2722
END_OBJECT = IMAGE_MAP_PROJECTION
/* The JPEG2000 image data file associated with this label. */
OBJECT = COMPRESSED_FILE
  FILE_NAME = "H9325_0000_RE3.JP2"
  RECORD_TYPE = UNDEFINED
  FILE_RECORDS = UNK
  ENCODING_TYPE = "JP2"
  INTERCHANGE_FORMAT = BINARY
  UNCOMPRESSED_FILE_NAME = "H9325_0000_RE3.IMG"
  REQUIRED_STORAGE_BYTES = "30763161"
  ^DESCRIPTION = "JP2INFO.TXT"
END_OBJECT = COMPRESSED_FILE
END
