PDS_VERSION_ID = PDS3
/* FILE DATA ELEMENTS */
RECORD_TYPE = STREAM
/* POINTERS TO DATA OBJECTS */
^COMPRESSED_FILE = "H9331_0000_BL3.JP2"
/* IDENTIFICATION DATA ELEMENTS */
DATA_SET_ID = "MEX-M-HRSC-5-REFDR-MAPPROJECTED-V3.0"
DATA_SET_NAME = "MARS EXPRESS HRSC MAP PROJECTED REFDR V3.0"
DETECTOR_ID = MEX_HRSC_BLUE
EVENT_TYPE = "MARS-REGIONAL-MAPPING-Vo-Fl-Eo"
INSTRUMENT_HOST_ID = MEX
INSTRUMENT_HOST_NAME = "MARS EXPRESS"
INSTRUMENT_ID = HRSC
INSTRUMENT_NAME = "HIGH RESOLUTION STEREO CAMERA"
MISSION_NAME = "MARS EXPRESS"
MISSION_PHASE_NAME = ME_Phase_23
PROCESSING_LEVEL_ID = 3
PRODUCT_CREATION_TIME = 2016-10-26T12:35:54.000Z
PRODUCT_ID = "H9331_0000_BL3.JP2"
RELEASE_ID = 0096
REVISION_ID = 0000
/* QUALITY DATA ELEMENTS */
DATA_QUALITY_ID = 1
DATA_QUALITY_DESC = "Data calculated based on original SPICE kernels"
/* TIME DATA ELEMENTS */
SPACECRAFT_CLOCK_START_COUNT = "1/0251647146.09059"
SPACECRAFT_CLOCK_STOP_COUNT = "1/0251647483.29055"
START_TIME = 2011-04-23T13:59:58.163Z
STOP_TIME = 2011-04-23T14:03:40.737Z
/* ORBITAL DATA ELEMENTS */
ASCENDING_NODE_LONGITUDE = 39.1
MAXIMUM_RESOLUTION = 74.3
FOOTPRINT_POINT_LATITUDE = (-10.4095,-10.41,-10.4103,-10.4104, -10.4099,-10.6352,-11.0906,-11.5489, -11.7788,-12.0144,-12.2485,-12.4817, -12.7158,-12.9541,-13.192,-13.4296, -13.7912,-14.0328,-14.2741,-14.5195, -14.7646,-15.0108,-15.3838,-15.6331, -16.0108,-16.2643,-16.5167,-16.7735, -17.1585,-17.549,-17.8091,-18.2041, -18.4682,-18.869,-19.1368,-19.4061, -19.6774,-20.0887,-20.3635,-20.6412, -20.9197,-21.2003,-21.4821,-21.7663, -22.0516,-22.3393,-22.6283,-22.9195, -23.2117,-23.2668,-23.2668,-23.266, -23.2627,-23.2591,-23.2544,-22.959, -22.6684,-22.3802,-22.0925,-21.8078, -21.5231,-21.2413,-20.9602,-20.6813, -20.4039,-20.1296,-19.7189,-19.4481, -19.1771,-18.7761,-18.5087,-18.2452, -17.85,-17.4596,-17.1991,-16.9428, -16.686,-16.4309,-16.1784,-15.9251, -15.5496,-15.3002,-15.0508,-14.8058, -14.5605,-14.3145,-14.0731,-13.8315, -13.4696,-13.2323,-12.9946,-12.7565, -12.5213,-12.2876,-12.0537,-11.7045, -11.2448,-10.8997,-10.4483,-10.4095)
FOOTPRINT_POINT_LONGITUDE = (190.998,190.749,190.501,190.255, 189.814,189.699,189.686,189.673,189.667 ,189.66,189.653,189.646,189.639,189.632 ,189.625,189.618,189.607,189.6,189.592, 189.585,189.577,189.569,189.557,189.549 ,189.537,189.529,189.52,189.512,189.499 ,189.486,189.477,189.463,189.454, 189.439,189.43,189.42,189.41,189.395, 189.385,189.374,189.364,189.353,189.342 ,189.331,189.32,189.308,189.297,189.285 ,189.273,189.603,189.872,190.232, 190.776,191.233,191.601,191.693,191.677 ,191.666,191.654,191.643,191.634, 191.625,191.615,191.608,191.596,191.587 ,191.574,191.565,191.556,191.544, 191.537,191.529,191.517,191.507,191.5, 191.493,191.487,191.48,191.474,191.468, 191.459,191.454,191.449,191.444,191.439 ,191.434,191.429,191.425,191.417, 191.413,191.408,191.404,191.4,191.396, 191.392,191.387,191.38,191.374,191.368, 190.998)
ORBIT_NUMBER = 9331
ORBITAL_ECCENTRICITY = 0.577
ORBITAL_INCLINATION = 86.85
ORBITAL_SEMIMAJOR_AXIS = 8848.77
PERIAPSIS_ALTITUDE = 346.3
PERIAPSIS_ARGUMENT_ANGLE = 167.39
PERIAPSIS_TIME = 2011-04-23T13:53:49.000Z
SPACECRAFT_ORIENTATION = (0.0,-1.0,0.0)
^MEX_ORIENTATION_DESC = "MEX_ORIENTATION_DESC.TXT"
SPACECRAFT_POINTING_MODE = ACROSSTRACK
^MEX_POINTING_DESC = "MEX_POINTING_DESC.TXT"
RIGHT_ASCENSION = -1e+32
DECLINATION = -1e+32
OFFSET_ANGLE = 0.8
SPACECRAFT_SOLAR_DISTANCE = 2.08793e+08
TARGET_NAME = MARS
/* CAMERA DATA ELEMENTS */
DETECTOR_TEMPERATURE = 18.3705
FOCAL_PLANE_TEMPERATURE = 8.7872
INST_CMPRS_NAME = "DISCRETE COSINE TRANSFORMATION (DCT)"
INST_CMPRS_RATIO = 6.68041
INST_CMPRS_QUALITY = 0
INST_CMPRS_QUANTZ_TBL_ID = 0
INSTRUMENT_TEMPERATURE = 11.4379
LENS_TEMPERATURE = 9.6028
MACROPIXEL_SIZE = 4
MISSING_FRAMES = 0
PIXEL_SUBSAMPLING_FLAG = N
SIGNAL_CHAIN_ID = 2
/* RADIOMETRIC DATA ELEMENTS */
BANDWIDTH = 76.0
CENTER_FILTER_WAVELENGTH = 444.0
RADIANCE_OFFSET = 0.415758
RADIANCE_SCALING_FACTOR = 0.00158
REFLECTANCE_SCALING_FACTOR = 7.07695e-05
MEX:REFLECTANCE_OFFSET = 0.0186222
/* IMAGE OBJECT DEFINITIONS */
OBJECT = IMAGE
  INTERCHANGE_FORMAT = BINARY
  LINES = 15260
  LINE_SAMPLES = 2701
  SAMPLE_TYPE = UNSIGNED_INTEGER
  SAMPLE_BITS = 8
  BANDS = 1
  BAND_STORAGE_TYPE = BAND_SEQUENTIAL
  MAXIMUM = 255
  MEAN = 109.773
  MINIMUM = 1
  STANDARD_DEVIATION = 21.3636
END_OBJECT = IMAGE
/* MAP OBJECT DEFINITIONS */
OBJECT = IMAGE_MAP_PROJECTION
  ^DATA_SET_MAP_PROJECTION_CATALOG= "DSMAP.CAT"
  A_AXIS_RADIUS = 3396.0
  B_AXIS_RADIUS = 3396.0
  C_AXIS_RADIUS = 3396.0
  CENTER_LATITUDE = 0.0
  CENTER_LONGITUDE = 190.0
  COORDINATE_SYSTEM_NAME = PLANETOGRAPHIC
  COORDINATE_SYSTEM_TYPE = "BODY-FIXED ROTATING"
  EASTERNMOST_LONGITUDE = 191.693
  FIRST_STANDARD_PARALLEL = "N/A"
  LINE_FIRST_PIXEL = 1
  LINE_LAST_PIXEL = 15260
  LINE_PROJECTION_OFFSET = -12317.875
  MAP_PROJECTION_ROTATION = 0.0
  MAP_PROJECTION_TYPE = SINUSOIDAL
  MAP_RESOLUTION = 1185.42760773333
  MAP_SCALE = 0.05
  MAXIMUM_LATITUDE = -10.4095
  MINIMUM_LATITUDE = -23.2668
  POSITIVE_LONGITUDE_DIRECTION = EAST
  REFERENCE_LATITUDE = "N/A"
  REFERENCE_LONGITUDE = "N/A"
  SAMPLE_FIRST_PIXEL = 1
  SAMPLE_LAST_PIXEL = 2701
  SAMPLE_PROJECTION_OFFSET = 792.375
  SECOND_STANDARD_PARALLEL = "N/A"
  WESTERNMOST_LONGITUDE = 189.273
END_OBJECT = IMAGE_MAP_PROJECTION
/* The JPEG2000 image data file associated with this label. */
OBJECT = COMPRESSED_FILE
  FILE_NAME = "H9331_0000_BL3.JP2"
  RECORD_TYPE = UNDEFINED
  FILE_RECORDS = UNK
  ENCODING_TYPE = "JP2"
  INTERCHANGE_FORMAT = BINARY
  UNCOMPRESSED_FILE_NAME = "H9331_0000_BL3.IMG"
  REQUIRED_STORAGE_BYTES = "41238868"
  ^DESCRIPTION = "JP2INFO.TXT"
END_OBJECT = COMPRESSED_FILE
END
