PDS_VERSION_ID = PDS3
/* FILE DATA ELEMENTS */
RECORD_TYPE = STREAM
/* POINTERS TO DATA OBJECTS */
^COMPRESSED_FILE = "H9331_0000_S13.JP2"
/* IDENTIFICATION DATA ELEMENTS */
DATA_SET_ID = "MEX-M-HRSC-5-REFDR-MAPPROJECTED-V3.0"
DATA_SET_NAME = "MARS EXPRESS HRSC MAP PROJECTED REFDR V3.0"
DETECTOR_ID = MEX_HRSC_S1
EVENT_TYPE = "MARS-REGIONAL-MAPPING-Vo-Fl-Eo"
INSTRUMENT_HOST_ID = MEX
INSTRUMENT_HOST_NAME = "MARS EXPRESS"
INSTRUMENT_ID = HRSC
INSTRUMENT_NAME = "HIGH RESOLUTION STEREO CAMERA"
MISSION_NAME = "MARS EXPRESS"
MISSION_PHASE_NAME = ME_Phase_23
PROCESSING_LEVEL_ID = 3
PRODUCT_CREATION_TIME = 2016-10-26T12:35:54.000Z
PRODUCT_ID = "H9331_0000_S13.JP2"
RELEASE_ID = 0096
REVISION_ID = 0000
/* QUALITY DATA ELEMENTS */
DATA_QUALITY_ID = 1
DATA_QUALITY_DESC = "Data calculated based on original SPICE kernels"
/* TIME DATA ELEMENTS */
SPACECRAFT_CLOCK_START_COUNT = "1/0251647146.09059"
SPACECRAFT_CLOCK_STOP_COUNT = "1/0251647483.29055"
START_TIME = 2011-04-23T13:59:09.065Z
STOP_TIME = 2011-04-23T14:02:30.042Z
/* ORBITAL DATA ELEMENTS */
ASCENDING_NODE_LONGITUDE = 39.1
MAXIMUM_RESOLUTION = 37.1
FOOTPRINT_POINT_LATITUDE = (-10.4232,-10.4108,-10.3986,-10.3867, -10.3751,-10.3637,-10.7049,-10.9314, -11.1612,-11.3965,-11.9667,-12.3204, -12.5588,-12.7952,-13.0309,-13.2706, -13.5103,-13.7513,-13.992,-14.3595, -14.6046,-14.8526,-15.2202,-15.472, -15.7217,-15.9705,-16.3519,-16.6087, -16.864,-17.1242,-17.3849,-17.6434, -18.0411,-18.3066,-18.571,-18.8402, -19.1113,-19.5227,-19.7977,-20.0668, -20.345,-20.6245,-20.9034,-21.1879, -21.4725,-21.7589,-22.0466,-22.3349, -22.6268,-22.9196,-23.2284,-23.2399, -23.2522,-23.2636,-23.2795,-23.2903, -23.002,-22.709,-22.2713,-21.9822, -21.694,-21.4127,-21.1295,-20.8485, -20.4327,-20.1527,-19.8786,-19.4659, -19.0597,-18.7893,-18.525,-18.1261, -17.8598,-17.5995,-17.2104,-16.9498, -16.6953,-16.4392,-16.0552,-15.8049, -15.5552,-15.305,-15.0574,-14.812, -14.4444,-14.0769,-13.838,-13.4759, -13.2346,-12.9969,-12.7631,-12.5252, -12.2909,-11.9392,-11.7095,-11.4788, -11.1337,-10.7905,-10.566,-10.4232)
FOOTPRINT_POINT_LONGITUDE = (191.072,190.825,190.579,190.337, 190.096,189.857,189.74,189.735,189.729, 189.723,189.709,189.7,189.694,189.688, 189.681,189.675,189.669,189.662,189.656 ,189.646,189.639,189.633,189.622, 189.615,189.608,189.601,189.59,189.583, 189.576,189.568,189.56,189.553,189.541, 189.533,189.525,189.516,189.508,189.495 ,189.487,189.478,189.469,189.46,189.451 ,189.442,189.433,189.423,189.414, 189.404,189.394,189.384,189.521,189.86, 190.244,190.588,191.044,191.372,191.59, 191.58,191.565,191.556,191.547,191.54, 191.532,191.524,191.514,191.505,191.497 ,191.486,191.475,191.468,191.463, 191.453,191.447,191.441,191.433,191.427 ,191.422,191.417,191.409,191.404,191.4, 191.396,191.392,191.388,191.382,191.376 ,191.373,191.367,191.363,191.359, 191.357,191.352,191.35,191.345,191.343, 191.34,191.336,191.332,191.33,191.072)
ORBIT_NUMBER = 9331
ORBITAL_ECCENTRICITY = 0.577
ORBITAL_INCLINATION = 86.85
ORBITAL_SEMIMAJOR_AXIS = 8848.77
PERIAPSIS_ALTITUDE = 346.3
PERIAPSIS_ARGUMENT_ANGLE = 167.39
PERIAPSIS_TIME = 2011-04-23T13:53:49.000Z
SPACECRAFT_ORIENTATION = (0.0,-1.0,0.0)
^MEX_ORIENTATION_DESC = "MEX_ORIENTATION_DESC.TXT"
SPACECRAFT_POINTING_MODE = ACROSSTRACK
^MEX_POINTING_DESC = "MEX_POINTING_DESC.TXT"
RIGHT_ASCENSION = -1e+32
DECLINATION = -1e+32
OFFSET_ANGLE = 0.8
SPACECRAFT_SOLAR_DISTANCE = 2.08793e+08
TARGET_NAME = MARS
/* CAMERA DATA ELEMENTS */
DETECTOR_TEMPERATURE = 17.7588
FOCAL_PLANE_TEMPERATURE = 8.7872
INST_CMPRS_NAME = "DISCRETE COSINE TRANSFORMATION (DCT)"
INST_CMPRS_RATIO = 6.9698
INST_CMPRS_QUALITY = 0
INST_CMPRS_QUANTZ_TBL_ID = 0
INSTRUMENT_TEMPERATURE = 11.4379
LENS_TEMPERATURE = 9.6028
MACROPIXEL_SIZE = 2
MISSING_FRAMES = 0
PIXEL_SUBSAMPLING_FLAG = N
SIGNAL_CHAIN_ID = 1
/* RADIOMETRIC DATA ELEMENTS */
BANDWIDTH = 180.0
CENTER_FILTER_WAVELENGTH = 677.0
RADIANCE_OFFSET = 2.9218
RADIANCE_SCALING_FACTOR = 0.0180225
REFLECTANCE_SCALING_FACTOR = 0.000409913
MEX:REFLECTANCE_OFFSET = 0.0664548
/* IMAGE OBJECT DEFINITIONS */
OBJECT = IMAGE
  INTERCHANGE_FORMAT = BINARY
  LINES = 30519
  LINE_SAMPLES = 5402
  SAMPLE_TYPE = UNSIGNED_INTEGER
  SAMPLE_BITS = 8
  BANDS = 1
  BAND_STORAGE_TYPE = BAND_SEQUENTIAL
  MAXIMUM = 255
  MEAN = 99.1016
  MINIMUM = 1
  STANDARD_DEVIATION = 22.8792
END_OBJECT = IMAGE
/* MAP OBJECT DEFINITIONS */
OBJECT = IMAGE_MAP_PROJECTION
  ^DATA_SET_MAP_PROJECTION_CATALOG= "DSMAP.CAT"
  A_AXIS_RADIUS = 3396.0
  B_AXIS_RADIUS = 3396.0
  C_AXIS_RADIUS = 3396.0
  CENTER_LATITUDE = 0.0
  CENTER_LONGITUDE = 190.0
  COORDINATE_SYSTEM_NAME = PLANETOGRAPHIC
  COORDINATE_SYSTEM_TYPE = "BODY-FIXED ROTATING"
  EASTERNMOST_LONGITUDE = 191.59
  FIRST_STANDARD_PARALLEL = "N/A"
  LINE_FIRST_PIXEL = 1
  LINE_LAST_PIXEL = 30519
  LINE_PROJECTION_OFFSET = -24635.25
  MAP_PROJECTION_ROTATION = 0.0
  MAP_PROJECTION_TYPE = SINUSOIDAL
  MAP_RESOLUTION = 2370.85521546667
  MAP_SCALE = 0.025
  MAXIMUM_LATITUDE = -10.3637
  MINIMUM_LATITUDE = -23.2903
  POSITIVE_LONGITUDE_DIRECTION = EAST
  REFERENCE_LATITUDE = "N/A"
  REFERENCE_LONGITUDE = "N/A"
  SAMPLE_FIRST_PIXEL = 1
  SAMPLE_LAST_PIXEL = 5402
  SAMPLE_PROJECTION_OFFSET = 1585.25
  SECOND_STANDARD_PARALLEL = "N/A"
  WESTERNMOST_LONGITUDE = 189.384
END_OBJECT = IMAGE_MAP_PROJECTION
/* The JPEG2000 image data file associated with this label. */
OBJECT = COMPRESSED_FILE
  FILE_NAME = "H9331_0000_S13.JP2"
  RECORD_TYPE = UNDEFINED
  FILE_RECORDS = UNK
  ENCODING_TYPE = "JP2"
  INTERCHANGE_FORMAT = BINARY
  UNCOMPRESSED_FILE_NAME = "H9331_0000_S13.IMG"
  REQUIRED_STORAGE_BYTES = "164890648"
  ^DESCRIPTION = "JP2INFO.TXT"
END_OBJECT = COMPRESSED_FILE
END
