PDS_VERSION_ID = PDS3
/* FILE DATA ELEMENTS */
RECORD_TYPE = STREAM
/* POINTERS TO DATA OBJECTS */
^COMPRESSED_FILE = "H9335_0000_S23.JP2"
/* IDENTIFICATION DATA ELEMENTS */
DATA_SET_ID = "MEX-M-HRSC-5-REFDR-MAPPROJECTED-V3.0"
DATA_SET_NAME = "MARS EXPRESS HRSC MAP PROJECTED REFDR V3.0"
DETECTOR_ID = MEX_HRSC_S2
EVENT_TYPE = "MARS-REGIONAL-MAPPING-Im-Fl"
INSTRUMENT_HOST_ID = MEX
INSTRUMENT_HOST_NAME = "MARS EXPRESS"
INSTRUMENT_ID = HRSC
INSTRUMENT_NAME = "HIGH RESOLUTION STEREO CAMERA"
MISSION_NAME = "MARS EXPRESS"
MISSION_PHASE_NAME = ME_Phase_23
PROCESSING_LEVEL_ID = 3
PRODUCT_CREATION_TIME = 2016-10-26T12:35:54.000Z
PRODUCT_ID = "H9335_0000_S23.JP2"
RELEASE_ID = 0096
REVISION_ID = 0000
/* QUALITY DATA ELEMENTS */
DATA_QUALITY_ID = 1
DATA_QUALITY_DESC = "Data calculated based on original SPICE kernels"
/* TIME DATA ELEMENTS */
SPACECRAFT_CLOCK_START_COUNT = "1/0251747865.07293"
SPACECRAFT_CLOCK_STOP_COUNT = "1/0251748159.19598"
START_TIME = 2011-04-24T17:59:16.803Z
STOP_TIME = 2011-04-24T18:02:40.279Z
/* ORBITAL DATA ELEMENTS */
ASCENDING_NODE_LONGITUDE = 39.02
MAXIMUM_RESOLUTION = 41.7
FOOTPRINT_POINT_LATITUDE = (-9.71765,-9.72817,-9.73784,-9.74662, -9.75459,-9.76183,-10.0646,-10.4493, -10.8455,-11.3476,-11.5511,-11.7554, -12.0581,-12.2617,-12.4645,-12.7723, -12.9788,-13.2877,-13.4971,-13.7055, -13.9151,-14.2301,-14.4422,-14.6551, -14.8692,-15.0829,-15.2983,-15.5154, -15.7311,-15.9497,-16.1693,-16.3878, -16.7215,-17.0577,-17.2824,-17.5039, -17.845,-18.0741,-18.3025,-18.5307, -18.7623,-18.9931,-19.2267,-19.4602, -19.6961,-19.9317,-20.17,-20.4083, -20.5375,-20.5328,-20.5247,-20.5125, -20.5048,-20.4934,-20.4773,-20.3471, -20.1097,-19.8727,-19.6377,-19.2871, -19.0553,-18.7073,-18.4766,-18.1329, -17.9026,-17.6782,-17.4521,-17.1161, -16.8915,-16.6701,-16.4494,-16.2285, -16.0103,-15.7905,-15.5735,-15.358, -15.1413,-14.9277,-14.7121,-14.4925, -14.2802,-14.0703,-13.8578,-13.5454, -13.3368,-13.1362,-12.9316,-12.7238, -12.5159,-12.3129,-12.1091,-11.8035, -11.5014,-11.2999,-10.9989,-10.6, -10.3993,-10.0092,-9.80886,-9.71765)
FOOTPRINT_POINT_LONGITUDE = (141.976,141.698,141.422,141.149, 140.877,140.608,140.476,140.463,140.45, 140.434,140.427,140.42,140.41,140.403, 140.396,140.385,140.378,140.367,140.36, 140.352,140.344,140.333,140.325,140.317 ,140.309,140.3,140.292,140.284,140.275, 140.266,140.258,140.249,140.235,140.222 ,140.213,140.203,140.189,140.179, 140.169,140.159,140.149,140.139,140.128 ,140.118,140.107,140.096,140.085, 140.074,140.4,140.639,140.974,141.408, 141.627,141.944,142.336,142.562,142.552 ,142.542,142.532,142.517,142.508, 142.495,142.486,142.474,142.467,142.458 ,142.45,142.439,142.432,142.424,142.417 ,142.41,142.403,142.397,142.39,142.383, 142.377,142.371,142.366,142.363,142.358 ,142.352,142.347,142.339,142.333, 142.324,142.318,142.314,142.311,142.306 ,142.301,142.295,142.289,142.285,142.28 ,142.274,142.271,142.264,142.263, 141.976)
ORBIT_NUMBER = 9335
ORBITAL_ECCENTRICITY = 0.577
ORBITAL_INCLINATION = 86.84
ORBITAL_SEMIMAJOR_AXIS = 8853.98
PERIAPSIS_ALTITUDE = 346.84
PERIAPSIS_ARGUMENT_ANGLE = 166.73
PERIAPSIS_TIME = 2011-04-24T17:52:28.000Z
SPACECRAFT_ORIENTATION = (0.0,-1.0,0.0)
^MEX_ORIENTATION_DESC = "MEX_ORIENTATION_DESC.TXT"
SPACECRAFT_POINTING_MODE = ACROSSTRACK
^MEX_POINTING_DESC = "MEX_POINTING_DESC.TXT"
RIGHT_ASCENSION = -1e+32
DECLINATION = -1e+32
OFFSET_ANGLE = 0.8
SPACECRAFT_SOLAR_DISTANCE = 2.08903e+08
TARGET_NAME = MARS
/* CAMERA DATA ELEMENTS */
DETECTOR_TEMPERATURE = 18.5744
FOCAL_PLANE_TEMPERATURE = 8.7872
INST_CMPRS_NAME = "DISCRETE COSINE TRANSFORMATION (DCT)"
INST_CMPRS_RATIO = 9.46156
INST_CMPRS_QUALITY = 0
INST_CMPRS_QUANTZ_TBL_ID = 0
INSTRUMENT_TEMPERATURE = 11.234
LENS_TEMPERATURE = 8.9911
MACROPIXEL_SIZE = 2
MISSING_FRAMES = 0
PIXEL_SUBSAMPLING_FLAG = N
SIGNAL_CHAIN_ID = 1
/* RADIOMETRIC DATA ELEMENTS */
BANDWIDTH = 178.0
CENTER_FILTER_WAVELENGTH = 679.0
RADIANCE_OFFSET = 2.38331
RADIANCE_SCALING_FACTOR = 0.0148803
REFLECTANCE_SCALING_FACTOR = 0.0003439
MEX:REFLECTANCE_OFFSET = 0.0550808
/* IMAGE OBJECT DEFINITIONS */
OBJECT = IMAGE
  INTERCHANGE_FORMAT = BINARY
  LINES = 25546
  LINE_SAMPLES = 5162
  SAMPLE_TYPE = UNSIGNED_INTEGER
  SAMPLE_BITS = 8
  BANDS = 1
  BAND_STORAGE_TYPE = BAND_SEQUENTIAL
  MAXIMUM = 255
  MEAN = 100.639
  MINIMUM = 1
  STANDARD_DEVIATION = 38.2363
END_OBJECT = IMAGE
/* MAP OBJECT DEFINITIONS */
OBJECT = IMAGE_MAP_PROJECTION
  ^DATA_SET_MAP_PROJECTION_CATALOG= "DSMAP.CAT"
  A_AXIS_RADIUS = 3396.0
  B_AXIS_RADIUS = 3396.0
  C_AXIS_RADIUS = 3396.0
  CENTER_LATITUDE = 0.0
  CENTER_LONGITUDE = 141.0
  COORDINATE_SYSTEM_NAME = PLANETOGRAPHIC
  COORDINATE_SYSTEM_TYPE = "BODY-FIXED ROTATING"
  EASTERNMOST_LONGITUDE = 142.562
  FIRST_STANDARD_PARALLEL = "N/A"
  LINE_FIRST_PIXEL = 1
  LINE_LAST_PIXEL = 25546
  LINE_PROJECTION_OFFSET = -23081.25
  MAP_PROJECTION_ROTATION = 0.0
  MAP_PROJECTION_TYPE = SINUSOIDAL
  MAP_RESOLUTION = 2370.85521546667
  MAP_SCALE = 0.025
  MAXIMUM_LATITUDE = -9.717650000000001
  MINIMUM_LATITUDE = -20.5375
  POSITIVE_LONGITUDE_DIRECTION = EAST
  REFERENCE_LATITUDE = "N/A"
  REFERENCE_LONGITUDE = "N/A"
  SAMPLE_FIRST_PIXEL = 1
  SAMPLE_LAST_PIXEL = 5162
  SAMPLE_PROJECTION_OFFSET = 1809.25
  SECOND_STANDARD_PARALLEL = "N/A"
  WESTERNMOST_LONGITUDE = 140.074
END_OBJECT = IMAGE_MAP_PROJECTION
/* The JPEG2000 image data file associated with this label. */
OBJECT = COMPRESSED_FILE
  FILE_NAME = "H9335_0000_S23.JP2"
  RECORD_TYPE = UNDEFINED
  FILE_RECORDS = UNK
  ENCODING_TYPE = "JP2"
  INTERCHANGE_FORMAT = BINARY
  UNCOMPRESSED_FILE_NAME = "H9335_0000_S23.IMG"
  REQUIRED_STORAGE_BYTES = "131894262"
  ^DESCRIPTION = "JP2INFO.TXT"
END_OBJECT = COMPRESSED_FILE
END
