PDS_VERSION_ID = PDS3
/* FILE DATA ELEMENTS */
RECORD_TYPE = STREAM
/* POINTERS TO DATA OBJECTS */
^COMPRESSED_FILE = "H9337_0000_ND3.JP2"
/* IDENTIFICATION DATA ELEMENTS */
DATA_SET_ID = "MEX-M-HRSC-5-REFDR-MAPPROJECTED-V3.0"
DATA_SET_NAME = "MARS EXPRESS HRSC MAP PROJECTED REFDR V3.0"
DETECTOR_ID = MEX_HRSC_NADIR
EVENT_TYPE = "MARS-REGIONAL-MAPPING-Vo-Te-Fl"
INSTRUMENT_HOST_ID = MEX
INSTRUMENT_HOST_NAME = "MARS EXPRESS"
INSTRUMENT_ID = HRSC
INSTRUMENT_NAME = "HIGH RESOLUTION STEREO CAMERA"
MISSION_NAME = "MARS EXPRESS"
MISSION_PHASE_NAME = ME_Phase_23
PROCESSING_LEVEL_ID = 3
PRODUCT_CREATION_TIME = 2016-10-26T12:35:54.000Z
PRODUCT_ID = "H9337_0000_ND3.JP2"
RELEASE_ID = 0096
REVISION_ID = 0000
/* QUALITY DATA ELEMENTS */
DATA_QUALITY_ID = 1
DATA_QUALITY_DESC = "Data calculated based on original SPICE kernels"
/* TIME DATA ELEMENTS */
SPACECRAFT_CLOCK_START_COUNT = "1/0251798046.09122"
SPACECRAFT_CLOCK_STOP_COUNT = "1/0251798219.56555"
START_TIME = 2011-04-25T07:54:42.298Z
STOP_TIME = 2011-04-25T07:56:20.301Z
/* ORBITAL DATA ELEMENTS */
ASCENDING_NODE_LONGITUDE = 38.98
MAXIMUM_RESOLUTION = 14.9
FOOTPRINT_POINT_LATITUDE = (2.467,2.46879,2.47057,2.47234,2.47409, 2.47613,2.35087,2.22566,2.10048,1.97535 ,1.85026,1.72522,1.60021,1.47524, 1.35032,1.22544,1.1006,0.975806,0.85106 ,0.726355,0.601698,0.477084,0.352524, 0.227987,0.103516,-0.020824,-0.145217, -0.269635,-0.393897,-0.518134,-0.642321 ,-0.766454,-0.890532,-1.01456,-1.13854, -1.26248,-1.38636,-1.5102,-1.63399, -1.75771,-2.00501,-2.25208,-2.49894, -2.74556,-2.99196,-3.23813,-3.48408, -3.60955,-3.7357,-3.73934,-3.74108, -3.74378,-3.74525,-3.74783,-3.75016, -3.7531,-3.62711,-3.5015,-3.25535, -3.00897,-2.76235,-2.51552,-2.26846, -2.02118,-1.77368,-1.64985,-1.52597, -1.40204,-1.27805,-1.15402,-1.02993, -0.905786,-0.781601,-0.65736,-0.533075, -0.408736,-0.284348,-0.159915, -0.0354326,0.0890984,0.213675,0.338301, 0.46297,0.587689,0.71245,0.83726, 0.962113,1.08701,1.21195,1.33693, 1.46196,1.58703,1.71214,1.83729,1.96249 ,2.08772,2.213,2.33832,2.46368,2.467)
FOOTPRINT_POINT_LONGITUDE = (295.567,295.361,295.152,294.941, 294.727,294.428,294.427,294.425,294.423 ,294.421,294.419,294.417,294.415, 294.413,294.411,294.409,294.407,294.405 ,294.403,294.401,294.399,294.397, 294.395,294.393,294.391,294.386,294.384 ,294.385,294.382,294.379,294.377, 294.375,294.372,294.37,294.367,294.365, 294.363,294.361,294.358,294.356,294.351 ,294.346,294.341,294.335,294.33,294.324 ,294.318,294.316,294.313,294.49,294.636 ,294.869,294.999,295.228,295.441, 295.721,295.769,295.768,295.768,295.767 ,295.766,295.766,295.765,295.765, 295.764,295.764,295.764,295.763,295.763 ,295.763,295.763,295.763,295.762, 295.762,295.762,295.762,295.762,295.762 ,295.761,295.761,295.761,295.761, 295.761,295.761,295.761,295.761,295.76, 295.76,295.76,295.76,295.76,295.76, 295.76,295.76,295.76,295.76,295.76, 295.76,295.76,295.567)
ORBIT_NUMBER = 9337
ORBITAL_ECCENTRICITY = 0.577
ORBITAL_INCLINATION = 86.85
ORBITAL_SEMIMAJOR_AXIS = 8854.69
PERIAPSIS_ALTITUDE = 346.72
PERIAPSIS_ARGUMENT_ANGLE = 166.39
PERIAPSIS_TIME = 2011-04-25T07:51:50.000Z
SPACECRAFT_ORIENTATION = (0.0,-1.0,0.0)
^MEX_ORIENTATION_DESC = "MEX_ORIENTATION_DESC.TXT"
SPACECRAFT_POINTING_MODE = ACROSSTRACK
^MEX_POINTING_DESC = "MEX_POINTING_DESC.TXT"
RIGHT_ASCENSION = -1e+32
DECLINATION = -1e+32
OFFSET_ANGLE = -0.95
SPACECRAFT_SOLAR_DISTANCE = 2.08958e+08
TARGET_NAME = MARS
/* CAMERA DATA ELEMENTS */
DETECTOR_TEMPERATURE = 18.3705
FOCAL_PLANE_TEMPERATURE = 8.3794
INST_CMPRS_NAME = "DISCRETE COSINE TRANSFORMATION (DCT)"
INST_CMPRS_RATIO = 6.60157
INST_CMPRS_QUALITY = 0
INST_CMPRS_QUANTZ_TBL_ID = 0
INSTRUMENT_TEMPERATURE = 11.234
LENS_TEMPERATURE = 8.7872
MACROPIXEL_SIZE = 1
MISSING_FRAMES = 0
PIXEL_SUBSAMPLING_FLAG = N
SIGNAL_CHAIN_ID = 0
/* RADIOMETRIC DATA ELEMENTS */
BANDWIDTH = 177.0
CENTER_FILTER_WAVELENGTH = 677.5
RADIANCE_OFFSET = 2.53102
RADIANCE_SCALING_FACTOR = 0.0124342
REFLECTANCE_SCALING_FACTOR = 0.000288419
MEX:REFLECTANCE_OFFSET = 0.0587084
/* IMAGE OBJECT DEFINITIONS */
OBJECT = IMAGE
  INTERCHANGE_FORMAT = BINARY
  LINES = 29551
  LINE_SAMPLES = 7400
  SAMPLE_TYPE = UNSIGNED_INTEGER
  SAMPLE_BITS = 8
  BANDS = 1
  BAND_STORAGE_TYPE = BAND_SEQUENTIAL
  MAXIMUM = 255
  MEAN = 84.4107
  MINIMUM = 1
  STANDARD_DEVIATION = 21.4555
END_OBJECT = IMAGE
/* MAP OBJECT DEFINITIONS */
OBJECT = IMAGE_MAP_PROJECTION
  ^DATA_SET_MAP_PROJECTION_CATALOG= "DSMAP.CAT"
  A_AXIS_RADIUS = 3396.0
  B_AXIS_RADIUS = 3396.0
  C_AXIS_RADIUS = 3396.0
  CENTER_LATITUDE = 0.0
  CENTER_LONGITUDE = 295.0
  COORDINATE_SYSTEM_NAME = PLANETOGRAPHIC
  COORDINATE_SYSTEM_TYPE = "BODY-FIXED ROTATING"
  EASTERNMOST_LONGITUDE = 295.769
  FIRST_STANDARD_PARALLEL = "N/A"
  LINE_FIRST_PIXEL = 1
  LINE_LAST_PIXEL = 29551
  LINE_PROJECTION_OFFSET = 11753.0
  MAP_PROJECTION_ROTATION = 0.0
  MAP_PROJECTION_TYPE = SINUSOIDAL
  MAP_RESOLUTION = 4741.71043093333
  MAP_SCALE = 0.0125
  MAXIMUM_LATITUDE = 2.47613
  MINIMUM_LATITUDE = -3.7531
  POSITIVE_LONGITUDE_DIRECTION = EAST
  REFERENCE_LATITUDE = "N/A"
  REFERENCE_LONGITUDE = "N/A"
  SAMPLE_FIRST_PIXEL = 1
  SAMPLE_LAST_PIXEL = 7400
  SAMPLE_PROJECTION_OFFSET = 3766.0
  SECOND_STANDARD_PARALLEL = "N/A"
  WESTERNMOST_LONGITUDE = 294.313
END_OBJECT = IMAGE_MAP_PROJECTION
/* The JPEG2000 image data file associated with this label. */
OBJECT = COMPRESSED_FILE
  FILE_NAME = "H9337_0000_ND3.JP2"
  RECORD_TYPE = UNDEFINED
  FILE_RECORDS = UNK
  ENCODING_TYPE = "JP2"
  INTERCHANGE_FORMAT = BINARY
  UNCOMPRESSED_FILE_NAME = "H9337_0000_ND3.IMG"
  REQUIRED_STORAGE_BYTES = "218707000"
  ^DESCRIPTION = "JP2INFO.TXT"
END_OBJECT = COMPRESSED_FILE
END
