PDS_VERSION_ID = PDS3
/* FILE DATA ELEMENTS */
RECORD_TYPE = STREAM
/* POINTERS TO DATA OBJECTS */
^COMPRESSED_FILE = "H9337_0000_P13.JP2"
/* IDENTIFICATION DATA ELEMENTS */
DATA_SET_ID = "MEX-M-HRSC-5-REFDR-MAPPROJECTED-V3.0"
DATA_SET_NAME = "MARS EXPRESS HRSC MAP PROJECTED REFDR V3.0"
DETECTOR_ID = MEX_HRSC_P1
EVENT_TYPE = "MARS-REGIONAL-MAPPING-Vo-Te-Fl"
INSTRUMENT_HOST_ID = MEX
INSTRUMENT_HOST_NAME = "MARS EXPRESS"
INSTRUMENT_ID = HRSC
INSTRUMENT_NAME = "HIGH RESOLUTION STEREO CAMERA"
MISSION_NAME = "MARS EXPRESS"
MISSION_PHASE_NAME = ME_Phase_23
PROCESSING_LEVEL_ID = 3
PRODUCT_CREATION_TIME = 2016-10-26T12:35:54.000Z
PRODUCT_ID = "H9337_0000_P13.JP2"
RELEASE_ID = 0096
REVISION_ID = 0000
/* QUALITY DATA ELEMENTS */
DATA_QUALITY_ID = 1
DATA_QUALITY_DESC = "Data calculated based on original SPICE kernels"
/* TIME DATA ELEMENTS */
SPACECRAFT_CLOCK_START_COUNT = "1/0251798046.09122"
SPACECRAFT_CLOCK_STOP_COUNT = "1/0251798219.56555"
START_TIME = 2011-04-25T07:54:20.257Z
STOP_TIME = 2011-04-25T07:55:55.971Z
/* ORBITAL DATA ELEMENTS */
ASCENDING_NODE_LONGITUDE = 38.98
MAXIMUM_RESOLUTION = 60
FOOTPRINT_POINT_LATITUDE = (2.48374,2.47829,2.47267,2.46681, 2.46069,2.45431,2.45029,2.29264,2.0523, 1.92691,1.80136,1.67582,1.5504,1.36233, 1.23691,1.11161,0.986258,0.798242, 0.672925,0.547658,0.422289,0.297008, 0.172224,0.0467779,-0.0786205,-0.203345 ,-0.328919,-0.454079,-0.641718, -0.767123,-0.955036,-1.0798,-1.20495, -1.39233,-1.51692,-1.70433,-1.82928, -1.95389,-2.07887,-2.2659,-2.39072, -2.57787,-2.70267,-2.82754,-2.95235, -3.07701,-3.2019,-3.51363,-3.76254, -3.76118,-3.7563,-3.75152,-3.74583, -3.74113,-3.73982,-3.73403,-3.66765, -3.54288,-3.41809,-3.29337,-3.10626, -2.98144,-2.85655,-2.73162,-2.60665, -2.48171,-2.35685,-2.23191,-2.04458, -1.91969,-1.79469,-1.66975,-1.54468, -1.41961,-1.29446,-1.16943,-0.981848, -0.856597,-0.731489,-0.606223,-0.481063 ,-0.293107,-0.167794,0.0201867,0.145602 ,0.270861,0.396237,0.584257,0.709744, 0.897827,1.02326,1.14879,1.2744,1.46244 ,1.65085,1.77642,1.90201,2.09037, 2.33097,2.48374)
FOOTPRINT_POINT_LONGITUDE = (295.665,295.474,295.282,295.087,294.89 ,294.691,294.441,294.439,294.436, 294.434,294.432,294.43,294.429,294.426, 294.424,294.422,294.42,294.417,294.415, 294.414,294.411,294.409,294.408,294.406 ,294.403,294.402,294.399,294.397, 294.394,294.391,294.388,294.386,294.384 ,294.38,294.378,294.375,294.373,294.371 ,294.368,294.365,294.362,294.358, 294.356,294.353,294.351,294.348,294.345 ,294.338,294.333,294.468,294.671, 294.858,295.084,295.281,295.41,295.605, 295.75,295.75,295.75,295.75,295.749, 295.749,295.749,295.749,295.749,295.749 ,295.749,295.748,295.748,295.748, 295.748,295.748,295.748,295.748,295.748 ,295.748,295.748,295.747,295.747, 295.747,295.747,295.747,295.747,295.747 ,295.747,295.747,295.747,295.747, 295.748,295.748,295.748,295.748,295.748 ,295.748,295.748,295.748,295.748, 295.748,295.749,295.665)
ORBIT_NUMBER = 9337
ORBITAL_ECCENTRICITY = 0.577
ORBITAL_INCLINATION = 86.85
ORBITAL_SEMIMAJOR_AXIS = 8854.69
PERIAPSIS_ALTITUDE = 346.72
PERIAPSIS_ARGUMENT_ANGLE = 166.39
PERIAPSIS_TIME = 2011-04-25T07:51:50.000Z
SPACECRAFT_ORIENTATION = (0.0,-1.0,0.0)
^MEX_ORIENTATION_DESC = "MEX_ORIENTATION_DESC.TXT"
SPACECRAFT_POINTING_MODE = ACROSSTRACK
^MEX_POINTING_DESC = "MEX_POINTING_DESC.TXT"
RIGHT_ASCENSION = -1e+32
DECLINATION = -1e+32
OFFSET_ANGLE = -0.95
SPACECRAFT_SOLAR_DISTANCE = 2.08958e+08
TARGET_NAME = MARS
/* CAMERA DATA ELEMENTS */
DETECTOR_TEMPERATURE = 17.5549
FOCAL_PLANE_TEMPERATURE = 8.3794
INST_CMPRS_NAME = "DISCRETE COSINE TRANSFORMATION (DCT)"
INST_CMPRS_RATIO = 9.08369
INST_CMPRS_QUALITY = 0
INST_CMPRS_QUANTZ_TBL_ID = 0
INSTRUMENT_TEMPERATURE = 11.234
LENS_TEMPERATURE = 8.7872
MACROPIXEL_SIZE = 4
MISSING_FRAMES = 0
PIXEL_SUBSAMPLING_FLAG = N
SIGNAL_CHAIN_ID = 3
/* RADIOMETRIC DATA ELEMENTS */
BANDWIDTH = 174.0
CENTER_FILTER_WAVELENGTH = 675.0
RADIANCE_OFFSET = 2.95857
RADIANCE_SCALING_FACTOR = 0.0123631
REFLECTANCE_SCALING_FACTOR = 0.000290357
MEX:REFLECTANCE_OFFSET = 0.0694846
/* IMAGE OBJECT DEFINITIONS */
OBJECT = IMAGE
  INTERCHANGE_FORMAT = BINARY
  LINES = 7388
  LINE_SAMPLES = 1850
  SAMPLE_TYPE = UNSIGNED_INTEGER
  SAMPLE_BITS = 8
  BANDS = 1
  BAND_STORAGE_TYPE = BAND_SEQUENTIAL
  MAXIMUM = 255
  MEAN = 87.4324
  MINIMUM = 1
  STANDARD_DEVIATION = 21.6432
END_OBJECT = IMAGE
/* MAP OBJECT DEFINITIONS */
OBJECT = IMAGE_MAP_PROJECTION
  ^DATA_SET_MAP_PROJECTION_CATALOG= "DSMAP.CAT"
  A_AXIS_RADIUS = 3396.0
  B_AXIS_RADIUS = 3396.0
  C_AXIS_RADIUS = 3396.0
  CENTER_LATITUDE = 0.0
  CENTER_LONGITUDE = 295.0
  COORDINATE_SYSTEM_NAME = PLANETOGRAPHIC
  COORDINATE_SYSTEM_TYPE = "BODY-FIXED ROTATING"
  EASTERNMOST_LONGITUDE = 295.75
  FIRST_STANDARD_PARALLEL = "N/A"
  LINE_FIRST_PIXEL = 1
  LINE_LAST_PIXEL = 7388
  LINE_PROJECTION_OFFSET = 2937.875
  MAP_PROJECTION_ROTATION = 0.0
  MAP_PROJECTION_TYPE = SINUSOIDAL
  MAP_RESOLUTION = 1185.42760773333
  MAP_SCALE = 0.05
  MAXIMUM_LATITUDE = 2.48374
  MINIMUM_LATITUDE = -3.76254
  POSITIVE_LONGITUDE_DIRECTION = EAST
  REFERENCE_LATITUDE = "N/A"
  REFERENCE_LONGITUDE = "N/A"
  SAMPLE_FIRST_PIXEL = 1
  SAMPLE_LAST_PIXEL = 1850
  SAMPLE_PROJECTION_OFFSET = 941.125
  SECOND_STANDARD_PARALLEL = "N/A"
  WESTERNMOST_LONGITUDE = 294.333
END_OBJECT = IMAGE_MAP_PROJECTION
/* The JPEG2000 image data file associated with this label. */
OBJECT = COMPRESSED_FILE
  FILE_NAME = "H9337_0000_P13.JP2"
  RECORD_TYPE = UNDEFINED
  FILE_RECORDS = UNK
  ENCODING_TYPE = "JP2"
  INTERCHANGE_FORMAT = BINARY
  UNCOMPRESSED_FILE_NAME = "H9337_0000_P13.IMG"
  REQUIRED_STORAGE_BYTES = "13688150"
  ^DESCRIPTION = "JP2INFO.TXT"
END_OBJECT = COMPRESSED_FILE
END
