PDS_VERSION_ID = PDS3
/* FILE DATA ELEMENTS */
RECORD_TYPE = STREAM
/* POINTERS TO DATA OBJECTS */
^COMPRESSED_FILE = "H9338_0000_ND3.JP2"
/* IDENTIFICATION DATA ELEMENTS */
DATA_SET_ID = "MEX-M-HRSC-5-REFDR-MAPPROJECTED-V3.0"
DATA_SET_NAME = "MARS EXPRESS HRSC MAP PROJECTED REFDR V3.0"
DETECTOR_ID = MEX_HRSC_NADIR
EVENT_TYPE = "MARS-REGIONAL-MAPPING-Vo-Fl-Eo"
INSTRUMENT_HOST_ID = MEX
INSTRUMENT_HOST_NAME = "MARS EXPRESS"
INSTRUMENT_ID = HRSC
INSTRUMENT_NAME = "HIGH RESOLUTION STEREO CAMERA"
MISSION_NAME = "MARS EXPRESS"
MISSION_PHASE_NAME = ME_Phase_23
PROCESSING_LEVEL_ID = 3
PRODUCT_CREATION_TIME = 2016-10-26T12:35:54.000Z
PRODUCT_ID = "H9338_0000_ND3.JP2"
RELEASE_ID = 0096
REVISION_ID = 0000
/* QUALITY DATA ELEMENTS */
DATA_QUALITY_ID = 1
DATA_QUALITY_DESC = "Data calculated based on original SPICE kernels"
/* TIME DATA ELEMENTS */
SPACECRAFT_CLOCK_START_COUNT = "1/0251823305.07311"
SPACECRAFT_CLOCK_STOP_COUNT = "1/0251823816.51904"
START_TIME = 2011-04-25T14:55:44.025Z
STOP_TIME = 2011-04-25T15:02:11.014Z
/* ORBITAL DATA ELEMENTS */
ASCENDING_NODE_LONGITUDE = 38.96
MAXIMUM_RESOLUTION = 16.3
FOOTPRINT_POINT_LATITUDE = (-2.85258,-2.8491,-2.84552,-3.4026, -3.97257,-4.35368,-4.73411,-5.12181, -5.51109,-5.89971,-6.29421,-6.69134, -7.08773,-7.69385,-8.09822,-8.71461, -9.12668,-9.75474,-10.1743,-10.602, -11.0293,-11.4629,-11.8978,-12.3389, -12.7811,-13.2303,-13.9092,-14.3661, -14.8297,-15.2956,-15.7676,-16.2439, -16.7238,-17.2097,-17.7012,-18.1969, -18.6976,-19.2041,-19.7169,-20.2349, -20.7586,-21.2882,-21.824,-22.3662, -22.9147,-23.4698,-24.0282,-24.5839, -25.1369,-25.6873,-25.6924,-25.6918, -25.6882,-25.1346,-24.5826,-24.0279, -23.4704,-22.9161,-22.3684,-21.8268, -21.2918,-20.7628,-20.2398,-19.7223, -19.21,-18.7039,-18.2038,-17.7084, -17.2173,-16.7319,-16.2522,-15.7761, -15.3047,-14.839,-14.3756,-13.9187, -13.2402,-12.7912,-12.3492,-11.9082, -11.4735,-11.04,-10.6128,-10.1852, -9.76572,-9.13774,-8.72573,-8.10927, -7.70502,-7.09907,-6.70269,-6.30558, -5.91112,-5.52255,-5.13329,-4.74568, -4.36517,-3.98406,-3.41407,-2.85258)
FOOTPRINT_POINT_LONGITUDE = (194.957,194.499,194.051,193.825, 193.812,193.804,193.795,193.786,193.777 ,193.767,193.757,193.748,193.738, 193.722,193.711,193.695,193.684,193.667 ,193.655,193.643,193.63,193.618,193.605 ,193.591,193.578,193.564,193.543, 193.528,193.513,193.497,193.482,193.466 ,193.449,193.432,193.414,193.396, 193.378,193.359,193.34,193.32,193.3, 193.279,193.258,193.235,193.212,193.189 ,193.165,193.141,193.116,193.091, 193.984,194.702,195.372,195.766,195.742 ,195.714,195.692,195.67,195.65,195.63, 195.611,195.591,195.574,195.557,195.547 ,195.532,195.516,195.502,195.487, 195.473,195.462,195.45,195.44,195.43, 195.42,195.412,195.399,195.39,195.382, 195.375,195.368,195.36,195.354,195.349, 195.343,195.335,195.331,195.331,195.325 ,195.315,195.312,195.309,195.307, 195.304,195.303,195.301,195.298,195.296 ,195.293,194.957)
ORBIT_NUMBER = 9338
ORBITAL_ECCENTRICITY = 0.577
ORBITAL_INCLINATION = 86.85
ORBITAL_SEMIMAJOR_AXIS = 8848.56
PERIAPSIS_ALTITUDE = 347.08
PERIAPSIS_ARGUMENT_ANGLE = 166.18
PERIAPSIS_TIME = 2011-04-25T14:51:25.000Z
SPACECRAFT_ORIENTATION = (0.0,-1.0,0.0)
^MEX_ORIENTATION_DESC = "MEX_ORIENTATION_DESC.TXT"
SPACECRAFT_POINTING_MODE = ACROSSTRACK
^MEX_POINTING_DESC = "MEX_POINTING_DESC.TXT"
RIGHT_ASCENSION = -1e+32
DECLINATION = -1e+32
OFFSET_ANGLE = 0.8
SPACECRAFT_SOLAR_DISTANCE = 2.08987e+08
TARGET_NAME = MARS
/* CAMERA DATA ELEMENTS */
DETECTOR_TEMPERATURE = 18.3705
FOCAL_PLANE_TEMPERATURE = 8.3794
INST_CMPRS_NAME = "DISCRETE COSINE TRANSFORMATION (DCT)"
INST_CMPRS_RATIO = 6.9913
INST_CMPRS_QUALITY = 0
INST_CMPRS_QUANTZ_TBL_ID = 0
INSTRUMENT_TEMPERATURE = 12.4574
LENS_TEMPERATURE = 8.5833
MACROPIXEL_SIZE = 1
MISSING_FRAMES = 0
PIXEL_SUBSAMPLING_FLAG = N
SIGNAL_CHAIN_ID = 0
/* RADIOMETRIC DATA ELEMENTS */
BANDWIDTH = 177.0
CENTER_FILTER_WAVELENGTH = 677.5
RADIANCE_OFFSET = 2.28248
RADIANCE_SCALING_FACTOR = 0.018169
REFLECTANCE_SCALING_FACTOR = 0.000421555
MEX:REFLECTANCE_OFFSET = 0.0529578
/* IMAGE OBJECT DEFINITIONS */
OBJECT = IMAGE
  INTERCHANGE_FORMAT = BINARY
  LINES = 108343
  LINE_SAMPLES = 11867
  SAMPLE_TYPE = UNSIGNED_INTEGER
  SAMPLE_BITS = 8
  BANDS = 1
  BAND_STORAGE_TYPE = BAND_SEQUENTIAL
  MAXIMUM = 255
  MEAN = 105.088
  MINIMUM = 1
  STANDARD_DEVIATION = 26.9543
END_OBJECT = IMAGE
/* MAP OBJECT DEFINITIONS */
OBJECT = IMAGE_MAP_PROJECTION
  ^DATA_SET_MAP_PROJECTION_CATALOG= "DSMAP.CAT"
  A_AXIS_RADIUS = 3396.0
  B_AXIS_RADIUS = 3396.0
  C_AXIS_RADIUS = 3396.0
  CENTER_LATITUDE = 0.0
  CENTER_LONGITUDE = 194.0
  COORDINATE_SYSTEM_NAME = PLANETOGRAPHIC
  COORDINATE_SYSTEM_TYPE = "BODY-FIXED ROTATING"
  EASTERNMOST_LONGITUDE = 195.766
  FIRST_STANDARD_PARALLEL = "N/A"
  LINE_FIRST_PIXEL = 1
  LINE_LAST_PIXEL = 108343
  LINE_PROJECTION_OFFSET = -13485.0
  MAP_PROJECTION_ROTATION = 0.0
  MAP_PROJECTION_TYPE = SINUSOIDAL
  MAP_RESOLUTION = 4741.71043093333
  MAP_SCALE = 0.0125
  MAXIMUM_LATITUDE = -2.84552
  MINIMUM_LATITUDE = -25.6924
  POSITIVE_LONGITUDE_DIRECTION = EAST
  REFERENCE_LATITUDE = "N/A"
  REFERENCE_LONGITUDE = "N/A"
  SAMPLE_FIRST_PIXEL = 1
  SAMPLE_LAST_PIXEL = 11867
  SAMPLE_PROJECTION_OFFSET = 3920.0
  SECOND_STANDARD_PARALLEL = "N/A"
  WESTERNMOST_LONGITUDE = 193.091
END_OBJECT = IMAGE_MAP_PROJECTION
/* The JPEG2000 image data file associated with this label. */
OBJECT = COMPRESSED_FILE
  FILE_NAME = "H9338_0000_ND3.JP2"
  RECORD_TYPE = UNDEFINED
  FILE_RECORDS = UNK
  ENCODING_TYPE = "JP2"
  INTERCHANGE_FORMAT = BINARY
  UNCOMPRESSED_FILE_NAME = "H9338_0000_ND3.IMG"
  REQUIRED_STORAGE_BYTES = "1285741982"
  ^DESCRIPTION = "JP2INFO.TXT"
END_OBJECT = COMPRESSED_FILE
END
