PDS_VERSION_ID = PDS3
/* FILE DATA ELEMENTS */
RECORD_TYPE = STREAM
/* POINTERS TO DATA OBJECTS */
^COMPRESSED_FILE = "H9345_0000_GR3.JP2"
/* IDENTIFICATION DATA ELEMENTS */
DATA_SET_ID = "MEX-M-HRSC-5-REFDR-MAPPROJECTED-V3.0"
DATA_SET_NAME = "MARS EXPRESS HRSC MAP PROJECTED REFDR V3.0"
DETECTOR_ID = MEX_HRSC_GREEN
EVENT_TYPE = "MARS-REGIONAL-MAPPING-Vo-Fl-Eo"
INSTRUMENT_HOST_ID = MEX
INSTRUMENT_HOST_NAME = "MARS EXPRESS"
INSTRUMENT_ID = HRSC
INSTRUMENT_NAME = "HIGH RESOLUTION STEREO CAMERA"
MISSION_NAME = "MARS EXPRESS"
MISSION_PHASE_NAME = ME_Phase_23
PROCESSING_LEVEL_ID = 3
PRODUCT_CREATION_TIME = 2016-10-26T12:35:54.000Z
PRODUCT_ID = "H9345_0000_GR3.JP2"
RELEASE_ID = 0096
REVISION_ID = 0000
/* QUALITY DATA ELEMENTS */
DATA_QUALITY_ID = 1
DATA_QUALITY_DESC = "Data calculated based on original SPICE kernels"
/* TIME DATA ELEMENTS */
SPACECRAFT_CLOCK_START_COUNT = "1/0251999581.07283"
SPACECRAFT_CLOCK_STOP_COUNT = "1/0251999978.40003"
START_TIME = 2011-04-27T15:53:35.885Z
STOP_TIME = 2011-04-27T15:58:15.765Z
/* ORBITAL DATA ELEMENTS */
ASCENDING_NODE_LONGITUDE = 38.83
MAXIMUM_RESOLUTION = 67.3
FOOTPRINT_POINT_LATITUDE = (-2.89679,-2.89825,-2.89972,-3.06311, -3.69177,-4.33295,-4.65369,-4.9743, -5.46474,-5.79205,-6.11911,-6.45163, -6.78544,-7.11857,-7.62645,-7.96765, -8.30667,-8.65131,-8.99822,-9.34377, -9.69696,-10.2266,-10.5781,-11.1035, -11.454,-11.8033,-12.1522,-12.5, -12.8476,-13.1943,-13.5403,-13.8856, -14.2302,-14.5738,-14.917,-15.2592, -15.6009,-15.9419,-16.2822,-16.622, -16.9606,-17.2986,-17.6358,-17.9722, -18.3079,-18.6429,-18.9769,-19.3102, -19.6428,-19.8559,-19.8603,-19.8642, -19.8671,-19.8718,-19.5396,-19.2059, -18.8725,-18.5374,-18.2011,-17.8642, -17.5266,-17.1884,-16.8494,-16.5098, -16.1694,-15.828,-15.4861,-15.1435, -14.8005,-14.4566,-14.1122,-13.7669, -13.4207,-13.074,-12.7263,-12.3788, -11.8543,-11.5045,-11.1539,-10.8028, -10.4509,-10.0983,-9.7455,-9.21818, -8.87199,-8.52487,-8.01087,-7.67024, -7.16178,-6.82783,-6.49335,-6.15944, -5.83204,-5.34004,-5.01173,-4.69085, -4.36949,-4.0478,-3.41176,-2.89679)
FOOTPRINT_POINT_LONGITUDE = (196.451,196.002,195.536,195.033, 195.016,195.001,194.994,194.985,194.973 ,194.965,194.956,194.947,194.939, 194.932,194.91,194.893,194.887,194.885, 194.87,194.861,194.847,194.821,194.809, 194.794,194.777,194.764,194.749,194.736 ,194.72,194.705,194.69,194.675,194.659, 194.645,194.63,194.615,194.599,194.583, 194.566,194.547,194.532,194.515,194.498 ,194.481,194.463,194.445,194.428,194.41 ,194.392,194.717,195.076,195.428, 195.776,196.392,196.707,196.704,196.698 ,196.694,196.691,196.688,196.685, 196.681,196.678,196.675,196.672,196.669 ,196.667,196.664,196.66,196.658,196.654 ,196.652,196.649,196.647,196.645, 196.641,196.64,196.638,196.637,196.635, 196.633,196.632,196.63,196.627,196.624, 196.623,196.621,196.62,196.617,196.616, 196.615,196.613,196.612,196.611,196.61, 196.609,196.608,196.607,196.606, 196.451)
ORBIT_NUMBER = 9345
ORBITAL_ECCENTRICITY = 0.577
ORBITAL_INCLINATION = 86.85
ORBITAL_SEMIMAJOR_AXIS = 8848.38
PERIAPSIS_ALTITUDE = 347.84
PERIAPSIS_ARGUMENT_ANGLE = 164.98
PERIAPSIS_TIME = 2011-04-27T15:49:03.000Z
SPACECRAFT_ORIENTATION = (0.0,-1.0,0.0)
^MEX_ORIENTATION_DESC = "MEX_ORIENTATION_DESC.TXT"
SPACECRAFT_POINTING_MODE = ACROSSTRACK
^MEX_POINTING_DESC = "MEX_POINTING_DESC.TXT"
RIGHT_ASCENSION = -1e+32
DECLINATION = -1e+32
OFFSET_ANGLE = -1.83
SPACECRAFT_SOLAR_DISTANCE = 2.09188e+08
TARGET_NAME = MARS
/* CAMERA DATA ELEMENTS */
DETECTOR_TEMPERATURE = 18.1666
FOCAL_PLANE_TEMPERATURE = 8.5833
INST_CMPRS_NAME = "DISCRETE COSINE TRANSFORMATION (DCT)"
INST_CMPRS_RATIO = 10.2221
INST_CMPRS_QUALITY = 0
INST_CMPRS_QUANTZ_TBL_ID = 0
INSTRUMENT_TEMPERATURE = 11.234
LENS_TEMPERATURE = 8.9911
MACROPIXEL_SIZE = 4
MISSING_FRAMES = 0
PIXEL_SUBSAMPLING_FLAG = N
SIGNAL_CHAIN_ID = 2
/* RADIOMETRIC DATA ELEMENTS */
BANDWIDTH = 88.0
CENTER_FILTER_WAVELENGTH = 538.0
RADIANCE_OFFSET = 1.24727
RADIANCE_SCALING_FACTOR = 0.00517235
REFLECTANCE_SCALING_FACTOR = 0.000194873
MEX:REFLECTANCE_OFFSET = 0.0469918
/* IMAGE OBJECT DEFINITIONS */
OBJECT = IMAGE
  INTERCHANGE_FORMAT = BINARY
  LINES = 20158
  LINE_SAMPLES = 2769
  SAMPLE_TYPE = UNSIGNED_INTEGER
  SAMPLE_BITS = 8
  BANDS = 1
  BAND_STORAGE_TYPE = BAND_SEQUENTIAL
  MAXIMUM = 255
  MEAN = 125.825
  MINIMUM = 1
  STANDARD_DEVIATION = 26.0625
END_OBJECT = IMAGE
/* MAP OBJECT DEFINITIONS */
OBJECT = IMAGE_MAP_PROJECTION
  ^DATA_SET_MAP_PROJECTION_CATALOG= "DSMAP.CAT"
  A_AXIS_RADIUS = 3396.0
  B_AXIS_RADIUS = 3396.0
  C_AXIS_RADIUS = 3396.0
  CENTER_LATITUDE = 0.0
  CENTER_LONGITUDE = 196.0
  COORDINATE_SYSTEM_NAME = PLANETOGRAPHIC
  COORDINATE_SYSTEM_TYPE = "BODY-FIXED ROTATING"
  EASTERNMOST_LONGITUDE = 196.707
  FIRST_STANDARD_PARALLEL = "N/A"
  LINE_FIRST_PIXEL = 1
  LINE_LAST_PIXEL = 20158
  LINE_PROJECTION_OFFSET = -3409.375
  MAP_PROJECTION_ROTATION = 0.0
  MAP_PROJECTION_TYPE = SINUSOIDAL
  MAP_RESOLUTION = 1185.42760773333
  MAP_SCALE = 0.05
  MAXIMUM_LATITUDE = -2.89679
  MINIMUM_LATITUDE = -19.8718
  POSITIVE_LONGITUDE_DIRECTION = EAST
  REFERENCE_LATITUDE = "N/A"
  REFERENCE_LONGITUDE = "N/A"
  SAMPLE_FIRST_PIXEL = 1
  SAMPLE_LAST_PIXEL = 2769
  SAMPLE_PROJECTION_OFFSET = 1950.625
  SECOND_STANDARD_PARALLEL = "N/A"
  WESTERNMOST_LONGITUDE = 194.392
END_OBJECT = IMAGE_MAP_PROJECTION
/* The JPEG2000 image data file associated with this label. */
OBJECT = COMPRESSED_FILE
  FILE_NAME = "H9345_0000_GR3.JP2"
  RECORD_TYPE = UNDEFINED
  FILE_RECORDS = UNK
  ENCODING_TYPE = "JP2"
  INTERCHANGE_FORMAT = BINARY
  UNCOMPRESSED_FILE_NAME = "H9345_0000_GR3.IMG"
  REQUIRED_STORAGE_BYTES = "55839654"
  ^DESCRIPTION = "JP2INFO.TXT"
END_OBJECT = COMPRESSED_FILE
END
