PDS_VERSION_ID = PDS3
/* FILE DATA ELEMENTS */
RECORD_TYPE = STREAM
/* POINTERS TO DATA OBJECTS */
^COMPRESSED_FILE = "H9347_0000_RE3.JP2"
/* IDENTIFICATION DATA ELEMENTS */
DATA_SET_ID = "MEX-M-HRSC-5-REFDR-MAPPROJECTED-V3.0"
DATA_SET_NAME = "MARS EXPRESS HRSC MAP PROJECTED REFDR V3.0"
DETECTOR_ID = MEX_HRSC_RED
EVENT_TYPE = "MARS-REGIONAL-MAPPING-Te-Im-Fl"
INSTRUMENT_HOST_ID = MEX
INSTRUMENT_HOST_NAME = "MARS EXPRESS"
INSTRUMENT_ID = HRSC
INSTRUMENT_NAME = "HIGH RESOLUTION STEREO CAMERA"
MISSION_NAME = "MARS EXPRESS"
MISSION_PHASE_NAME = ME_Phase_23
PROCESSING_LEVEL_ID = 3
PRODUCT_CREATION_TIME = 2016-10-26T12:35:54.000Z
PRODUCT_ID = "H9347_0000_RE3.JP2"
RELEASE_ID = 0096
REVISION_ID = 0000
/* QUALITY DATA ELEMENTS */
DATA_QUALITY_ID = 1
DATA_QUALITY_DESC = "Data calculated based on original SPICE kernels"
/* TIME DATA ELEMENTS */
SPACECRAFT_CLOCK_START_COUNT = "1/0252049968.08267"
SPACECRAFT_CLOCK_STOP_COUNT = "1/0252050273.07380"
START_TIME = 2011-04-28T05:54:05.727Z
STOP_TIME = 2011-04-28T05:57:41.934Z
/* ORBITAL DATA ELEMENTS */
ASCENDING_NODE_LONGITUDE = 38.8
MAXIMUM_RESOLUTION = 75.7
FOOTPRINT_POINT_LATITUDE = (-4.35115,-4.33524,-4.31871,-4.30148, -4.2836,-4.26504,-4.68059,-4.89755, -5.11815,-5.44852,-5.66745,-6.00064, -6.2238,-6.44681,-6.66909,-6.89702, -7.23272,-7.45828,-7.68719,-7.91621, -8.3772,-8.72448,-8.9575,-9.19714, -9.43394,-9.66983,-10.0252,-10.2653, -10.5043,-10.7459,-10.989,-11.2317, -11.4769,-11.7239,-12.0949,-12.344, -12.7156,-12.9719,-13.2236,-13.6061, -13.8611,-14.12,-14.3781,-14.6381, -14.8989,-15.1622,-15.4256,-15.8237, -16.0905,-16.2639,-16.2854,-16.3058, -16.3331,-16.3491,-16.3648,-16.2484, -15.9814,-15.5811,-15.3149,-15.0502, -14.788,-14.5265,-14.2683,-13.881, -13.6254,-13.3705,-12.9926,-12.7399, -12.491,-12.2427,-11.8709,-11.6228, -11.253,-11.0096,-10.766,-10.5255, -10.1655,-9.9255,-9.6887,-9.45164, -9.21539,-8.98264,-8.74939,-8.39997, -8.17085,-7.82736,-7.59776,-7.37195, -7.14591,-6.80534,-6.47069,-6.24228, -5.91169,-5.69151,-5.47158,-5.25191, -5.03178,-4.81357,-4.49046,-4.35115)
FOOTPRINT_POINT_LONGITUDE = (352.255,352.015,351.773,351.527, 351.279,351.026,350.934,350.927,350.921 ,350.911,350.904,350.893,350.886, 350.878,350.87,350.864,350.848,350.84, 350.831,350.822,350.806,350.79,350.782, 350.778,350.768,350.758,350.743,350.734 ,350.723,350.713,350.703,350.693, 350.682,350.671,350.656,350.644,350.624 ,350.615,350.603,350.585,350.572,350.56 ,350.547,350.533,350.519,350.506, 350.491,350.47,350.455,350.665,350.993, 351.295,351.744,352.04,352.333,352.731, 352.726,352.719,352.714,352.71,352.705, 352.701,352.697,352.691,352.687,352.683 ,352.677,352.674,352.671,352.667, 352.662,352.659,352.654,352.651,352.648 ,352.645,352.641,352.638,352.636, 352.633,352.631,352.628,352.626,352.623 ,352.621,352.618,352.616,352.614, 352.612,352.609,352.607,352.604,352.602 ,352.601,352.599,352.598,352.596, 352.595,352.593,352.255)
ORBIT_NUMBER = 9347
ORBITAL_ECCENTRICITY = 0.577
ORBITAL_INCLINATION = 86.84
ORBITAL_SEMIMAJOR_AXIS = 8849.63
PERIAPSIS_ALTITUDE = 348.29
PERIAPSIS_ARGUMENT_ANGLE = 164.62
PERIAPSIS_TIME = 2011-04-28T05:48:21.000Z
SPACECRAFT_ORIENTATION = (0.0,-1.0,0.0)
^MEX_ORIENTATION_DESC = "MEX_ORIENTATION_DESC.TXT"
SPACECRAFT_POINTING_MODE = ACROSSTRACK
^MEX_POINTING_DESC = "MEX_POINTING_DESC.TXT"
RIGHT_ASCENSION = -1e+32
DECLINATION = -1e+32
OFFSET_ANGLE = -1.3
SPACECRAFT_SOLAR_DISTANCE = 2.09247e+08
TARGET_NAME = MARS
/* CAMERA DATA ELEMENTS */
DETECTOR_TEMPERATURE = 18.7783
FOCAL_PLANE_TEMPERATURE = 8.5833
INST_CMPRS_NAME = "DISCRETE COSINE TRANSFORMATION (DCT)"
INST_CMPRS_RATIO = 14.3341
INST_CMPRS_QUALITY = 0
INST_CMPRS_QUANTZ_TBL_ID = 0
INSTRUMENT_TEMPERATURE = 11.0301
LENS_TEMPERATURE = 8.9911
MACROPIXEL_SIZE = 4
MISSING_FRAMES = 0
PIXEL_SUBSAMPLING_FLAG = N
SIGNAL_CHAIN_ID = 2
/* RADIOMETRIC DATA ELEMENTS */
BANDWIDTH = 48.0
CENTER_FILTER_WAVELENGTH = 748.0
RADIANCE_OFFSET = 0.738685
RADIANCE_SCALING_FACTOR = 0.00370351
REFLECTANCE_SCALING_FACTOR = 0.000370048
MEX:REFLECTANCE_OFFSET = 0.0738081
/* IMAGE OBJECT DEFINITIONS */
OBJECT = IMAGE
  INTERCHANGE_FORMAT = BINARY
  LINES = 14285
  LINE_SAMPLES = 2498
  SAMPLE_TYPE = UNSIGNED_INTEGER
  SAMPLE_BITS = 8
  BANDS = 1
  BAND_STORAGE_TYPE = BAND_SEQUENTIAL
  MAXIMUM = 255
  MEAN = 97.8925
  MINIMUM = 1
  STANDARD_DEVIATION = 36.8302
END_OBJECT = IMAGE
/* MAP OBJECT DEFINITIONS */
OBJECT = IMAGE_MAP_PROJECTION
  ^DATA_SET_MAP_PROJECTION_CATALOG= "DSMAP.CAT"
  A_AXIS_RADIUS = 3396.0
  B_AXIS_RADIUS = 3396.0
  C_AXIS_RADIUS = 3396.0
  CENTER_LATITUDE = 0.0
  CENTER_LONGITUDE = 352.0
  COORDINATE_SYSTEM_NAME = PLANETOGRAPHIC
  COORDINATE_SYSTEM_TYPE = "BODY-FIXED ROTATING"
  EASTERNMOST_LONGITUDE = 352.731
  FIRST_STANDARD_PARALLEL = "N/A"
  LINE_FIRST_PIXEL = 1
  LINE_LAST_PIXEL = 14285
  LINE_PROJECTION_OFFSET = -5105.875
  MAP_PROJECTION_ROTATION = 0.0
  MAP_PROJECTION_TYPE = SINUSOIDAL
  MAP_RESOLUTION = 1185.42760773333
  MAP_SCALE = 0.05
  MAXIMUM_LATITUDE = -4.26504
  MINIMUM_LATITUDE = -16.3648
  POSITIVE_LONGITUDE_DIRECTION = EAST
  REFERENCE_LATITUDE = "N/A"
  REFERENCE_LONGITUDE = "N/A"
  SAMPLE_FIRST_PIXEL = 1
  SAMPLE_LAST_PIXEL = 2498
  SAMPLE_PROJECTION_OFFSET = 1743.875
  SECOND_STANDARD_PARALLEL = "N/A"
  WESTERNMOST_LONGITUDE = 350.455
END_OBJECT = IMAGE_MAP_PROJECTION
/* The JPEG2000 image data file associated with this label. */
OBJECT = COMPRESSED_FILE
  FILE_NAME = "H9347_0000_RE3.JP2"
  RECORD_TYPE = UNDEFINED
  FILE_RECORDS = UNK
  ENCODING_TYPE = "JP2"
  INTERCHANGE_FORMAT = BINARY
  UNCOMPRESSED_FILE_NAME = "H9347_0000_RE3.IMG"
  REQUIRED_STORAGE_BYTES = "35703914"
  ^DESCRIPTION = "JP2INFO.TXT"
END_OBJECT = COMPRESSED_FILE
END
