PDS_VERSION_ID = PDS3
/* FILE DATA ELEMENTS */
RECORD_TYPE = STREAM
/* POINTERS TO DATA OBJECTS */
^COMPRESSED_FILE = "H9349_0000_RE3.JP2"
/* IDENTIFICATION DATA ELEMENTS */
DATA_SET_ID = "MEX-M-HRSC-5-REFDR-MAPPROJECTED-V3.0"
DATA_SET_NAME = "MARS EXPRESS HRSC MAP PROJECTED REFDR V3.0"
DETECTOR_ID = MEX_HRSC_RED
EVENT_TYPE = "MARS-REGIONAL-MAPPING-Im-Fl"
INSTRUMENT_HOST_ID = MEX
INSTRUMENT_HOST_NAME = "MARS EXPRESS"
INSTRUMENT_ID = HRSC
INSTRUMENT_NAME = "HIGH RESOLUTION STEREO CAMERA"
MISSION_NAME = "MARS EXPRESS"
MISSION_PHASE_NAME = ME_Phase_23
PROCESSING_LEVEL_ID = 3
PRODUCT_CREATION_TIME = 2016-10-26T12:35:54.000Z
PRODUCT_ID = "H9349_0000_RE3.JP2"
RELEASE_ID = 0096
REVISION_ID = 0000
/* QUALITY DATA ELEMENTS */
DATA_QUALITY_ID = 1
DATA_QUALITY_DESC = "Data calculated based on original SPICE kernels"
/* TIME DATA ELEMENTS */
SPACECRAFT_CLOCK_START_COUNT = "1/0252100370.09045"
SPACECRAFT_CLOCK_STOP_COUNT = "1/0252100758.38295"
START_TIME = 2011-04-28T19:54:10.970Z
STOP_TIME = 2011-04-28T19:59:04.009Z
/* ORBITAL DATA ELEMENTS */
ASCENDING_NODE_LONGITUDE = 38.75
MAXIMUM_RESOLUTION = 79.9
FOOTPRINT_POINT_LATITUDE = (-6.39319,-6.39159,-6.38867,-6.3859, -6.37991,-6.36149,-6.63215,-6.90595, -7.1797,-7.59125,-8.00505,-8.28254, -8.70223,-8.98449,-9.26643,-9.69535, -9.98194,-10.2718,-10.5631,-10.8555, -11.1512,-11.4457,-11.7434,-12.0416, -12.4939,-12.9492,-13.2542,-13.7155, -14.0234,-14.3344,-14.8061,-15.2812, -15.6012,-15.9241,-16.4118,-16.9052, -17.4018,-17.7354,-18.0722,-18.4123, -18.9241,-19.2664,-19.615,-20.1399, -20.4886,-20.836,-21.1794,-21.5234, -21.8656,-21.9538,-21.9565,-21.9592, -21.9617,-21.9615,-21.9614,-21.7859, -21.4437,-20.927,-20.5822,-20.2347, -19.7083,-19.3578,-18.8482,-18.5079, -18.1682,-17.832,-17.4909,-17.1593, -16.8333,-16.3442,-16.0174,-15.6925, -15.3713,-14.8946,-14.5773,-14.2662, -13.9547,-13.6457,-13.3381,-13.033, -12.7287,-12.4276,-12.1262,-11.8262, -11.5269,-11.2317,-10.7901,-10.3562, -10.0657,-9.63595,-9.34856,-8.92575, -8.64319,-8.22531,-7.94632,-7.67165, -7.39294,-6.97986,-6.71085,-6.39319)
FOOTPRINT_POINT_LONGITUDE = (149.246,148.95,148.576,148.312,147.86, 147.632,147.624,147.617,147.608,147.595 ,147.581,147.571,147.558,147.548, 147.538,147.522,147.512,147.502,147.492 ,147.481,147.47,147.459,147.448,147.436 ,147.418,147.399,147.387,147.367, 147.353,147.338,147.317,147.295,147.28, 147.265,147.242,147.219,147.194,147.177 ,147.159,147.142,147.115,147.096, 147.077,147.048,147.028,147.008,146.988 ,146.967,146.947,147.502,147.833, 148.165,148.65,148.957,149.263,149.674, 149.66,149.64,149.626,149.613,149.595, 149.584,149.564,149.553,149.542,149.532 ,149.524,149.514,149.503,149.489, 149.481,149.473,149.466,149.454,149.446 ,149.439,149.431,149.425,149.418, 149.411,149.405,149.399,149.393,149.388 ,149.383,149.379,149.371,149.364, 149.359,149.353,149.349,149.343,149.339 ,149.334,149.331,149.327,149.325, 149.321,149.318,149.246)
ORBIT_NUMBER = 9349
ORBITAL_ECCENTRICITY = 0.577
ORBITAL_INCLINATION = 86.84
ORBITAL_SEMIMAJOR_AXIS = 8850.71
PERIAPSIS_ALTITUDE = 348.59
PERIAPSIS_ARGUMENT_ANGLE = 164.32
PERIAPSIS_TIME = 2011-04-28T19:47:47.000Z
SPACECRAFT_ORIENTATION = (0.0,-1.0,0.0)
^MEX_ORIENTATION_DESC = "MEX_ORIENTATION_DESC.TXT"
SPACECRAFT_POINTING_MODE = NADIR
^MEX_POINTING_DESC = "MEX_POINTING_DESC.TXT"
RIGHT_ASCENSION = -1e+32
DECLINATION = -1e+32
OFFSET_ANGLE = -1e+32
SPACECRAFT_SOLAR_DISTANCE = 2.09306e+08
TARGET_NAME = MARS
/* CAMERA DATA ELEMENTS */
DETECTOR_TEMPERATURE = 18.5744
FOCAL_PLANE_TEMPERATURE = 8.3794
INST_CMPRS_NAME = "DISCRETE COSINE TRANSFORMATION (DCT)"
INST_CMPRS_RATIO = 6.35007
INST_CMPRS_QUALITY = 0
INST_CMPRS_QUANTZ_TBL_ID = 0
INSTRUMENT_TEMPERATURE = 11.234
LENS_TEMPERATURE = 8.7872
MACROPIXEL_SIZE = 4
MISSING_FRAMES = 0
PIXEL_SUBSAMPLING_FLAG = N
SIGNAL_CHAIN_ID = 2
/* RADIOMETRIC DATA ELEMENTS */
BANDWIDTH = 48.0
CENTER_FILTER_WAVELENGTH = 748.0
RADIANCE_OFFSET = 0.617728
RADIANCE_SCALING_FACTOR = 0.00526622
REFLECTANCE_SCALING_FACTOR = 0.000526491
MEX:REFLECTANCE_OFFSET = 0.0617574
/* IMAGE OBJECT DEFINITIONS */
OBJECT = IMAGE
  INTERCHANGE_FORMAT = BINARY
  LINES = 18466
  LINE_SAMPLES = 2794
  SAMPLE_TYPE = UNSIGNED_INTEGER
  SAMPLE_BITS = 8
  BANDS = 1
  BAND_STORAGE_TYPE = BAND_SEQUENTIAL
  MAXIMUM = 255
  MEAN = 113.42
  MINIMUM = 1
  STANDARD_DEVIATION = 36.5677
END_OBJECT = IMAGE
/* MAP OBJECT DEFINITIONS */
OBJECT = IMAGE_MAP_PROJECTION
  ^DATA_SET_MAP_PROJECTION_CATALOG= "DSMAP.CAT"
  A_AXIS_RADIUS = 3396.0
  B_AXIS_RADIUS = 3396.0
  C_AXIS_RADIUS = 3396.0
  CENTER_LATITUDE = 0.0
  CENTER_LONGITUDE = 148.0
  COORDINATE_SYSTEM_NAME = PLANETOGRAPHIC
  COORDINATE_SYSTEM_TYPE = "BODY-FIXED ROTATING"
  EASTERNMOST_LONGITUDE = 149.674
  FIRST_STANDARD_PARALLEL = "N/A"
  LINE_FIRST_PIXEL = 1
  LINE_LAST_PIXEL = 18466
  LINE_PROJECTION_OFFSET = -7571.125
  MAP_PROJECTION_ROTATION = 0.0
  MAP_PROJECTION_TYPE = SINUSOIDAL
  MAP_RESOLUTION = 1185.42760773333
  MAP_SCALE = 0.05
  MAXIMUM_LATITUDE = -6.36149
  MINIMUM_LATITUDE = -21.9617
  POSITIVE_LONGITUDE_DIRECTION = EAST
  REFERENCE_LATITUDE = "N/A"
  REFERENCE_LONGITUDE = "N/A"
  SAMPLE_FIRST_PIXEL = 1
  SAMPLE_LAST_PIXEL = 2794
  SAMPLE_PROJECTION_OFFSET = 1045.375
  SECOND_STANDARD_PARALLEL = "N/A"
  WESTERNMOST_LONGITUDE = 146.947
END_OBJECT = IMAGE_MAP_PROJECTION
/* The JPEG2000 image data file associated with this label. */
OBJECT = COMPRESSED_FILE
  FILE_NAME = "H9349_0000_RE3.JP2"
  RECORD_TYPE = UNDEFINED
  FILE_RECORDS = UNK
  ENCODING_TYPE = "JP2"
  INTERCHANGE_FORMAT = BINARY
  UNCOMPRESSED_FILE_NAME = "H9349_0000_RE3.IMG"
  REQUIRED_STORAGE_BYTES = "51616356"
  ^DESCRIPTION = "JP2INFO.TXT"
END_OBJECT = COMPRESSED_FILE
END
