PDS_VERSION_ID = PDS3
/* FILE DATA ELEMENTS */
RECORD_TYPE = STREAM
/* POINTERS TO DATA OBJECTS */
^COMPRESSED_FILE = "H9350_0000_S23.JP2"
/* IDENTIFICATION DATA ELEMENTS */
DATA_SET_ID = "MEX-M-HRSC-5-REFDR-MAPPROJECTED-V3.0"
DATA_SET_NAME = "MARS EXPRESS HRSC MAP PROJECTED REFDR V3.0"
DETECTOR_ID = MEX_HRSC_S2
EVENT_TYPE = "MARS-REGIONAL-MAPPING-Te-Im-Fl"
INSTRUMENT_HOST_ID = MEX
INSTRUMENT_HOST_NAME = "MARS EXPRESS"
INSTRUMENT_ID = HRSC
INSTRUMENT_NAME = "HIGH RESOLUTION STEREO CAMERA"
MISSION_NAME = "MARS EXPRESS"
MISSION_PHASE_NAME = ME_Phase_23
PROCESSING_LEVEL_ID = 3
PRODUCT_CREATION_TIME = 2016-10-26T12:35:54.000Z
PRODUCT_ID = "H9350_0000_S23.JP2"
RELEASE_ID = 0096
REVISION_ID = 0000
/* QUALITY DATA ELEMENTS */
DATA_QUALITY_ID = 1
DATA_QUALITY_DESC = "Data calculated based on original SPICE kernels"
/* TIME DATA ELEMENTS */
SPACECRAFT_CLOCK_START_COUNT = "1/0252125558.09045"
SPACECRAFT_CLOCK_STOP_COUNT = "1/0252125855.42622"
START_TIME = 2011-04-29T02:54:08.922Z
STOP_TIME = 2011-04-29T02:57:36.529Z
/* ORBITAL DATA ELEMENTS */
ASCENDING_NODE_LONGITUDE = 38.73
MAXIMUM_RESOLUTION = 41.4
FOOTPRINT_POINT_LATITUDE = (-6.89301,-6.88838,-6.88311,-6.87715, -6.87046,-6.86309,-6.86676,-7.2643, -7.56537,-7.76721,-7.96643,-8.27268, -8.47705,-8.67992,-8.98985,-9.19621, -9.40156,-9.71511,-9.92475,-10.1335, -10.4511,-10.663,-10.8759,-11.0913, -11.4131,-11.738,-11.9547,-12.1727, -12.3929,-12.6126,-12.8342,-13.0571, -13.2794,-13.5043,-13.841,-14.0685, -14.4088,-14.752,-15.0996,-15.3318, -15.5648,-15.8,-16.0353,-16.2734, -16.5085,-16.7401,-17.1096,-17.3512, -17.5912,-17.8341,-17.8809,-17.8881, -17.8968,-17.9005,-17.9072,-17.9113, -17.9132,-17.669,-17.427,-17.1876, -16.9446,-16.7052,-16.3485,-15.9932, -15.7592,-15.5244,-15.2922,-14.9442, -14.7148,-14.4842,-14.2575,-14.0304, -13.6921,-13.3531,-13.1262,-12.9061, -12.5773,-12.3525,-12.1324,-11.9172, -11.7053,-11.4871,-11.2713,-10.948, -10.7359,-10.5229,-10.3103,-9.99529, -9.7858,-9.47152,-9.26531,-9.05683, -8.84684,-8.44692,-8.23589,-8.03056, -7.83002,-7.52957,-7.23615,-6.89301)
FOOTPRINT_POINT_LONGITUDE = (46.7285,46.4621,46.1952,45.9277, 45.6598,45.391,45.0696,45.0565,45.0457, 45.039,45.0314,45.0205,45.0133,45.0056, 44.9943,44.9864,44.9783,44.9662,44.9582 ,44.9499,44.937,44.9285,44.92,44.9113, 44.898,44.884,44.8746,44.8652,44.8556, 44.8459,44.8361,44.8262,44.8162,44.8058 ,44.79,44.7793,44.7628,44.7454,44.7289, 44.7173,44.7056,44.6937,44.6819,44.6698 ,44.6567,44.641,44.6249,44.6117,44.5972 ,44.5832,44.9609,45.2447,45.6221, 45.8811,46.3049,46.681,46.9393,47.0105, 47.0028,46.995,46.9885,46.9816,46.9715, 46.9618,46.9554,46.9492,46.9433,46.9346 ,46.9289,46.9234,46.918,46.9126,46.9049 ,46.8977,46.8941,46.8888,46.8813,46.878 ,46.8737,46.8691,46.8637,46.8599, 46.8564,46.8508,46.8469,46.8436,46.8401 ,46.8349,46.8316,46.8268,46.8237,46.821 ,46.8187,46.811,46.8098,46.8072,46.8046 ,46.8005,46.7949,46.7285)
ORBIT_NUMBER = 9350
ORBITAL_ECCENTRICITY = 0.577
ORBITAL_INCLINATION = 86.85
ORBITAL_SEMIMAJOR_AXIS = 8856.13
PERIAPSIS_ALTITUDE = 348.1
PERIAPSIS_ARGUMENT_ANGLE = 164.15
PERIAPSIS_TIME = 2011-04-29T02:47:25.000Z
SPACECRAFT_ORIENTATION = (0.0,-1.0,0.0)
^MEX_ORIENTATION_DESC = "MEX_ORIENTATION_DESC.TXT"
SPACECRAFT_POINTING_MODE = ACROSSTRACK
^MEX_POINTING_DESC = "MEX_POINTING_DESC.TXT"
RIGHT_ASCENSION = -1e+32
DECLINATION = -1e+32
OFFSET_ANGLE = -0.25
SPACECRAFT_SOLAR_DISTANCE = 2.09336e+08
TARGET_NAME = MARS
/* CAMERA DATA ELEMENTS */
DETECTOR_TEMPERATURE = 18.7783
FOCAL_PLANE_TEMPERATURE = 8.5833
INST_CMPRS_NAME = "DISCRETE COSINE TRANSFORMATION (DCT)"
INST_CMPRS_RATIO = 9.64362
INST_CMPRS_QUALITY = 0
INST_CMPRS_QUANTZ_TBL_ID = 0
INSTRUMENT_TEMPERATURE = 11.0301
LENS_TEMPERATURE = 8.7872
MACROPIXEL_SIZE = 2
MISSING_FRAMES = 0
PIXEL_SUBSAMPLING_FLAG = N
SIGNAL_CHAIN_ID = 1
/* RADIOMETRIC DATA ELEMENTS */
BANDWIDTH = 178.0
CENTER_FILTER_WAVELENGTH = 679.0
RADIANCE_OFFSET = 2.69691
RADIANCE_SCALING_FACTOR = 0.0164791
REFLECTANCE_SCALING_FACTOR = 0.00038243
MEX:REFLECTANCE_OFFSET = 0.0625873
/* IMAGE OBJECT DEFINITIONS */
OBJECT = IMAGE
  INTERCHANGE_FORMAT = BINARY
  LINES = 26167
  LINE_SAMPLES = 5071
  SAMPLE_TYPE = UNSIGNED_INTEGER
  SAMPLE_BITS = 8
  BANDS = 1
  BAND_STORAGE_TYPE = BAND_SEQUENTIAL
  MAXIMUM = 255
  MEAN = 107.422
  MINIMUM = 1
  STANDARD_DEVIATION = 27.2156
END_OBJECT = IMAGE
/* MAP OBJECT DEFINITIONS */
OBJECT = IMAGE_MAP_PROJECTION
  ^DATA_SET_MAP_PROJECTION_CATALOG= "DSMAP.CAT"
  A_AXIS_RADIUS = 3396.0
  B_AXIS_RADIUS = 3396.0
  C_AXIS_RADIUS = 3396.0
  CENTER_LATITUDE = 0.0
  CENTER_LONGITUDE = 46.0
  COORDINATE_SYSTEM_NAME = PLANETOGRAPHIC
  COORDINATE_SYSTEM_TYPE = "BODY-FIXED ROTATING"
  EASTERNMOST_LONGITUDE = 47.0105
  FIRST_STANDARD_PARALLEL = "N/A"
  LINE_FIRST_PIXEL = 1
  LINE_LAST_PIXEL = 26167
  LINE_PROJECTION_OFFSET = -16282.25
  MAP_PROJECTION_ROTATION = 0.0
  MAP_PROJECTION_TYPE = SINUSOIDAL
  MAP_RESOLUTION = 2370.85521546667
  MAP_SCALE = 0.025
  MAXIMUM_LATITUDE = -6.86309
  MINIMUM_LATITUDE = -17.9132
  POSITIVE_LONGITUDE_DIRECTION = EAST
  REFERENCE_LATITUDE = "N/A"
  REFERENCE_LONGITUDE = "N/A"
  SAMPLE_FIRST_PIXEL = 1
  SAMPLE_LAST_PIXEL = 5071
  SAMPLE_PROJECTION_OFFSET = 2984.25
  SECOND_STANDARD_PARALLEL = "N/A"
  WESTERNMOST_LONGITUDE = 44.5832
END_OBJECT = IMAGE_MAP_PROJECTION
/* The JPEG2000 image data file associated with this label. */
OBJECT = COMPRESSED_FILE
  FILE_NAME = "H9350_0000_S23.JP2"
  RECORD_TYPE = UNDEFINED
  FILE_RECORDS = UNK
  ENCODING_TYPE = "JP2"
  INTERCHANGE_FORMAT = BINARY
  UNCOMPRESSED_FILE_NAME = "H9350_0000_S23.IMG"
  REQUIRED_STORAGE_BYTES = "132718212"
  ^DESCRIPTION = "JP2INFO.TXT"
END_OBJECT = COMPRESSED_FILE
END
