PDS_VERSION_ID = PDS3
/* FILE DATA ELEMENTS */
RECORD_TYPE = STREAM
/* POINTERS TO DATA OBJECTS */
^COMPRESSED_FILE = "H9353_0000_IR3.JP2"
/* IDENTIFICATION DATA ELEMENTS */
DATA_SET_ID = "MEX-M-HRSC-5-REFDR-MAPPROJECTED-V3.0"
DATA_SET_NAME = "MARS EXPRESS HRSC MAP PROJECTED REFDR V3.0"
DETECTOR_ID = MEX_HRSC_IR
EVENT_TYPE = "MARS-REGIONAL-MAPPING-Im-Fl"
INSTRUMENT_HOST_ID = MEX
INSTRUMENT_HOST_NAME = "MARS EXPRESS"
INSTRUMENT_ID = HRSC
INSTRUMENT_NAME = "HIGH RESOLUTION STEREO CAMERA"
MISSION_NAME = "MARS EXPRESS"
MISSION_PHASE_NAME = ME_Phase_23
PROCESSING_LEVEL_ID = 3
PRODUCT_CREATION_TIME = 2016-10-26T12:35:54.000Z
PRODUCT_ID = "H9353_0000_IR3.JP2"
RELEASE_ID = 0096
REVISION_ID = 0000
/* QUALITY DATA ELEMENTS */
DATA_QUALITY_ID = 1
DATA_QUALITY_DESC = "Data calculated based on original SPICE kernels"
/* TIME DATA ELEMENTS */
SPACECRAFT_CLOCK_START_COUNT = "1/0252200928.08236"
SPACECRAFT_CLOCK_STOP_COUNT = "1/0252201221.12534"
START_TIME = 2011-04-29T23:48:56.761Z
STOP_TIME = 2011-04-29T23:52:07.112Z
/* ORBITAL DATA ELEMENTS */
ASCENDING_NODE_LONGITUDE = 38.68
MAXIMUM_RESOLUTION = 123.3
FOOTPRINT_POINT_LATITUDE = (4.56487,4.56857,4.57062,4.56754, 4.27695,4.0682,3.86334,3.62215,3.38184, 3.02204,2.78299,2.54291,2.18831,1.82926 ,1.59643,1.23507,0.993365,0.75373, 0.514266,0.156987,-0.0816162,-0.438431, -0.677468,-0.916933,-1.15459,-1.5113, -1.75186,-2.10904,-2.34389,-2.58085, -2.82151,-3.06005,-3.30182,-3.54552, -3.79073,-4.15724,-4.40109,-4.64887, -4.89946,-5.14958,-5.39707,-5.64492, -6.02612,-6.28173,-6.66546,-6.92301, -7.18543,-7.44696,-7.80187,-7.80617, -7.80982,-7.81255,-7.81643,-7.41583, -7.15397,-6.89335,-6.63886,-6.38364, -6.1277,-5.7447,-5.494,-5.24488, -4.99509,-4.74517,-4.49494,-4.25096, -4.006,-3.76088,-3.39432,-3.15249, -2.915,-2.67649,-2.4369,-2.07825,-1.839 ,-1.47959,-1.24792,-1.01124,-0.652558, -0.413036,-0.172573,0.0667945,0.424137, 0.6635,1.0249,1.26618,1.50211,1.74175, 1.98191,2.22762,2.46302,2.69544,2.93598 ,3.1766,3.41986,3.65471,3.88864,4.09077 ,4.38529,4.56487)
FOOTPRINT_POINT_LONGITUDE = (99.7808,99.36,99.0356,98.8,98.7996, 98.7937,98.79,98.7858,98.7818,98.7759, 98.7722,98.7681,98.7637,98.7576,98.7558 ,98.7484,98.7431,98.7385,98.7339, 98.7275,98.7229,98.7164,98.7114,98.7063 ,98.7017,98.6945,98.6886,98.6809, 98.6769,98.672,98.6657,98.66,98.6544, 98.6488,98.6426,98.6335,98.6275,98.6214 ,98.6149,98.6085,98.6029,98.5971, 98.5871,98.5803,98.5697,98.562,98.5543, 98.5469,98.5371,98.9628,99.3757,99.6118 ,100.109,100.106,100.104,100.102, 100.101,100.099,100.098,100.096,100.094 ,100.093,100.092,100.091,100.09,100.088 ,100.087,100.086,100.084,100.084, 100.084,100.083,100.082,100.08,100.08, 100.078,100.08,100.081,100.08,100.079, 100.079,100.078,100.079,100.078,100.077 ,100.077,100.078,100.078,100.078, 100.076,100.077,100.08,100.08,100.08, 100.079,100.081,100.082,100.082,100.085 ,99.7808)
ORBIT_NUMBER = 9353
ORBITAL_ECCENTRICITY = 0.577
ORBITAL_INCLINATION = 86.85
ORBITAL_SEMIMAJOR_AXIS = 8855.55
PERIAPSIS_ALTITUDE = 348.12
PERIAPSIS_ARGUMENT_ANGLE = 163.59
PERIAPSIS_TIME = 2011-04-29T23:46:21.000Z
SPACECRAFT_ORIENTATION = (0.0,-1.0,0.0)
^MEX_ORIENTATION_DESC = "MEX_ORIENTATION_DESC.TXT"
SPACECRAFT_POINTING_MODE = NADIR
^MEX_POINTING_DESC = "MEX_POINTING_DESC.TXT"
RIGHT_ASCENSION = -1e+32
DECLINATION = -1e+32
OFFSET_ANGLE = -1e+32
SPACECRAFT_SOLAR_DISTANCE = 2.09427e+08
TARGET_NAME = MARS
/* CAMERA DATA ELEMENTS */
DETECTOR_TEMPERATURE = 17.5549
FOCAL_PLANE_TEMPERATURE = 8.1755
INST_CMPRS_NAME = "DISCRETE COSINE TRANSFORMATION (DCT)"
INST_CMPRS_RATIO = 6.41961
INST_CMPRS_QUALITY = 0
INST_CMPRS_QUANTZ_TBL_ID = 0
INSTRUMENT_TEMPERATURE = 11.0301
LENS_TEMPERATURE = 8.5833
MACROPIXEL_SIZE = 8
MISSING_FRAMES = 15
PIXEL_SUBSAMPLING_FLAG = N
SIGNAL_CHAIN_ID = 2
/* RADIOMETRIC DATA ELEMENTS */
BANDWIDTH = 81.0
CENTER_FILTER_WAVELENGTH = 955.5
RADIANCE_OFFSET = 0.542395
RADIANCE_SCALING_FACTOR = 0.00416667
REFLECTANCE_SCALING_FACTOR = 0.00039426
MEX:REFLECTANCE_OFFSET = 0.0513227
/* IMAGE OBJECT DEFINITIONS */
OBJECT = IMAGE
  INTERCHANGE_FORMAT = BINARY
  LINES = 6353
  LINE_SAMPLES = 979
  SAMPLE_TYPE = UNSIGNED_INTEGER
  SAMPLE_BITS = 8
  BANDS = 1
  BAND_STORAGE_TYPE = BAND_SEQUENTIAL
  MAXIMUM = 255
  MEAN = 104.337
  MINIMUM = 1
  STANDARD_DEVIATION = 31.5436
END_OBJECT = IMAGE
/* MAP OBJECT DEFINITIONS */
OBJECT = IMAGE_MAP_PROJECTION
  ^DATA_SET_MAP_PROJECTION_CATALOG= "DSMAP.CAT"
  A_AXIS_RADIUS = 3396.0
  B_AXIS_RADIUS = 3396.0
  C_AXIS_RADIUS = 3396.0
  CENTER_LATITUDE = 0.0
  CENTER_LONGITUDE = 99.0
  COORDINATE_SYSTEM_NAME = PLANETOGRAPHIC
  COORDINATE_SYSTEM_TYPE = "BODY-FIXED ROTATING"
  EASTERNMOST_LONGITUDE = 100.109
  FIRST_STANDARD_PARALLEL = "N/A"
  LINE_FIRST_PIXEL = 1
  LINE_LAST_PIXEL = 6353
  LINE_PROJECTION_OFFSET = 2716.5625
  MAP_PROJECTION_ROTATION = 0.0
  MAP_PROJECTION_TYPE = SINUSOIDAL
  MAP_RESOLUTION = 592.713803866667
  MAP_SCALE = 0.1
  MAXIMUM_LATITUDE = 4.57062
  MINIMUM_LATITUDE = -7.81643
  POSITIVE_LONGITUDE_DIRECTION = EAST
  REFERENCE_LATITUDE = "N/A"
  REFERENCE_LONGITUDE = "N/A"
  SAMPLE_FIRST_PIXEL = 1
  SAMPLE_LAST_PIXEL = 979
  SAMPLE_PROJECTION_OFFSET = 288.8125
  SECOND_STANDARD_PARALLEL = "N/A"
  WESTERNMOST_LONGITUDE = 98.5371
END_OBJECT = IMAGE_MAP_PROJECTION
/* The JPEG2000 image data file associated with this label. */
OBJECT = COMPRESSED_FILE
  FILE_NAME = "H9353_0000_IR3.JP2"
  RECORD_TYPE = UNDEFINED
  FILE_RECORDS = UNK
  ENCODING_TYPE = "JP2"
  INTERCHANGE_FORMAT = BINARY
  UNCOMPRESSED_FILE_NAME = "H9353_0000_IR3.IMG"
  REQUIRED_STORAGE_BYTES = "6238188"
  ^DESCRIPTION = "JP2INFO.TXT"
END_OBJECT = COMPRESSED_FILE
END
