PDS_VERSION_ID = PDS3
/* FILE DATA ELEMENTS */
RECORD_TYPE = STREAM
/* POINTERS TO DATA OBJECTS */
^COMPRESSED_FILE = "H9354_0000_S23.JP2"
/* IDENTIFICATION DATA ELEMENTS */
DATA_SET_ID = "MEX-M-HRSC-5-REFDR-MAPPROJECTED-V3.0"
DATA_SET_NAME = "MARS EXPRESS HRSC MAP PROJECTED REFDR V3.0"
DETECTOR_ID = MEX_HRSC_S2
EVENT_TYPE = "MARS-REGIONAL-MAPPING-Te-Im-La"
INSTRUMENT_HOST_ID = MEX
INSTRUMENT_HOST_NAME = "MARS EXPRESS"
INSTRUMENT_ID = HRSC
INSTRUMENT_NAME = "HIGH RESOLUTION STEREO CAMERA"
MISSION_NAME = "MARS EXPRESS"
MISSION_PHASE_NAME = ME_Phase_23
PROCESSING_LEVEL_ID = 3
PRODUCT_CREATION_TIME = 2016-10-26T12:35:54.000Z
PRODUCT_ID = "H9354_0000_S23.JP2"
RELEASE_ID = 0096
REVISION_ID = 0000
/* QUALITY DATA ELEMENTS */
DATA_QUALITY_ID = 1
DATA_QUALITY_DESC = "Data calculated based on original SPICE kernels"
/* TIME DATA ELEMENTS */
SPACECRAFT_CLOCK_START_COUNT = "1/0252226149.07275"
SPACECRAFT_CLOCK_STOP_COUNT = "1/0252226433.12635"
START_TIME = 2011-04-30T06:50:28.890Z
STOP_TIME = 2011-04-30T06:53:54.165Z
/* ORBITAL DATA ELEMENTS */
ASCENDING_NODE_LONGITUDE = 38.66
MAXIMUM_RESOLUTION = 35.2
FOOTPRINT_POINT_LATITUDE = (1.71696,1.71196,1.70732,1.7031,1.69925 ,1.69571,1.48765,1.16362,0.947678, 0.624451,0.408312,0.188217,-0.031502, -0.251857,-0.472108,-0.690541,-1.02649, -1.25061,-1.47376,-1.6965,-1.9218, -2.14933,-2.37596,-2.71597,-2.94503, -3.17592,-3.40658,-3.63646,-3.9869, -4.22238,-4.45742,-4.6911,-4.93054, -5.16845,-5.52457,-5.88782,-6.13035, -6.3717,-6.61776,-6.86323,-7.10789, -7.3595,-7.59768,-7.84176,-8.10154, -8.48247,-8.86362,-9.11733,-9.37305, -9.63226,-10.0297,-10.0268,-10.0213, -10.0147,-10.0077,-9.74045,-9.48502, -9.22751,-8.97275,-8.59092,-8.33828, -7.96063,-7.708,-7.46277,-7.21413, -6.8448,-6.59958,-6.35305,-6.11199, -5.87013,-5.62772,-5.38688,-5.14906, -4.79259,-4.43633,-4.20345,-3.96917, -3.73401,-3.50403,-3.15827,-2.92729, -2.6979,-2.47149,-2.24449,-2.01708, -1.78927,-1.56626,-1.23163,-0.896105, -0.672117,-0.453366,-0.233866,0.0965996 ,0.317365,0.7515,1.07533,1.2916,1.50868 ,1.72538,1.71696)
FOOTPRINT_POINT_LONGITUDE = (358.139,357.911,357.685,357.46,357.236 ,357.013,356.905,356.898,356.893, 356.885,356.88,356.875,356.869,356.864, 356.858,356.853,356.844,356.839,356.833 ,356.827,356.821,356.815,356.808, 356.799,356.792,356.786,356.779,356.772 ,356.762,356.755,356.748,356.741, 356.734,356.727,356.715,356.704,356.696 ,356.688,356.68,356.672,356.664,356.656 ,356.646,356.637,356.629,356.616, 356.602,356.593,356.583,356.574,356.669 ,357.061,357.53,357.852,358.288,358.501 ,358.495,358.49,358.485,358.478,358.474 ,358.467,358.465,358.459,358.456,358.45 ,358.447,358.444,358.44,358.437,358.435 ,358.432,358.429,358.424,358.422, 358.418,358.416,358.413,358.411,358.407 ,358.405,358.403,358.401,358.399, 358.397,358.395,358.393,358.391,358.388 ,358.387,358.385,358.384,358.382, 358.381,358.379,358.377,358.376,358.376 ,358.375,358.139)
ORBIT_NUMBER = 9354
ORBITAL_ECCENTRICITY = 0.577
ORBITAL_INCLINATION = 86.84
ORBITAL_SEMIMAJOR_AXIS = 8849.09
PERIAPSIS_ALTITUDE = 349.1
PERIAPSIS_ARGUMENT_ANGLE = 163.41
PERIAPSIS_TIME = 2011-04-30T06:45:59.000Z
SPACECRAFT_ORIENTATION = (0.0,-1.0,0.0)
^MEX_ORIENTATION_DESC = "MEX_ORIENTATION_DESC.TXT"
SPACECRAFT_POINTING_MODE = ACROSSTRACK
^MEX_POINTING_DESC = "MEX_POINTING_DESC.TXT"
RIGHT_ASCENSION = -1e+32
DECLINATION = -1e+32
OFFSET_ANGLE = 0.5
SPACECRAFT_SOLAR_DISTANCE = 2.09457e+08
TARGET_NAME = MARS
/* CAMERA DATA ELEMENTS */
DETECTOR_TEMPERATURE = 18.7783
FOCAL_PLANE_TEMPERATURE = 8.5833
INST_CMPRS_NAME = "DISCRETE COSINE TRANSFORMATION (DCT)"
INST_CMPRS_RATIO = 13.5042
INST_CMPRS_QUALITY = 0
INST_CMPRS_QUANTZ_TBL_ID = 0
INSTRUMENT_TEMPERATURE = 11.4379
LENS_TEMPERATURE = 8.9911
MACROPIXEL_SIZE = 2
MISSING_FRAMES = 0
PIXEL_SUBSAMPLING_FLAG = N
SIGNAL_CHAIN_ID = 1
/* RADIOMETRIC DATA ELEMENTS */
BANDWIDTH = 178.0
CENTER_FILTER_WAVELENGTH = 679.0
RADIANCE_OFFSET = 2.87364
RADIANCE_SCALING_FACTOR = 0.0120741
REFLECTANCE_SCALING_FACTOR = 0.000280529
MEX:REFLECTANCE_OFFSET = 0.066766
/* IMAGE OBJECT DEFINITIONS */
OBJECT = IMAGE
  INTERCHANGE_FORMAT = BINARY
  LINES = 22111
  LINE_SAMPLES = 4354
  SAMPLE_TYPE = UNSIGNED_INTEGER
  SAMPLE_BITS = 8
  BANDS = 1
  BAND_STORAGE_TYPE = BAND_SEQUENTIAL
  MAXIMUM = 255
  MEAN = 54.1993
  MINIMUM = 1
  STANDARD_DEVIATION = 16.459
END_OBJECT = IMAGE
/* MAP OBJECT DEFINITIONS */
OBJECT = IMAGE_MAP_PROJECTION
  ^DATA_SET_MAP_PROJECTION_CATALOG= "DSMAP.CAT"
  A_AXIS_RADIUS = 3396.0
  B_AXIS_RADIUS = 3396.0
  C_AXIS_RADIUS = 3396.0
  CENTER_LATITUDE = 0.0
  CENTER_LONGITUDE = 358.0
  COORDINATE_SYSTEM_NAME = PLANETOGRAPHIC
  COORDINATE_SYSTEM_TYPE = "BODY-FIXED ROTATING"
  EASTERNMOST_LONGITUDE = 358.501
  FIRST_STANDARD_PARALLEL = "N/A"
  LINE_FIRST_PIXEL = 1
  LINE_LAST_PIXEL = 22111
  LINE_PROJECTION_OFFSET = -1695.25
  MAP_PROJECTION_ROTATION = 0.0
  MAP_PROJECTION_TYPE = SINUSOIDAL
  MAP_RESOLUTION = 2370.85521546667
  MAP_SCALE = 0.025
  MAXIMUM_LATITUDE = 1.72538
  MINIMUM_LATITUDE = -10.0297
  POSITIVE_LONGITUDE_DIRECTION = EAST
  REFERENCE_LATITUDE = "N/A"
  REFERENCE_LONGITUDE = "N/A"
  SAMPLE_FIRST_PIXEL = 1
  SAMPLE_LAST_PIXEL = 4354
  SAMPLE_PROJECTION_OFFSET = 3225.75
  SECOND_STANDARD_PARALLEL = "N/A"
  WESTERNMOST_LONGITUDE = 356.574
END_OBJECT = IMAGE_MAP_PROJECTION
/* The JPEG2000 image data file associated with this label. */
OBJECT = COMPRESSED_FILE
  FILE_NAME = "H9354_0000_S23.JP2"
  RECORD_TYPE = UNDEFINED
  FILE_RECORDS = UNK
  ENCODING_TYPE = "JP2"
  INTERCHANGE_FORMAT = BINARY
  UNCOMPRESSED_FILE_NAME = "H9354_0000_S23.IMG"
  REQUIRED_STORAGE_BYTES = "96297418"
  ^DESCRIPTION = "JP2INFO.TXT"
END_OBJECT = COMPRESSED_FILE
END
