PDS_VERSION_ID = PDS3
/* FILE DATA ELEMENTS */
RECORD_TYPE = STREAM
/* POINTERS TO DATA OBJECTS */
^COMPRESSED_FILE = "H9357_0000_BL3.JP2"
/* IDENTIFICATION DATA ELEMENTS */
DATA_SET_ID = "MEX-M-HRSC-5-REFDR-MAPPROJECTED-V3.0"
DATA_SET_NAME = "MARS EXPRESS HRSC MAP PROJECTED REFDR V3.0"
DETECTOR_ID = MEX_HRSC_BLUE
EVENT_TYPE = "MARS-REGIONAL-MAPPING-Im-Fl"
INSTRUMENT_HOST_ID = MEX
INSTRUMENT_HOST_NAME = "MARS EXPRESS"
INSTRUMENT_ID = HRSC
INSTRUMENT_NAME = "HIGH RESOLUTION STEREO CAMERA"
MISSION_NAME = "MARS EXPRESS"
MISSION_PHASE_NAME = ME_Phase_23
PROCESSING_LEVEL_ID = 3
PRODUCT_CREATION_TIME = 2016-10-26T12:35:54.000Z
PRODUCT_ID = "H9357_0000_BL3.JP2"
RELEASE_ID = 0096
REVISION_ID = 0000
/* QUALITY DATA ELEMENTS */
DATA_QUALITY_ID = 1
DATA_QUALITY_DESC = "Data calculated based on original SPICE kernels"
/* TIME DATA ELEMENTS */
SPACECRAFT_CLOCK_START_COUNT = "1/0252301502.09048"
SPACECRAFT_CLOCK_STOP_COUNT = "1/0252301733.39110"
START_TIME = 2011-05-01T03:45:41.689Z
STOP_TIME = 2011-05-01T03:48:24.353Z
/* ORBITAL DATA ELEMENTS */
ASCENDING_NODE_LONGITUDE = 38.6
MAXIMUM_RESOLUTION = 55.9
FOOTPRINT_POINT_LATITUDE = (14.7334,14.7346,14.7361,14.737,14.738, 14.6367,14.4345,14.2324,14.0303,13.8282 ,13.6262,13.4243,13.2224,12.9195, 12.7179,12.5164,12.3146,12.0119,11.8107 ,11.6106,11.3091,11.1079,10.8061, 10.6043,10.3014,10.1006,9.90018,9.69957 ,9.39918,9.19847,8.99818,8.79111, 8.59098,8.39084,8.19096,7.99109,7.79109 ,7.59134,7.39207,7.19243,6.99327, 6.78446,6.54688,6.3095,5.95344,5.71709, 5.48055,5.24356,5.0066,4.77044,4.53448, 4.30058,4.2988,4.29648,4.29349,4.40831, 4.64434,4.88065,5.11713,5.35385,5.59062 ,5.9463,6.30214,6.53958,6.88693,7.08536 ,7.28484,7.48454,7.68424,7.88412, 8.18412,8.48428,8.68444,8.89149,9.19193 ,9.39225,9.59317,9.79406,9.99431,10.195 ,10.397,10.5989,10.8005,11.0013,11.2012 ,11.4027,11.705,11.9067,12.1084,12.3102 ,12.5121,12.714,13.017,13.2189,13.421, 13.6232,13.9265,14.2298,14.432,14.7334)
FOOTPRINT_POINT_LONGITUDE = (50.9613,50.7511,50.4474,50.2255, 49.8752,49.7078,49.7073,49.7066,49.7059 ,49.7052,49.7044,49.7035,49.7026, 49.7014,49.7,49.6986,49.6977,49.6965, 49.6947,49.6911,49.6883,49.6867,49.6844 ,49.684,49.6838,49.682,49.6796,49.6776, 49.6739,49.6723,49.6701,49.668,49.6657, 49.6636,49.6611,49.6588,49.6568,49.6545 ,49.6515,49.6492,49.6464,49.6436, 49.6402,49.6368,49.632,49.6274,49.6233, 49.6202,49.6172,49.6131,49.609,49.6051, 49.8148,50.0872,50.4463,50.9338,50.9336 ,50.9335,50.9335,50.9336,50.9335, 50.9338,50.9338,50.9338,50.9356,50.9344 ,50.9347,50.9351,50.9355,50.936,50.9367 ,50.9374,50.9378,50.9382,50.9386, 50.9387,50.9398,50.9406,50.9403,50.9405 ,50.9429,50.945,50.9463,50.9463,50.9446 ,50.9456,50.947,50.948,50.9489,50.9499, 50.951,50.952,50.9536,50.9544,50.9555, 50.9566,50.9582,50.9596,50.9606, 50.9613)
ORBIT_NUMBER = 9357
ORBITAL_ECCENTRICITY = 0.577
ORBITAL_INCLINATION = 86.85
ORBITAL_SEMIMAJOR_AXIS = 8854.95
PERIAPSIS_ALTITUDE = 348.88
PERIAPSIS_ARGUMENT_ANGLE = 162.94
PERIAPSIS_TIME = 2011-05-01T03:45:00.000Z
SPACECRAFT_ORIENTATION = (0.0,-1.0,0.0)
^MEX_ORIENTATION_DESC = "MEX_ORIENTATION_DESC.TXT"
SPACECRAFT_POINTING_MODE = NADIR
^MEX_POINTING_DESC = "MEX_POINTING_DESC.TXT"
RIGHT_ASCENSION = -1e+32
DECLINATION = -1e+32
OFFSET_ANGLE = -1e+32
SPACECRAFT_SOLAR_DISTANCE = 2.0955e+08
TARGET_NAME = MARS
/* CAMERA DATA ELEMENTS */
DETECTOR_TEMPERATURE = 18.3705
FOCAL_PLANE_TEMPERATURE = 8.5833
INST_CMPRS_NAME = "DISCRETE COSINE TRANSFORMATION (DCT)"
INST_CMPRS_RATIO = 4.8319
INST_CMPRS_QUALITY = 0
INST_CMPRS_QUANTZ_TBL_ID = 0
INSTRUMENT_TEMPERATURE = 11.234
LENS_TEMPERATURE = 8.7872
MACROPIXEL_SIZE = 4
MISSING_FRAMES = 1
PIXEL_SUBSAMPLING_FLAG = N
SIGNAL_CHAIN_ID = 2
/* RADIOMETRIC DATA ELEMENTS */
BANDWIDTH = 76.0
CENTER_FILTER_WAVELENGTH = 444.0
RADIANCE_OFFSET = 0.384886
RADIANCE_SCALING_FACTOR = 0.00124753
REFLECTANCE_SCALING_FACTOR = 5.62839e-05
MEX:REFLECTANCE_OFFSET = 0.0173646
/* IMAGE OBJECT DEFINITIONS */
OBJECT = IMAGE
  INTERCHANGE_FORMAT = BINARY
  LINES = 12382
  LINE_SAMPLES = 1672
  SAMPLE_TYPE = UNSIGNED_INTEGER
  SAMPLE_BITS = 8
  BANDS = 1
  BAND_STORAGE_TYPE = BAND_SEQUENTIAL
  MAXIMUM = 255
  MEAN = 119.235
  MINIMUM = 1
  STANDARD_DEVIATION = 29.0888
END_OBJECT = IMAGE
/* MAP OBJECT DEFINITIONS */
OBJECT = IMAGE_MAP_PROJECTION
  ^DATA_SET_MAP_PROJECTION_CATALOG= "DSMAP.CAT"
  A_AXIS_RADIUS = 3396.0
  B_AXIS_RADIUS = 3396.0
  C_AXIS_RADIUS = 3396.0
  CENTER_LATITUDE = 0.0
  CENTER_LONGITUDE = 50.0
  COORDINATE_SYSTEM_NAME = PLANETOGRAPHIC
  COORDINATE_SYSTEM_TYPE = "BODY-FIXED ROTATING"
  EASTERNMOST_LONGITUDE = 50.9613
  FIRST_STANDARD_PARALLEL = "N/A"
  LINE_FIRST_PIXEL = 1
  LINE_LAST_PIXEL = 12382
  LINE_PROJECTION_OFFSET = 17467.125
  MAP_PROJECTION_ROTATION = 0.0
  MAP_PROJECTION_TYPE = SINUSOIDAL
  MAP_RESOLUTION = 1185.42760773333
  MAP_SCALE = 0.05
  MAXIMUM_LATITUDE = 14.738
  MINIMUM_LATITUDE = 4.29349
  POSITIVE_LONGITUDE_DIRECTION = EAST
  REFERENCE_LATITUDE = "N/A"
  REFERENCE_LONGITUDE = "N/A"
  SAMPLE_FIRST_PIXEL = 1
  SAMPLE_LAST_PIXEL = 1672
  SAMPLE_PROJECTION_OFFSET = 519.125
  SECOND_STANDARD_PARALLEL = "N/A"
  WESTERNMOST_LONGITUDE = 49.6051
END_OBJECT = IMAGE_MAP_PROJECTION
/* The JPEG2000 image data file associated with this label. */
OBJECT = COMPRESSED_FILE
  FILE_NAME = "H9357_0000_BL3.JP2"
  RECORD_TYPE = UNDEFINED
  FILE_RECORDS = UNK
  ENCODING_TYPE = "JP2"
  INTERCHANGE_FORMAT = BINARY
  UNCOMPRESSED_FILE_NAME = "H9357_0000_BL3.IMG"
  REQUIRED_STORAGE_BYTES = "20722768"
  ^DESCRIPTION = "JP2INFO.TXT"
END_OBJECT = COMPRESSED_FILE
END
