PDS_VERSION_ID = PDS3
/* FILE DATA ELEMENTS */
RECORD_TYPE = STREAM
/* POINTERS TO DATA OBJECTS */
^COMPRESSED_FILE = "H9357_0000_IR3.JP2"
/* IDENTIFICATION DATA ELEMENTS */
DATA_SET_ID = "MEX-M-HRSC-5-REFDR-MAPPROJECTED-V3.0"
DATA_SET_NAME = "MARS EXPRESS HRSC MAP PROJECTED REFDR V3.0"
DETECTOR_ID = MEX_HRSC_IR
EVENT_TYPE = "MARS-REGIONAL-MAPPING-Im-Fl"
INSTRUMENT_HOST_ID = MEX
INSTRUMENT_HOST_NAME = "MARS EXPRESS"
INSTRUMENT_ID = HRSC
INSTRUMENT_NAME = "HIGH RESOLUTION STEREO CAMERA"
MISSION_NAME = "MARS EXPRESS"
MISSION_PHASE_NAME = ME_Phase_23
PROCESSING_LEVEL_ID = 3
PRODUCT_CREATION_TIME = 2016-10-26T12:35:54.000Z
PRODUCT_ID = "H9357_0000_IR3.JP2"
RELEASE_ID = 0096
REVISION_ID = 0000
/* QUALITY DATA ELEMENTS */
DATA_QUALITY_ID = 1
DATA_QUALITY_DESC = "Data calculated based on original SPICE kernels"
/* TIME DATA ELEMENTS */
SPACECRAFT_CLOCK_START_COUNT = "1/0252301502.09048"
SPACECRAFT_CLOCK_STOP_COUNT = "1/0252301733.39110"
START_TIME = 2011-05-01T03:45:10.472Z
STOP_TIME = 2011-05-01T03:47:50.379Z
/* ORBITAL DATA ELEMENTS */
ASCENDING_NODE_LONGITUDE = 38.6
MAXIMUM_RESOLUTION = 58.1
FOOTPRINT_POINT_LATITUDE = (14.74,14.7417,14.7425,14.7427,14.5341, 14.2249,14.0188,13.8125,13.5029,13.2963 ,13.0905,12.8838,12.6765,12.3659,12.051 ,11.7366,11.5263,11.318,11.1109,10.904, 10.6982,10.4979,10.2922,9.98038,9.77243 ,9.56501,9.35593,9.04581,8.83846, 8.52739,8.31984,8.11221,7.90472,7.69885 ,7.48967,7.17932,6.97112,6.76376, 6.54904,6.34099,6.13401,5.92624,5.71692 ,5.50815,5.2998,5.09531,4.88735,4.67518 ,4.42648,4.30399,4.30208,4.30022, 4.29736,4.41844,4.6669,4.87864,5.08655, 5.3985,5.60656,5.81426,6.02224,6.23068, 6.43876,6.64367,6.85604,7.07003,7.27779 ,7.485,7.69277,8.00391,8.21135,8.41893, 8.6271,8.93899,9.147,9.4592,9.66567, 9.9789,10.1876,10.3927,10.5932,10.7989, 11.0085,11.2226,11.4291,11.6357,11.945, 12.1588,12.3652,12.5716,12.7781,12.9844 ,13.1911,13.3973,13.7067,13.9132, 14.1191,14.3258,14.5322,14.74)
FOOTPRINT_POINT_LONGITUDE = (50.7859,50.5052,50.2596,49.8386,49.706 ,49.7056,49.7052,49.7048,49.7039, 49.7032,49.7028,49.7021,49.701,49.6995, 49.6988,49.6957,49.6933,49.6916,49.6903 ,49.689,49.6882,49.6893,49.6884,49.6857 ,49.6838,49.682,49.6796,49.6772,49.6754 ,49.6725,49.6704,49.6682,49.6661, 49.6645,49.6616,49.6585,49.6558,49.6535 ,49.6508,49.648,49.6456,49.6429,49.6395 ,49.6362,49.6331,49.6314,49.6283,49.625 ,49.621,49.8362,50.1506,50.3441,50.5983 ,50.9172,50.9175,50.9178,50.9181, 50.9187,50.919,50.9196,50.92,50.9203, 50.9208,50.9224,50.9239,50.9223,50.923, 50.9239,50.9245,50.9258,50.9267,50.9275 ,50.9281,50.9292,50.9299,50.9309, 50.9322,50.9329,50.9334,50.9352,50.9388 ,50.9404,50.9406,50.9391,50.9405, 50.9418,50.9439,50.9452,50.9466,50.9479 ,50.9493,50.9507,50.9519,50.9534, 50.9555,50.9567,50.9582,50.9594,50.9608 ,50.7859)
ORBIT_NUMBER = 9357
ORBITAL_ECCENTRICITY = 0.577
ORBITAL_INCLINATION = 86.85
ORBITAL_SEMIMAJOR_AXIS = 8854.95
PERIAPSIS_ALTITUDE = 348.88
PERIAPSIS_ARGUMENT_ANGLE = 162.94
PERIAPSIS_TIME = 2011-05-01T03:45:00.000Z
SPACECRAFT_ORIENTATION = (0.0,-1.0,0.0)
^MEX_ORIENTATION_DESC = "MEX_ORIENTATION_DESC.TXT"
SPACECRAFT_POINTING_MODE = NADIR
^MEX_POINTING_DESC = "MEX_POINTING_DESC.TXT"
RIGHT_ASCENSION = -1e+32
DECLINATION = -1e+32
OFFSET_ANGLE = -1e+32
SPACECRAFT_SOLAR_DISTANCE = 2.0955e+08
TARGET_NAME = MARS
/* CAMERA DATA ELEMENTS */
DETECTOR_TEMPERATURE = 17.5549
FOCAL_PLANE_TEMPERATURE = 8.5833
INST_CMPRS_NAME = "DISCRETE COSINE TRANSFORMATION (DCT)"
INST_CMPRS_RATIO = 5.88554
INST_CMPRS_QUALITY = 0
INST_CMPRS_QUANTZ_TBL_ID = 0
INSTRUMENT_TEMPERATURE = 11.234
LENS_TEMPERATURE = 8.7872
MACROPIXEL_SIZE = 4
MISSING_FRAMES = 2
PIXEL_SUBSAMPLING_FLAG = N
SIGNAL_CHAIN_ID = 2
/* RADIOMETRIC DATA ELEMENTS */
BANDWIDTH = 81.0
CENTER_FILTER_WAVELENGTH = 955.5
RADIANCE_OFFSET = 0.677516
RADIANCE_SCALING_FACTOR = 0.00375435
REFLECTANCE_SCALING_FACTOR = 0.000355663
MEX:REFLECTANCE_OFFSET = 0.0641834
/* IMAGE OBJECT DEFINITIONS */
OBJECT = IMAGE
  INTERCHANGE_FORMAT = BINARY
  LINES = 12382
  LINE_SAMPLES = 1672
  SAMPLE_TYPE = UNSIGNED_INTEGER
  SAMPLE_BITS = 8
  BANDS = 1
  BAND_STORAGE_TYPE = BAND_SEQUENTIAL
  MAXIMUM = 255
  MEAN = 102.398
  MINIMUM = 1
  STANDARD_DEVIATION = 32.0356
END_OBJECT = IMAGE
/* MAP OBJECT DEFINITIONS */
OBJECT = IMAGE_MAP_PROJECTION
  ^DATA_SET_MAP_PROJECTION_CATALOG= "DSMAP.CAT"
  A_AXIS_RADIUS = 3396.0
  B_AXIS_RADIUS = 3396.0
  C_AXIS_RADIUS = 3396.0
  CENTER_LATITUDE = 0.0
  CENTER_LONGITUDE = 50.0
  COORDINATE_SYSTEM_NAME = PLANETOGRAPHIC
  COORDINATE_SYSTEM_TYPE = "BODY-FIXED ROTATING"
  EASTERNMOST_LONGITUDE = 50.9608
  FIRST_STANDARD_PARALLEL = "N/A"
  LINE_FIRST_PIXEL = 1
  LINE_LAST_PIXEL = 12382
  LINE_PROJECTION_OFFSET = 17467.125
  MAP_PROJECTION_ROTATION = 0.0
  MAP_PROJECTION_TYPE = SINUSOIDAL
  MAP_RESOLUTION = 1185.42760773333
  MAP_SCALE = 0.05
  MAXIMUM_LATITUDE = 14.7427
  MINIMUM_LATITUDE = 4.29736
  POSITIVE_LONGITUDE_DIRECTION = EAST
  REFERENCE_LATITUDE = "N/A"
  REFERENCE_LONGITUDE = "N/A"
  SAMPLE_FIRST_PIXEL = 1
  SAMPLE_LAST_PIXEL = 1672
  SAMPLE_PROJECTION_OFFSET = 519.125
  SECOND_STANDARD_PARALLEL = "N/A"
  WESTERNMOST_LONGITUDE = 49.621
END_OBJECT = IMAGE_MAP_PROJECTION
/* The JPEG2000 image data file associated with this label. */
OBJECT = COMPRESSED_FILE
  FILE_NAME = "H9357_0000_IR3.JP2"
  RECORD_TYPE = UNDEFINED
  FILE_RECORDS = UNK
  ENCODING_TYPE = "JP2"
  INTERCHANGE_FORMAT = BINARY
  UNCOMPRESSED_FILE_NAME = "H9357_0000_IR3.IMG"
  REQUIRED_STORAGE_BYTES = "20722768"
  ^DESCRIPTION = "JP2INFO.TXT"
END_OBJECT = COMPRESSED_FILE
END
