PDS_VERSION_ID = PDS3
/* FILE DATA ELEMENTS */
RECORD_TYPE = STREAM
/* POINTERS TO DATA OBJECTS */
^COMPRESSED_FILE = "H9362_0000_BL3.JP2"
/* IDENTIFICATION DATA ELEMENTS */
DATA_SET_ID = "MEX-M-HRSC-5-REFDR-MAPPROJECTED-V3.0"
DATA_SET_NAME = "MARS EXPRESS HRSC MAP PROJECTED REFDR V3.0"
DETECTOR_ID = MEX_HRSC_BLUE
EVENT_TYPE = "MARS-REGIONAL-MAPPING-Vo"
INSTRUMENT_HOST_ID = MEX
INSTRUMENT_HOST_NAME = "MARS EXPRESS"
INSTRUMENT_ID = HRSC
INSTRUMENT_NAME = "HIGH RESOLUTION STEREO CAMERA"
MISSION_NAME = "MARS EXPRESS"
MISSION_PHASE_NAME = ME_Phase_23
PROCESSING_LEVEL_ID = 3
PRODUCT_CREATION_TIME = 2016-10-26T12:35:54.000Z
PRODUCT_ID = "H9362_0000_BL3.JP2"
RELEASE_ID = 0096
REVISION_ID = 0000
/* QUALITY DATA ELEMENTS */
DATA_QUALITY_ID = 1
DATA_QUALITY_DESC = "Data calculated based on original SPICE kernels"
/* TIME DATA ELEMENTS */
SPACECRAFT_CLOCK_START_COUNT = "1/0252427482.09050"
SPACECRAFT_CLOCK_STOP_COUNT = "1/0252427671.01134"
START_TIME = 2011-05-02T14:45:23.064Z
STOP_TIME = 2011-05-02T14:47:19.751Z
/* ORBITAL DATA ELEMENTS */
ASCENDING_NODE_LONGITUDE = 38.5
MAXIMUM_RESOLUTION = 114.7
FOOTPRINT_POINT_LATITUDE = (9.99153,9.99388,9.99616,9.99837, 10.0005,10.0026,9.93146,9.67468,9.41763 ,9.225,8.96774,8.71047,8.51762,8.26069, 8.10922,7.95604,7.80296,7.64992,7.49694 ,7.34399,7.19113,7.03834,6.88559, 6.73292,6.58032,6.42781,6.27534,6.12293 ,5.97055,5.81839,5.66631,5.51421, 5.36225,5.13439,4.98258,4.83086,4.67925 ,4.52771,4.37623,4.22485,4.07355, 3.84681,3.62025,3.46931,3.31845,3.16769 ,3.017,2.86643,2.71594,2.59247,2.58918, 2.58535,2.58247,2.57963,2.57585,2.57489 ,2.72547,2.8761,3.02685,3.1777,3.32859, 3.47963,3.63072,3.78192,3.93317,4.08449 ,4.2359,4.38745,4.53906,4.69074,4.84253 ,4.99439,5.14631,5.29834,5.45047, 5.60262,5.75489,5.90718,6.0596,6.21206, 6.44092,6.59349,6.74622,6.89906,7.05194 ,7.20486,7.35789,7.51094,7.6641,7.81729 ,7.97053,8.12386,8.27056,8.52774, 8.72074,8.97823,9.23584,9.49366,9.75163 ,9.99153)
FOOTPRINT_POINT_LONGITUDE = (258.871,258.682,258.491,258.3,258.107, 257.912,257.66,257.655,257.651,257.647, 257.644,257.642,257.64,257.638,257.636, 257.634,257.633,257.631,257.629,257.627 ,257.626,257.624,257.622,257.62,257.618 ,257.616,257.614,257.612,257.611, 257.608,257.606,257.604,257.602,257.599 ,257.596,257.594,257.592,257.589, 257.587,257.584,257.582,257.578,257.574 ,257.571,257.569,257.566,257.563,257.56 ,257.557,257.605,257.827,258.086, 258.279,258.471,258.726,258.924,258.923 ,258.923,258.923,258.922,258.922, 258.922,258.921,258.921,258.921,258.921 ,258.92,258.92,258.92,258.92,258.92, 258.919,258.919,258.919,258.919,258.919 ,258.918,258.918,258.918,258.918, 258.918,258.918,258.918,258.918,258.918 ,258.917,258.917,258.917,258.917, 258.917,258.917,258.917,258.917,258.917 ,258.917,258.917,258.917,258.917, 258.917,258.871)
ORBIT_NUMBER = 9362
ORBITAL_ECCENTRICITY = 0.578
ORBITAL_INCLINATION = 86.85
ORBITAL_SEMIMAJOR_AXIS = 8861.85
PERIAPSIS_ALTITUDE = 349.32
PERIAPSIS_ARGUMENT_ANGLE = 162.05
PERIAPSIS_TIME = 2011-05-02T14:43:14.000Z
SPACECRAFT_ORIENTATION = (0.0,-1.0,0.0)
^MEX_ORIENTATION_DESC = "MEX_ORIENTATION_DESC.TXT"
SPACECRAFT_POINTING_MODE = ACROSSTRACK
^MEX_POINTING_DESC = "MEX_POINTING_DESC.TXT"
RIGHT_ASCENSION = -1e+32
DECLINATION = -1e+32
OFFSET_ANGLE = -0.58
SPACECRAFT_SOLAR_DISTANCE = 2.09708e+08
TARGET_NAME = MARS
/* CAMERA DATA ELEMENTS */
DETECTOR_TEMPERATURE = 18.3705
FOCAL_PLANE_TEMPERATURE = 8.7872
INST_CMPRS_NAME = "DISCRETE COSINE TRANSFORMATION (DCT)"
INST_CMPRS_RATIO = 9.45804
INST_CMPRS_QUALITY = 0
INST_CMPRS_QUANTZ_TBL_ID = 0
INSTRUMENT_TEMPERATURE = 11.234
LENS_TEMPERATURE = 9.195
MACROPIXEL_SIZE = 8
MISSING_FRAMES = 0
PIXEL_SUBSAMPLING_FLAG = N
SIGNAL_CHAIN_ID = 2
/* RADIOMETRIC DATA ELEMENTS */
BANDWIDTH = 76.0
CENTER_FILTER_WAVELENGTH = 444.0
RADIANCE_OFFSET = 0.398403
RADIANCE_SCALING_FACTOR = 0.00171705
REFLECTANCE_SCALING_FACTOR = 7.75834e-05
MEX:REFLECTANCE_OFFSET = 0.0180014
/* IMAGE OBJECT DEFINITIONS */
OBJECT = IMAGE
  INTERCHANGE_FORMAT = BINARY
  LINES = 4399
  LINE_SAMPLES = 877
  SAMPLE_TYPE = UNSIGNED_INTEGER
  SAMPLE_BITS = 8
  BANDS = 1
  BAND_STORAGE_TYPE = BAND_SEQUENTIAL
  MAXIMUM = 255
  MEAN = 128.634
  MINIMUM = 1
  STANDARD_DEVIATION = 22.2422
END_OBJECT = IMAGE
/* MAP OBJECT DEFINITIONS */
OBJECT = IMAGE_MAP_PROJECTION
  ^DATA_SET_MAP_PROJECTION_CATALOG= "DSMAP.CAT"
  A_AXIS_RADIUS = 3396.0
  B_AXIS_RADIUS = 3396.0
  C_AXIS_RADIUS = 3396.0
  CENTER_LATITUDE = 0.0
  CENTER_LONGITUDE = 258.0
  COORDINATE_SYSTEM_NAME = PLANETOGRAPHIC
  COORDINATE_SYSTEM_TYPE = "BODY-FIXED ROTATING"
  EASTERNMOST_LONGITUDE = 258.924
  FIRST_STANDARD_PARALLEL = "N/A"
  LINE_FIRST_PIXEL = 1
  LINE_LAST_PIXEL = 4399
  LINE_PROJECTION_OFFSET = 5940.4375
  MAP_PROJECTION_ROTATION = 0.0
  MAP_PROJECTION_TYPE = SINUSOIDAL
  MAP_RESOLUTION = 592.713803866667
  MAP_SCALE = 0.1
  MAXIMUM_LATITUDE = 10.0026
  MINIMUM_LATITUDE = 2.57489
  POSITIVE_LONGITUDE_DIRECTION = EAST
  REFERENCE_LATITUDE = "N/A"
  REFERENCE_LONGITUDE = "N/A"
  SAMPLE_FIRST_PIXEL = 1
  SAMPLE_LAST_PIXEL = 877
  SAMPLE_PROJECTION_OFFSET = 326.6875
  SECOND_STANDARD_PARALLEL = "N/A"
  WESTERNMOST_LONGITUDE = 257.557
END_OBJECT = IMAGE_MAP_PROJECTION
/* The JPEG2000 image data file associated with this label. */
OBJECT = COMPRESSED_FILE
  FILE_NAME = "H9362_0000_BL3.JP2"
  RECORD_TYPE = UNDEFINED
  FILE_RECORDS = UNK
  ENCODING_TYPE = "JP2"
  INTERCHANGE_FORMAT = BINARY
  UNCOMPRESSED_FILE_NAME = "H9362_0000_BL3.IMG"
  REQUIRED_STORAGE_BYTES = "3875463"
  ^DESCRIPTION = "JP2INFO.TXT"
END_OBJECT = COMPRESSED_FILE
END
