PDS_VERSION_ID = PDS3
/* FILE DATA ELEMENTS */
RECORD_TYPE = STREAM
/* POINTERS TO DATA OBJECTS */
^COMPRESSED_FILE = "H9365_0009_GR3.JP2"
/* IDENTIFICATION DATA ELEMENTS */
DATA_SET_ID = "MEX-M-HRSC-5-REFDR-MAPPROJECTED-V3.0"
DATA_SET_NAME = "MARS EXPRESS HRSC MAP PROJECTED REFDR V3.0"
DETECTOR_ID = MEX_HRSC_GREEN
EVENT_TYPE = "MARS-REGIONAL-MAPPING-Im-Fl-Lc"
INSTRUMENT_HOST_ID = MEX
INSTRUMENT_HOST_NAME = "MARS EXPRESS"
INSTRUMENT_ID = HRSC
INSTRUMENT_NAME = "HIGH RESOLUTION STEREO CAMERA"
MISSION_NAME = "MARS EXPRESS"
MISSION_PHASE_NAME = ME_Phase_23
PROCESSING_LEVEL_ID = 3
PRODUCT_CREATION_TIME = 2016-10-26T12:35:54.000Z
PRODUCT_ID = "H9365_0009_GR3.JP2"
RELEASE_ID = 0096
REVISION_ID = 0000
/* QUALITY DATA ELEMENTS */
DATA_QUALITY_ID = 1
DATA_QUALITY_DESC = "Data calculated based on original SPICE kernels"
/* TIME DATA ELEMENTS */
SPACECRAFT_CLOCK_START_COUNT = "1/0252503094.09142"
SPACECRAFT_CLOCK_STOP_COUNT = "1/0252503268.17020"
START_TIME = 2011-05-03T11:45:25.642Z
STOP_TIME = 2011-05-03T11:46:59.792Z
/* ORBITAL DATA ELEMENTS */
ASCENDING_NODE_LONGITUDE = 38.44
MAXIMUM_RESOLUTION = 123
FOOTPRINT_POINT_LATITUDE = (5.20139,5.2053,5.20907,5.21273,5.21624 ,5.21964,5.21975,5.10259,4.92704, 4.80977,4.69228,4.5751,4.45836,4.28334, 4.16647,4.04958,3.93282,3.75773,3.58281 ,3.40808,3.23341,3.11698,3.00032, 2.88374,2.70896,2.59254,2.47618,2.35988 ,2.24358,2.12736,2.01117,1.83648, 1.66298,1.43113,1.1998,1.0832,0.963981, 0.845129,0.666876,0.548146,0.429435, 0.251478,0.132308,0.013874,-0.104632, -0.222655,-0.343382,-0.464776,-0.586131 ,-0.707416,-0.753996,-0.75849,-0.761858 ,-0.765673,-0.768866,-0.772681,-0.77826 ,-0.657703,-0.536385,-0.414842,-0.23369 ,-0.056101,0.0623839,0.181402,0.360737, 0.480653,0.600339,0.719173,0.837945, 0.956698,1.19136,1.36521,1.59716, 1.82927,2.06154,2.17776,2.29399,2.4103, 2.52668,2.64307,2.75954,2.87602,2.99257 ,3.10914,3.22571,3.34233,3.45899, 3.57565,3.69238,3.80916,3.98406,4.10119 ,4.2766,4.45203,4.62759,4.74466,4.86178 ,4.97898,5.09578,5.20139)
FOOTPRINT_POINT_LONGITUDE = (313.348,313.141,312.936,312.733, 312.531,312.331,312.14,312.138,312.134, 312.132,312.13,312.128,312.126,312.122, 312.12,312.118,312.116,312.112,312.109, 312.105,312.102,312.099,312.097,312.095 ,312.091,312.089,312.086,312.084, 312.081,312.079,312.077,312.073,312.069 ,312.064,312.059,312.056,312.054, 312.051,312.047,312.044,312.042,312.038 ,312.035,312.032,312.03,312.027,312.024 ,312.021,312.018,312.015,312.175, 312.435,312.628,312.85,313.032,313.244, 313.507,313.51,313.51,313.509,313.508, 313.508,313.508,313.506,313.5,313.495, 313.491,313.491,313.491,313.491,313.492 ,313.492,313.492,313.492,313.492, 313.492,313.492,313.492,313.492,313.492 ,313.492,313.492,313.492,313.492, 313.492,313.493,313.493,313.493,313.493 ,313.494,313.495,313.495,313.495, 313.496,313.496,313.496,313.497,313.497 ,313.499,313.348)
ORBIT_NUMBER = 9365
ORBITAL_ECCENTRICITY = 0.577
ORBITAL_INCLINATION = 86.86
ORBITAL_SEMIMAJOR_AXIS = 8845.5
PERIAPSIS_ALTITUDE = 350.13
PERIAPSIS_ARGUMENT_ANGLE = 161.54
PERIAPSIS_TIME = 2011-05-03T11:42:06.000Z
SPACECRAFT_ORIENTATION = (0.0,-1.0,0.0)
^MEX_ORIENTATION_DESC = "MEX_ORIENTATION_DESC.TXT"
SPACECRAFT_POINTING_MODE = ACROSSTRACK
^MEX_POINTING_DESC = "MEX_POINTING_DESC.TXT"
RIGHT_ASCENSION = -1e+32
DECLINATION = -1e+32
OFFSET_ANGLE = 0.8
SPACECRAFT_SOLAR_DISTANCE = 2.09804e+08
TARGET_NAME = MARS
/* CAMERA DATA ELEMENTS */
DETECTOR_TEMPERATURE = 18.5744
FOCAL_PLANE_TEMPERATURE = 9.195
INST_CMPRS_NAME = "DISCRETE COSINE TRANSFORMATION (DCT)"
INST_CMPRS_RATIO = 9.58195
INST_CMPRS_QUALITY = 0
INST_CMPRS_QUANTZ_TBL_ID = 0
INSTRUMENT_TEMPERATURE = 11.6418
LENS_TEMPERATURE = 9.6028
MACROPIXEL_SIZE = 8
MISSING_FRAMES = 0
PIXEL_SUBSAMPLING_FLAG = N
SIGNAL_CHAIN_ID = 2
/* RADIOMETRIC DATA ELEMENTS */
BANDWIDTH = 88.0
CENTER_FILTER_WAVELENGTH = 538.0
RADIANCE_OFFSET = 0.964386
RADIANCE_SCALING_FACTOR = 0.0037819
REFLECTANCE_SCALING_FACTOR = 0.000143327
MEX:REFLECTANCE_OFFSET = 0.0365484
/* IMAGE OBJECT DEFINITIONS */
OBJECT = IMAGE
  INTERCHANGE_FORMAT = BINARY
  LINES = 3553
  LINE_SAMPLES = 949
  SAMPLE_TYPE = UNSIGNED_INTEGER
  SAMPLE_BITS = 8
  BANDS = 1
  BAND_STORAGE_TYPE = BAND_SEQUENTIAL
  MAXIMUM = 254
  MEAN = 129.785
  MINIMUM = 1
  STANDARD_DEVIATION = 25.6134
END_OBJECT = IMAGE
/* MAP OBJECT DEFINITIONS */
OBJECT = IMAGE_MAP_PROJECTION
  ^DATA_SET_MAP_PROJECTION_CATALOG= "DSMAP.CAT"
  A_AXIS_RADIUS = 3396.0
  B_AXIS_RADIUS = 3396.0
  C_AXIS_RADIUS = 3396.0
  CENTER_LATITUDE = 0.0
  CENTER_LONGITUDE = 313.0
  COORDINATE_SYSTEM_NAME = PLANETOGRAPHIC
  COORDINATE_SYSTEM_TYPE = "BODY-FIXED ROTATING"
  EASTERNMOST_LONGITUDE = 313.51
  FIRST_STANDARD_PARALLEL = "N/A"
  LINE_FIRST_PIXEL = 1
  LINE_LAST_PIXEL = 3553
  LINE_PROJECTION_OFFSET = 3094.1875
  MAP_PROJECTION_ROTATION = 0.0
  MAP_PROJECTION_TYPE = SINUSOIDAL
  MAP_RESOLUTION = 592.713803866667
  MAP_SCALE = 0.1
  MAXIMUM_LATITUDE = 5.21975
  MINIMUM_LATITUDE = -0.77826
  POSITIVE_LONGITUDE_DIRECTION = EAST
  REFERENCE_LATITUDE = "N/A"
  REFERENCE_LONGITUDE = "N/A"
  SAMPLE_FIRST_PIXEL = 1
  SAMPLE_LAST_PIXEL = 949
  SAMPLE_PROJECTION_OFFSET = 597.5625
  SECOND_STANDARD_PARALLEL = "N/A"
  WESTERNMOST_LONGITUDE = 312.015
END_OBJECT = IMAGE_MAP_PROJECTION
/* The JPEG2000 image data file associated with this label. */
OBJECT = COMPRESSED_FILE
  FILE_NAME = "H9365_0009_GR3.JP2"
  RECORD_TYPE = UNDEFINED
  FILE_RECORDS = UNK
  ENCODING_TYPE = "JP2"
  INTERCHANGE_FORMAT = BINARY
  UNCOMPRESSED_FILE_NAME = "H9365_0009_GR3.IMG"
  REQUIRED_STORAGE_BYTES = "3389828"
  ^DESCRIPTION = "JP2INFO.TXT"
END_OBJECT = COMPRESSED_FILE
END
