PDS_VERSION_ID = PDS3
/* FILE DATA ELEMENTS */
RECORD_TYPE = STREAM
/* POINTERS TO DATA OBJECTS */
^COMPRESSED_FILE = "H9373_0000_P23.JP2"
/* IDENTIFICATION DATA ELEMENTS */
DATA_SET_ID = "MEX-M-HRSC-5-REFDR-MAPPROJECTED-V3.0"
DATA_SET_NAME = "MARS EXPRESS HRSC MAP PROJECTED REFDR V3.0"
DETECTOR_ID = MEX_HRSC_P2
EVENT_TYPE = "MARS-REGIONAL-MAPPING-Vo-Eo"
INSTRUMENT_HOST_ID = MEX
INSTRUMENT_HOST_NAME = "MARS EXPRESS"
INSTRUMENT_ID = HRSC
INSTRUMENT_NAME = "HIGH RESOLUTION STEREO CAMERA"
MISSION_NAME = "MARS EXPRESS"
MISSION_PHASE_NAME = ME_Phase_23
PROCESSING_LEVEL_ID = 3
PRODUCT_CREATION_TIME = 2016-10-26T12:35:54.000Z
PRODUCT_ID = "H9373_0000_P23.JP2"
RELEASE_ID = 0096
REVISION_ID = 0000
/* QUALITY DATA ELEMENTS */
DATA_QUALITY_ID = 1
DATA_QUALITY_DESC = "Data calculated based on original SPICE kernels"
/* TIME DATA ELEMENTS */
SPACECRAFT_CLOCK_START_COUNT = "1/0252704408.08271"
SPACECRAFT_CLOCK_STOP_COUNT = "1/0252704668.13736"
START_TIME = 2011-05-05T19:41:05.142Z
STOP_TIME = 2011-05-05T19:44:14.391Z
/* ORBITAL DATA ELEMENTS */
ASCENDING_NODE_LONGITUDE = 38.3
MAXIMUM_RESOLUTION = 60.6
FOOTPRINT_POINT_LATITUDE = (12.961,12.972,13.006,12.8029,12.5997, 12.3969,12.0932,11.8907,11.6884,11.4643 ,11.2233,10.8632,10.6218,10.2615, 10.0212,9.66179,9.42243,9.18321,8.94421 ,8.70554,8.46704,8.22895,7.99112, 7.75346,7.51621,7.27922,7.04271,6.80649 ,6.57071,6.33514,6.10014,5.86537, 5.63074,5.39686,5.16403,4.9308,4.69723, 4.46396,4.10597,3.86738,3.62893,3.39082 ,3.0316,2.78835,2.54538,2.30277,2.06048 ,1.69061,1.30489,1.29485,1.28681, 1.27698,1.26972,1.25936,1.50691,1.7548, 2.12166,2.36442,2.60919,2.85188,3.09526 ,3.33293,3.68778,3.92629,4.16502, 4.40364,4.63678,4.87029,5.10406,5.3385, 5.69102,5.92632,6.16219,6.51644,6.75252 ,7.10843,7.3457,7.58335,7.8211,8.05984, 8.29872,8.53749,8.77605,9.13366,9.49251 ,9.73234,9.97206,10.2126,10.5732, 10.9341,11.1753,11.4168,11.6411,11.8438 ,12.0463,12.2491,12.4521,12.7571, 12.9605,12.961)
FOOTPRINT_POINT_LONGITUDE = (213.487,213.096,212.527,212.526, 212.525,212.524,212.521,212.52,212.518, 212.518,212.516,212.512,212.51,212.507, 212.505,212.501,212.498,212.495,212.493 ,212.49,212.487,212.484,212.481,212.478 ,212.475,212.471,212.468,212.464,212.46 ,212.456,212.452,212.447,212.443, 212.438,212.433,212.428,212.424,212.419 ,212.412,212.407,212.402,212.397, 212.389,212.384,212.378,212.372,212.367 ,212.359,212.466,212.759,212.991, 213.293,213.522,213.896,213.895,213.893 ,213.891,213.89,213.889,213.888,213.887 ,213.886,213.884,213.883,213.882, 213.881,213.88,213.879,213.878,213.878, 213.876,213.876,213.875,213.874,213.873 ,213.872,213.872,213.871,213.871,213.87 ,213.87,213.869,213.869,213.868,213.867 ,213.867,213.866,213.866,213.865, 213.865,213.864,213.864,213.864,213.864 ,213.863,213.863,213.863,213.862, 213.862,213.487)
ORBIT_NUMBER = 9373
ORBITAL_ECCENTRICITY = 0.577
ORBITAL_INCLINATION = 86.86
ORBITAL_SEMIMAJOR_AXIS = 8848.79
PERIAPSIS_ALTITUDE = 350.78
PERIAPSIS_ARGUMENT_ANGLE = 160.12
PERIAPSIS_TIME = 2011-05-05T19:38:56.000Z
SPACECRAFT_ORIENTATION = (0.0,-1.0,0.0)
^MEX_ORIENTATION_DESC = "MEX_ORIENTATION_DESC.TXT"
SPACECRAFT_POINTING_MODE = ACROSSTRACK
^MEX_POINTING_DESC = "MEX_POINTING_DESC.TXT"
RIGHT_ASCENSION = -1e+32
DECLINATION = -1e+32
OFFSET_ANGLE = -0.6
SPACECRAFT_SOLAR_DISTANCE = 2.10067e+08
TARGET_NAME = MARS
/* CAMERA DATA ELEMENTS */
DETECTOR_TEMPERATURE = 17.5549
FOCAL_PLANE_TEMPERATURE = 8.7872
INST_CMPRS_NAME = "DISCRETE COSINE TRANSFORMATION (DCT)"
INST_CMPRS_RATIO = 3.51994
INST_CMPRS_QUALITY = 0
INST_CMPRS_QUANTZ_TBL_ID = 0
INSTRUMENT_TEMPERATURE = 11.234
LENS_TEMPERATURE = 9.195
MACROPIXEL_SIZE = 4
MISSING_FRAMES = 0
PIXEL_SUBSAMPLING_FLAG = N
SIGNAL_CHAIN_ID = 3
/* RADIOMETRIC DATA ELEMENTS */
BANDWIDTH = 177.0
CENTER_FILTER_WAVELENGTH = 676.5
RADIANCE_OFFSET = 3.73522
RADIANCE_SCALING_FACTOR = 0.0144613
REFLECTANCE_SCALING_FACTOR = 0.000338361
MEX:REFLECTANCE_OFFSET = 0.0873955
/* IMAGE OBJECT DEFINITIONS */
OBJECT = IMAGE
  INTERCHANGE_FORMAT = BINARY
  LINES = 13882
  LINE_SAMPLES = 1859
  SAMPLE_TYPE = UNSIGNED_INTEGER
  SAMPLE_BITS = 8
  BANDS = 1
  BAND_STORAGE_TYPE = BAND_SEQUENTIAL
  MAXIMUM = 255
  MEAN = 98.0111
  MINIMUM = 1
  STANDARD_DEVIATION = 30.3479
END_OBJECT = IMAGE
/* MAP OBJECT DEFINITIONS */
OBJECT = IMAGE_MAP_PROJECTION
  ^DATA_SET_MAP_PROJECTION_CATALOG= "DSMAP.CAT"
  A_AXIS_RADIUS = 3396.0
  B_AXIS_RADIUS = 3396.0
  C_AXIS_RADIUS = 3396.0
  CENTER_LATITUDE = 0.0
  CENTER_LONGITUDE = 213.0
  COORDINATE_SYSTEM_NAME = PLANETOGRAPHIC
  COORDINATE_SYSTEM_TYPE = "BODY-FIXED ROTATING"
  EASTERNMOST_LONGITUDE = 213.896
  FIRST_STANDARD_PARALLEL = "N/A"
  LINE_FIRST_PIXEL = 1
  LINE_LAST_PIXEL = 13882
  LINE_PROJECTION_OFFSET = 15394.375
  MAP_PROJECTION_ROTATION = 0.0
  MAP_PROJECTION_TYPE = SINUSOIDAL
  MAP_RESOLUTION = 1185.42760773333
  MAP_SCALE = 0.05
  MAXIMUM_LATITUDE = 13.006
  MINIMUM_LATITUDE = 1.25936
  POSITIVE_LONGITUDE_DIRECTION = EAST
  REFERENCE_LATITUDE = "N/A"
  REFERENCE_LONGITUDE = "N/A"
  SAMPLE_FIRST_PIXEL = 1
  SAMPLE_LAST_PIXEL = 1859
  SAMPLE_PROJECTION_OFFSET = 817.625
  SECOND_STANDARD_PARALLEL = "N/A"
  WESTERNMOST_LONGITUDE = 212.359
END_OBJECT = IMAGE_MAP_PROJECTION
/* The JPEG2000 image data file associated with this label. */
OBJECT = COMPRESSED_FILE
  FILE_NAME = "H9373_0000_P23.JP2"
  RECORD_TYPE = UNDEFINED
  FILE_RECORDS = UNK
  ENCODING_TYPE = "JP2"
  INTERCHANGE_FORMAT = BINARY
  UNCOMPRESSED_FILE_NAME = "H9373_0000_P23.IMG"
  REQUIRED_STORAGE_BYTES = "25825228"
  ^DESCRIPTION = "JP2INFO.TXT"
END_OBJECT = COMPRESSED_FILE
END
