PDS_VERSION_ID = PDS3
/* FILE DATA ELEMENTS */
RECORD_TYPE = STREAM
/* POINTERS TO DATA OBJECTS */
^COMPRESSED_FILE = "H9373_0000_RE3.JP2"
/* IDENTIFICATION DATA ELEMENTS */
DATA_SET_ID = "MEX-M-HRSC-5-REFDR-MAPPROJECTED-V3.0"
DATA_SET_NAME = "MARS EXPRESS HRSC MAP PROJECTED REFDR V3.0"
DETECTOR_ID = MEX_HRSC_RED
EVENT_TYPE = "MARS-REGIONAL-MAPPING-Vo-Eo"
INSTRUMENT_HOST_ID = MEX
INSTRUMENT_HOST_NAME = "MARS EXPRESS"
INSTRUMENT_ID = HRSC
INSTRUMENT_NAME = "HIGH RESOLUTION STEREO CAMERA"
MISSION_NAME = "MARS EXPRESS"
MISSION_PHASE_NAME = ME_Phase_23
PROCESSING_LEVEL_ID = 3
PRODUCT_CREATION_TIME = 2016-10-26T12:35:54.000Z
PRODUCT_ID = "H9373_0000_RE3.JP2"
RELEASE_ID = 0096
REVISION_ID = 0000
/* QUALITY DATA ELEMENTS */
DATA_QUALITY_ID = 1
DATA_QUALITY_DESC = "Data calculated based on original SPICE kernels"
/* TIME DATA ELEMENTS */
SPACECRAFT_CLOCK_START_COUNT = "1/0252704408.08271"
SPACECRAFT_CLOCK_STOP_COUNT = "1/0252704668.13736"
START_TIME = 2011-05-05T19:41:10.956Z
STOP_TIME = 2011-05-05T19:44:21.602Z
/* ORBITAL DATA ELEMENTS */
ASCENDING_NODE_LONGITUDE = 38.3
MAXIMUM_RESOLUTION = 123.5
FOOTPRINT_POINT_LATITUDE = (12.9539,12.9674,12.9815,13.0125,12.812 ,12.4114,12.0121,11.7812,11.5418, 11.1851,10.9493,10.7114,10.3559,10.1194 ,9.88166,9.64631,9.41046,9.17493, 8.93957,8.70455,8.46969,8.23525,8.0012, 7.65047,7.41716,7.18429,6.95188,6.7197, 6.48792,6.25654,6.02591,5.79528,5.56514 ,5.33567,5.10744,4.87817,4.64329, 4.40818,4.17339,3.93913,3.70518,3.34891 ,3.10968,2.87093,2.63267,2.39467, 2.02948,1.78537,1.54256,1.32862,1.31377 ,1.30224,1.29324,1.28448,1.27608, 1.27002,1.51258,1.75549,1.99886,2.24305 ,2.4838,2.72371,2.9614,3.2004,3.55745, 3.78948,4.02353,4.37541,4.61028,4.84432 ,5.07392,5.3039,5.53478,5.76587,5.99724 ,6.22957,6.57782,6.81003,7.04366, 7.27724,7.62796,7.97979,8.33266,8.56786 ,8.80277,9.15474,9.50818,9.74451, 9.98057,10.3363,10.6917,10.9288,11.1667 ,11.4048,11.6428,11.9882,12.3882, 12.5886,12.7895,12.9539)
FOOTPRINT_POINT_LONGITUDE = (213.572,213.179,212.781,212.531,212.53 ,212.527,212.524,212.522,212.521, 212.518,212.515,212.513,212.51,212.508, 212.506,212.503,212.501,212.498,212.495 ,212.492,212.489,212.486,212.483, 212.478,212.475,212.472,212.468,212.464 ,212.46,212.456,212.452,212.447,212.443 ,212.438,212.433,212.428,212.423, 212.419,212.414,212.409,212.404,212.396 ,212.391,212.386,212.38,212.374,212.366 ,212.361,212.355,212.349,212.703, 212.982,213.215,213.447,213.677,213.902 ,213.9,213.899,213.898,213.896,213.895, 213.894,213.892,213.891,213.889,213.888 ,213.887,213.886,213.884,213.884, 213.883,213.882,213.881,213.88,213.879, 213.878,213.877,213.877,213.876,213.875 ,213.874,213.873,213.872,213.872, 213.871,213.87,213.87,213.869,213.869, 213.868,213.867,213.867,213.866,213.866 ,213.866,213.865,213.864,213.864, 213.864,213.572)
ORBIT_NUMBER = 9373
ORBITAL_ECCENTRICITY = 0.577
ORBITAL_INCLINATION = 86.86
ORBITAL_SEMIMAJOR_AXIS = 8848.79
PERIAPSIS_ALTITUDE = 350.78
PERIAPSIS_ARGUMENT_ANGLE = 160.12
PERIAPSIS_TIME = 2011-05-05T19:38:56.000Z
SPACECRAFT_ORIENTATION = (0.0,-1.0,0.0)
^MEX_ORIENTATION_DESC = "MEX_ORIENTATION_DESC.TXT"
SPACECRAFT_POINTING_MODE = ACROSSTRACK
^MEX_POINTING_DESC = "MEX_POINTING_DESC.TXT"
RIGHT_ASCENSION = -1e+32
DECLINATION = -1e+32
OFFSET_ANGLE = -0.6
SPACECRAFT_SOLAR_DISTANCE = 2.10067e+08
TARGET_NAME = MARS
/* CAMERA DATA ELEMENTS */
DETECTOR_TEMPERATURE = 17.5549
FOCAL_PLANE_TEMPERATURE = 8.7872
INST_CMPRS_NAME = "DISCRETE COSINE TRANSFORMATION (DCT)"
INST_CMPRS_RATIO = 4.22672
INST_CMPRS_QUALITY = 0
INST_CMPRS_QUANTZ_TBL_ID = 0
INSTRUMENT_TEMPERATURE = 11.234
LENS_TEMPERATURE = 9.195
MACROPIXEL_SIZE = 8
MISSING_FRAMES = 0
PIXEL_SUBSAMPLING_FLAG = N
SIGNAL_CHAIN_ID = 2
/* RADIOMETRIC DATA ELEMENTS */
BANDWIDTH = 48.0
CENTER_FILTER_WAVELENGTH = 748.0
RADIANCE_OFFSET = 1.06189
RADIANCE_SCALING_FACTOR = 0.00400532
REFLECTANCE_SCALING_FACTOR = 0.000403347
MEX:REFLECTANCE_OFFSET = 0.106935
/* IMAGE OBJECT DEFINITIONS */
OBJECT = IMAGE
  INTERCHANGE_FORMAT = BINARY
  LINES = 6941
  LINE_SAMPLES = 930
  SAMPLE_TYPE = UNSIGNED_INTEGER
  SAMPLE_BITS = 8
  BANDS = 1
  BAND_STORAGE_TYPE = BAND_SEQUENTIAL
  MAXIMUM = 254
  MEAN = 101.269
  MINIMUM = 1
  STANDARD_DEVIATION = 31.359
END_OBJECT = IMAGE
/* MAP OBJECT DEFINITIONS */
OBJECT = IMAGE_MAP_PROJECTION
  ^DATA_SET_MAP_PROJECTION_CATALOG= "DSMAP.CAT"
  A_AXIS_RADIUS = 3396.0
  B_AXIS_RADIUS = 3396.0
  C_AXIS_RADIUS = 3396.0
  CENTER_LATITUDE = 0.0
  CENTER_LONGITUDE = 213.0
  COORDINATE_SYSTEM_NAME = PLANETOGRAPHIC
  COORDINATE_SYSTEM_TYPE = "BODY-FIXED ROTATING"
  EASTERNMOST_LONGITUDE = 213.902
  FIRST_STANDARD_PARALLEL = "N/A"
  LINE_FIRST_PIXEL = 1
  LINE_LAST_PIXEL = 6941
  LINE_PROJECTION_OFFSET = 7696.9375
  MAP_PROJECTION_ROTATION = 0.0
  MAP_PROJECTION_TYPE = SINUSOIDAL
  MAP_RESOLUTION = 592.713803866667
  MAP_SCALE = 0.1
  MAXIMUM_LATITUDE = 13.0125
  MINIMUM_LATITUDE = 1.27002
  POSITIVE_LONGITUDE_DIRECTION = EAST
  REFERENCE_LATITUDE = "N/A"
  REFERENCE_LONGITUDE = "N/A"
  SAMPLE_FIRST_PIXEL = 1
  SAMPLE_LAST_PIXEL = 930
  SAMPLE_PROJECTION_OFFSET = 408.5625
  SECOND_STANDARD_PARALLEL = "N/A"
  WESTERNMOST_LONGITUDE = 212.349
END_OBJECT = IMAGE_MAP_PROJECTION
/* The JPEG2000 image data file associated with this label. */
OBJECT = COMPRESSED_FILE
  FILE_NAME = "H9373_0000_RE3.JP2"
  RECORD_TYPE = UNDEFINED
  FILE_RECORDS = UNK
  ENCODING_TYPE = "JP2"
  INTERCHANGE_FORMAT = BINARY
  UNCOMPRESSED_FILE_NAME = "H9373_0000_RE3.IMG"
  REQUIRED_STORAGE_BYTES = "6472800"
  ^DESCRIPTION = "JP2INFO.TXT"
END_OBJECT = COMPRESSED_FILE
END
