PDS_VERSION_ID = PDS3
/* FILE DATA ELEMENTS */
RECORD_TYPE = STREAM
/* POINTERS TO DATA OBJECTS */
^COMPRESSED_FILE = "H9374_0000_P13.JP2"
/* IDENTIFICATION DATA ELEMENTS */
DATA_SET_ID = "MEX-M-HRSC-5-REFDR-MAPPROJECTED-V3.0"
DATA_SET_NAME = "MARS EXPRESS HRSC MAP PROJECTED REFDR V3.0"
DETECTOR_ID = MEX_HRSC_P1
EVENT_TYPE = "MARS-LOCAL-STEREO-Vo-Te"
INSTRUMENT_HOST_ID = MEX
INSTRUMENT_HOST_NAME = "MARS EXPRESS"
INSTRUMENT_ID = HRSC
INSTRUMENT_NAME = "HIGH RESOLUTION STEREO CAMERA"
MISSION_NAME = "MARS EXPRESS"
MISSION_PHASE_NAME = ME_Phase_23
PROCESSING_LEVEL_ID = 3
PRODUCT_CREATION_TIME = 2016-10-26T12:35:54.000Z
PRODUCT_ID = "H9374_0000_P13.JP2"
RELEASE_ID = 0096
REVISION_ID = 0000
/* QUALITY DATA ELEMENTS */
DATA_QUALITY_ID = 1
DATA_QUALITY_DESC = "Data calculated based on original SPICE kernels"
/* TIME DATA ELEMENTS */
SPACECRAFT_CLOCK_START_COUNT = "1/0252729488.08253"
SPACECRAFT_CLOCK_STOP_COUNT = "1/0252729697.08934"
START_TIME = 2011-05-06T02:38:22.212Z
STOP_TIME = 2011-05-06T02:40:41.199Z
/* ORBITAL DATA ELEMENTS */
ASCENDING_NODE_LONGITUDE = 38.27
MAXIMUM_RESOLUTION = 29.1
FOOTPRINT_POINT_LATITUDE = (19.719,19.7104,19.7014,19.6919,19.6818 ,19.6422,19.373,19.0142,18.8346,18.6549 ,18.4752,18.2955,18.1159,17.9359, 17.7564,17.5761,17.3959,17.2162,17.0361 ,16.8564,16.6769,16.4066,16.2268, 16.0469,15.7765,15.5961,15.4159,15.2355 ,15.0554,14.8749,14.6944,14.5138, 14.3333,14.0623,13.8816,13.7011,13.5201 ,13.2489,12.9777,12.7067,12.5261, 12.3457,12.1655,11.9854,11.8053,11.6214 ,11.3496,11.1682,10.8108,10.6301, 10.6387,10.649,10.6621,10.6692,10.6737, 10.9444,11.1256,11.3966,11.5774,11.762, 11.9436,12.1238,12.3051,12.5768,12.7573 ,13.0286,13.2095,13.3903,13.5713, 13.7524,13.9332,14.1141,14.295,14.4757, 14.6565,14.9277,15.1084,15.2891,15.5599 ,15.7406,15.9209,16.191,16.3708,16.5507 ,16.8213,17.0018,17.1829,17.5384, 17.7213,17.9935,18.1742,18.4437,18.6236 ,18.8036,18.9835,19.1633,19.343,19.5227 ,19.7021,19.719)
FOOTPRINT_POINT_LONGITUDE = (110.933,110.731,110.525,110.317, 110.107,109.764,109.768,109.772,109.774 ,109.776,109.778,109.78,109.782,109.783 ,109.785,109.786,109.787,109.789, 109.791,109.792,109.794,109.796,109.798 ,109.799,109.801,109.801,109.802, 109.803,109.804,109.805,109.805,109.805 ,109.806,109.806,109.806,109.807, 109.806,109.806,109.806,109.805,109.805 ,109.805,109.806,109.806,109.806, 109.806,109.804,109.803,109.806,109.872 ,110.123,110.423,110.732,110.947, 111.139,111.138,111.138,111.138,111.137 ,111.137,111.137,111.137,111.137, 111.137,111.136,111.136,111.136,111.136 ,111.135,111.135,111.135,111.135, 111.135,111.134,111.134,111.134,111.134 ,111.134,111.133,111.133,111.133, 111.132,111.132,111.131,111.131,111.131 ,111.131,111.129,111.129,111.13,111.129 ,111.129,111.129,111.128,111.128, 111.128,111.128,111.127,111.127, 110.933)
ORBIT_NUMBER = 9374
ORBITAL_ECCENTRICITY = 0.577
ORBITAL_INCLINATION = 86.85
ORBITAL_SEMIMAJOR_AXIS = 8850.83
PERIAPSIS_ALTITUDE = 350.63
PERIAPSIS_ARGUMENT_ANGLE = 159.95
PERIAPSIS_TIME = 2011-05-06T02:38:38.000Z
SPACECRAFT_ORIENTATION = (0.0,-1.0,0.0)
^MEX_ORIENTATION_DESC = "MEX_ORIENTATION_DESC.TXT"
SPACECRAFT_POINTING_MODE = ACROSSTRACK
^MEX_POINTING_DESC = "MEX_POINTING_DESC.TXT"
RIGHT_ASCENSION = -1e+32
DECLINATION = -1e+32
OFFSET_ANGLE = -1.0
SPACECRAFT_SOLAR_DISTANCE = 2.101e+08
TARGET_NAME = MARS
/* CAMERA DATA ELEMENTS */
DETECTOR_TEMPERATURE = 17.5549
FOCAL_PLANE_TEMPERATURE = 8.7872
INST_CMPRS_NAME = "DISCRETE COSINE TRANSFORMATION (DCT)"
INST_CMPRS_RATIO = 9.46874
INST_CMPRS_QUALITY = 0
INST_CMPRS_QUANTZ_TBL_ID = 0
INSTRUMENT_TEMPERATURE = 11.4379
LENS_TEMPERATURE = 8.9911
MACROPIXEL_SIZE = 2
MISSING_FRAMES = 1
PIXEL_SUBSAMPLING_FLAG = N
SIGNAL_CHAIN_ID = 3
/* RADIOMETRIC DATA ELEMENTS */
BANDWIDTH = 174.0
CENTER_FILTER_WAVELENGTH = 675.0
RADIANCE_OFFSET = 3.09709
RADIANCE_SCALING_FACTOR = 0.0115832
REFLECTANCE_SCALING_FACTOR = 0.000275021
MEX:REFLECTANCE_OFFSET = 0.0735348
/* IMAGE OBJECT DEFINITIONS */
OBJECT = IMAGE
  INTERCHANGE_FORMAT = BINARY
  LINES = 21452
  LINE_SAMPLES = 3388
  SAMPLE_TYPE = UNSIGNED_INTEGER
  SAMPLE_BITS = 8
  BANDS = 1
  BAND_STORAGE_TYPE = BAND_SEQUENTIAL
  MAXIMUM = 255
  MEAN = 85.5808
  MINIMUM = 1
  STANDARD_DEVIATION = 27.4163
END_OBJECT = IMAGE
/* MAP OBJECT DEFINITIONS */
OBJECT = IMAGE_MAP_PROJECTION
  ^DATA_SET_MAP_PROJECTION_CATALOG= "DSMAP.CAT"
  A_AXIS_RADIUS = 3396.0
  B_AXIS_RADIUS = 3396.0
  C_AXIS_RADIUS = 3396.0
  CENTER_LATITUDE = 0.0
  CENTER_LONGITUDE = 110.0
  COORDINATE_SYSTEM_NAME = PLANETOGRAPHIC
  COORDINATE_SYSTEM_TYPE = "BODY-FIXED ROTATING"
  EASTERNMOST_LONGITUDE = 111.139
  FIRST_STANDARD_PARALLEL = "N/A"
  LINE_FIRST_PIXEL = 1
  LINE_LAST_PIXEL = 21452
  LINE_PROJECTION_OFFSET = 46695.75
  MAP_PROJECTION_ROTATION = 0.0
  MAP_PROJECTION_TYPE = SINUSOIDAL
  MAP_RESOLUTION = 2370.85521546667
  MAP_SCALE = 0.025
  MAXIMUM_LATITUDE = 19.719
  MINIMUM_LATITUDE = 10.6301
  POSITIVE_LONGITUDE_DIRECTION = EAST
  REFERENCE_LATITUDE = "N/A"
  REFERENCE_LONGITUDE = "N/A"
  SAMPLE_FIRST_PIXEL = 1
  SAMPLE_LAST_PIXEL = 3388
  SAMPLE_PROJECTION_OFFSET = 706.75
  SECOND_STANDARD_PARALLEL = "N/A"
  WESTERNMOST_LONGITUDE = 109.764
END_OBJECT = IMAGE_MAP_PROJECTION
/* The JPEG2000 image data file associated with this label. */
OBJECT = COMPRESSED_FILE
  FILE_NAME = "H9374_0000_P13.JP2"
  RECORD_TYPE = UNDEFINED
  FILE_RECORDS = UNK
  ENCODING_TYPE = "JP2"
  INTERCHANGE_FORMAT = BINARY
  UNCOMPRESSED_FILE_NAME = "H9374_0000_P13.IMG"
  REQUIRED_STORAGE_BYTES = "72703092"
  ^DESCRIPTION = "JP2INFO.TXT"
END_OBJECT = COMPRESSED_FILE
END
