PDS_VERSION_ID = PDS3
/* FILE DATA ELEMENTS */
RECORD_TYPE = STREAM
/* POINTERS TO DATA OBJECTS */
^COMPRESSED_FILE = "H9374_0000_P23.JP2"
/* IDENTIFICATION DATA ELEMENTS */
DATA_SET_ID = "MEX-M-HRSC-5-REFDR-MAPPROJECTED-V3.0"
DATA_SET_NAME = "MARS EXPRESS HRSC MAP PROJECTED REFDR V3.0"
DETECTOR_ID = MEX_HRSC_P2
EVENT_TYPE = "MARS-LOCAL-STEREO-Vo-Te"
INSTRUMENT_HOST_ID = MEX
INSTRUMENT_HOST_NAME = "MARS EXPRESS"
INSTRUMENT_ID = HRSC
INSTRUMENT_NAME = "HIGH RESOLUTION STEREO CAMERA"
MISSION_NAME = "MARS EXPRESS"
MISSION_PHASE_NAME = ME_Phase_23
PROCESSING_LEVEL_ID = 3
PRODUCT_CREATION_TIME = 2016-10-26T12:35:54.000Z
PRODUCT_ID = "H9374_0000_P23.JP2"
RELEASE_ID = 0096
REVISION_ID = 0000
/* QUALITY DATA ELEMENTS */
DATA_QUALITY_ID = 1
DATA_QUALITY_DESC = "Data calculated based on original SPICE kernels"
/* TIME DATA ELEMENTS */
SPACECRAFT_CLOCK_START_COUNT = "1/0252729488.08253"
SPACECRAFT_CLOCK_STOP_COUNT = "1/0252729697.08934"
START_TIME = 2011-05-06T02:39:04.170Z
STOP_TIME = 2011-05-06T02:41:25.816Z
/* ORBITAL DATA ELEMENTS */
ASCENDING_NODE_LONGITUDE = 38.27
MAXIMUM_RESOLUTION = 29.3
FOOTPRINT_POINT_LATITUDE = (19.6735,19.681,19.6885,19.6961,19.7037 ,19.7113,19.6541,19.4772,19.3003, 19.1234,18.9466,18.7699,18.5933,18.3285 ,18.0636,17.8874,17.7107,17.535,17.359, 17.1827,16.9185,16.7423,16.5657,16.3019 ,16.0384,15.8628,15.6875,15.4245, 15.2493,15.0741,14.8991,14.7243,14.4622 ,14.2876,14.1131,13.9389,13.7646, 13.5035,13.3297,13.156,12.9822,12.8084, 12.548,12.2478,12.0404,11.8333,11.5226, 11.3183,11.1107,10.7996,10.6777,10.6719 ,10.6618,10.6432,10.6322,10.9419, 11.1481,11.3546,11.6644,11.8704,12.078, 12.2847,12.4819,12.6559,12.83,13.091, 13.2651,13.4394,13.6135,13.7879,13.9625 ,14.137,14.3118,14.574,14.7489,14.924, 15.0991,15.2744,15.4501,15.7133,15.8891 ,16.0651,16.2416,16.5064,16.6824, 16.8584,17.0344,17.2098,17.3871,17.5679 ,17.9161,18.0921,18.2693,18.4461,18.623 ,18.7998,19.0653,19.2423,19.4195, 19.6735)
FOOTPRINT_POINT_LONGITUDE = (111.034,110.832,110.627,110.419, 110.209,109.996,109.759,109.761,109.763 ,109.765,109.766,109.768,109.769, 109.771,109.774,109.775,109.777,109.777 ,109.778,109.779,109.781,109.782, 109.784,109.786,109.787,109.787,109.788 ,109.789,109.789,109.789,109.79,109.79, 109.79,109.79,109.79,109.789,109.789, 109.789,109.788,109.787,109.787,109.786 ,109.786,109.785,109.785,109.785, 109.785,109.781,109.782,109.782,110.015 ,110.19,110.445,110.83,111.158,111.157, 111.156,111.155,111.154,111.154,111.153 ,111.153,111.152,111.151,111.151,111.15 ,111.149,111.149,111.148,111.148, 111.147,111.147,111.146,111.145,111.145 ,111.144,111.144,111.143,111.142, 111.142,111.141,111.14,111.139,111.138, 111.138,111.137,111.137,111.136,111.135 ,111.133,111.134,111.133,111.132, 111.132,111.131,111.131,111.13,111.129, 111.128,111.034)
ORBIT_NUMBER = 9374
ORBITAL_ECCENTRICITY = 0.577
ORBITAL_INCLINATION = 86.85
ORBITAL_SEMIMAJOR_AXIS = 8850.83
PERIAPSIS_ALTITUDE = 350.63
PERIAPSIS_ARGUMENT_ANGLE = 159.95
PERIAPSIS_TIME = 2011-05-06T02:38:38.000Z
SPACECRAFT_ORIENTATION = (0.0,-1.0,0.0)
^MEX_ORIENTATION_DESC = "MEX_ORIENTATION_DESC.TXT"
SPACECRAFT_POINTING_MODE = ACROSSTRACK
^MEX_POINTING_DESC = "MEX_POINTING_DESC.TXT"
RIGHT_ASCENSION = -1e+32
DECLINATION = -1e+32
OFFSET_ANGLE = -1.0
SPACECRAFT_SOLAR_DISTANCE = 2.101e+08
TARGET_NAME = MARS
/* CAMERA DATA ELEMENTS */
DETECTOR_TEMPERATURE = 18.3705
FOCAL_PLANE_TEMPERATURE = 8.7872
INST_CMPRS_NAME = "DISCRETE COSINE TRANSFORMATION (DCT)"
INST_CMPRS_RATIO = 6.38979
INST_CMPRS_QUALITY = 0
INST_CMPRS_QUANTZ_TBL_ID = 0
INSTRUMENT_TEMPERATURE = 11.4379
LENS_TEMPERATURE = 8.9911
MACROPIXEL_SIZE = 2
MISSING_FRAMES = 0
PIXEL_SUBSAMPLING_FLAG = N
SIGNAL_CHAIN_ID = 3
/* RADIOMETRIC DATA ELEMENTS */
BANDWIDTH = 177.0
CENTER_FILTER_WAVELENGTH = 676.5
RADIANCE_OFFSET = 2.82862
RADIANCE_SCALING_FACTOR = 0.0113699
REFLECTANCE_SCALING_FACTOR = 0.000266114
MEX:REFLECTANCE_OFFSET = 0.066204
/* IMAGE OBJECT DEFINITIONS */
OBJECT = IMAGE
  INTERCHANGE_FORMAT = BINARY
  LINES = 21452
  LINE_SAMPLES = 3388
  SAMPLE_TYPE = UNSIGNED_INTEGER
  SAMPLE_BITS = 8
  BANDS = 1
  BAND_STORAGE_TYPE = BAND_SEQUENTIAL
  MAXIMUM = 255
  MEAN = 90.3117
  MINIMUM = 1
  STANDARD_DEVIATION = 29.5078
END_OBJECT = IMAGE
/* MAP OBJECT DEFINITIONS */
OBJECT = IMAGE_MAP_PROJECTION
  ^DATA_SET_MAP_PROJECTION_CATALOG= "DSMAP.CAT"
  A_AXIS_RADIUS = 3396.0
  B_AXIS_RADIUS = 3396.0
  C_AXIS_RADIUS = 3396.0
  CENTER_LATITUDE = 0.0
  CENTER_LONGITUDE = 110.0
  COORDINATE_SYSTEM_NAME = PLANETOGRAPHIC
  COORDINATE_SYSTEM_TYPE = "BODY-FIXED ROTATING"
  EASTERNMOST_LONGITUDE = 111.158
  FIRST_STANDARD_PARALLEL = "N/A"
  LINE_FIRST_PIXEL = 1
  LINE_LAST_PIXEL = 21452
  LINE_PROJECTION_OFFSET = 46695.75
  MAP_PROJECTION_ROTATION = 0.0
  MAP_PROJECTION_TYPE = SINUSOIDAL
  MAP_RESOLUTION = 2370.85521546667
  MAP_SCALE = 0.025
  MAXIMUM_LATITUDE = 19.7113
  MINIMUM_LATITUDE = 10.6322
  POSITIVE_LONGITUDE_DIRECTION = EAST
  REFERENCE_LATITUDE = "N/A"
  REFERENCE_LONGITUDE = "N/A"
  SAMPLE_FIRST_PIXEL = 1
  SAMPLE_LAST_PIXEL = 3388
  SAMPLE_PROJECTION_OFFSET = 706.75
  SECOND_STANDARD_PARALLEL = "N/A"
  WESTERNMOST_LONGITUDE = 109.759
END_OBJECT = IMAGE_MAP_PROJECTION
/* The JPEG2000 image data file associated with this label. */
OBJECT = COMPRESSED_FILE
  FILE_NAME = "H9374_0000_P23.JP2"
  RECORD_TYPE = UNDEFINED
  FILE_RECORDS = UNK
  ENCODING_TYPE = "JP2"
  INTERCHANGE_FORMAT = BINARY
  UNCOMPRESSED_FILE_NAME = "H9374_0000_P23.IMG"
  REQUIRED_STORAGE_BYTES = "72703092"
  ^DESCRIPTION = "JP2INFO.TXT"
END_OBJECT = COMPRESSED_FILE
END
