PDS_VERSION_ID = PDS3
/* FILE DATA ELEMENTS */
RECORD_TYPE = STREAM
/* POINTERS TO DATA OBJECTS */
^COMPRESSED_FILE = "H9375_0000_S23.JP2"
/* IDENTIFICATION DATA ELEMENTS */
DATA_SET_ID = "MEX-M-HRSC-5-REFDR-MAPPROJECTED-V3.0"
DATA_SET_NAME = "MARS EXPRESS HRSC MAP PROJECTED REFDR V3.0"
DETECTOR_ID = MEX_HRSC_S2
EVENT_TYPE = "MARS-REGIONAL-MAPPING-Im-Fl-La"
INSTRUMENT_HOST_ID = MEX
INSTRUMENT_HOST_NAME = "MARS EXPRESS"
INSTRUMENT_ID = HRSC
INSTRUMENT_NAME = "HIGH RESOLUTION STEREO CAMERA"
MISSION_NAME = "MARS EXPRESS"
MISSION_PHASE_NAME = ME_Phase_23
PROCESSING_LEVEL_ID = 3
PRODUCT_CREATION_TIME = 2016-10-26T12:35:54.000Z
PRODUCT_ID = "H9375_0000_S23.JP2"
RELEASE_ID = 0096
REVISION_ID = 0000
/* QUALITY DATA ELEMENTS */
DATA_QUALITY_ID = 1
DATA_QUALITY_DESC = "Data calculated based on original SPICE kernels"
/* TIME DATA ELEMENTS */
SPACECRAFT_CLOCK_START_COUNT = "1/0252754761.07305"
SPACECRAFT_CLOCK_STOP_COUNT = "1/0252754992.49065"
START_TIME = 2011-05-06T09:40:29.292Z
STOP_TIME = 2011-05-06T09:43:13.647Z
/* ORBITAL DATA ELEMENTS */
ASCENDING_NODE_LONGITUDE = 38.26
MAXIMUM_RESOLUTION = 31.4
FOOTPRINT_POINT_LATITUDE = (13.6588,13.6629,13.6671,13.6715,13.676 ,13.6807,13.7037,13.4406,13.2652, 13.0897,12.9144,12.5646,12.383,12.1747, 11.9663,11.759,11.5508,11.2399,10.9291, 10.722,10.5145,10.2051,10.0117,9.80347, 9.60016,9.38868,9.07671,8.76987,8.56536 ,8.25961,8.05614,7.85314,7.54889, 7.24555,6.94201,6.73957,6.5382,6.33713, 6.13515,5.93323,5.73568,5.5353,5.22832, 5.02369,4.82005,4.61581,4.41254,4.20892 ,3.99972,3.79275,3.63903,3.63403, 3.62837,3.62255,3.61618,3.61246,3.61325 ,3.81742,4.02299,4.22863,4.53528,4.7393 ,5.04609,5.25088,5.45527,5.65533, 5.85599,6.0568,6.25795,6.55983,6.76108, 6.9635,7.1659,7.36899,7.5725,7.77598, 7.97919,8.18421,8.49309,8.79606,9.00082 ,9.20581,9.51357,9.71868,9.92455, 10.1304,10.3365,10.646,10.8516,11.0603, 11.3717,11.5798,11.7876,12.0993,12.408, 12.7582,12.9334,13.196,13.371,13.6588)
FOOTPRINT_POINT_LONGITUDE = (9.55583,9.35219,9.14788,8.9429,8.73743 ,8.53106,8.29855,8.29661,8.29531, 8.29404,8.29272,8.2898,8.28847,8.28661, 8.28474,8.28249,8.28061,8.27727,8.27393 ,8.27169,8.26969,8.26593,8.25807, 8.25649,8.25287,8.25268,8.25028,8.24583 ,8.2429,8.23816,8.23489,8.23148,8.22635 ,8.22095,8.21574,8.21235,8.20858, 8.20473,8.20131,8.19791,8.1928,8.18889, 8.18309,8.17875,8.17406,8.16968,8.16496 ,8.16045,8.15616,8.15086,8.32441, 8.50136,8.72159,8.92662,9.18963,9.40825 ,9.66171,9.65979,9.65812,9.65683,9.6555 ,9.65449,9.65306,9.65212,9.65123, 9.65037,9.64961,9.64884,9.64811,9.64698 ,9.64619,9.6456,9.64497,9.64445,9.64398 ,9.64347,9.64288,9.6426,9.6424,9.641, 9.64056,9.64014,9.63951,9.63905,9.6387, 9.63832,9.63796,9.63742,9.63691,9.63694 ,9.63664,9.63648,9.63626,9.63587, 9.63554,9.63535,9.63525,9.63503,9.63485 ,9.55583)
ORBIT_NUMBER = 9375
ORBITAL_ECCENTRICITY = 0.577
ORBITAL_INCLINATION = 86.85
ORBITAL_SEMIMAJOR_AXIS = 8846.82
PERIAPSIS_ALTITUDE = 351.4
PERIAPSIS_ARGUMENT_ANGLE = 159.77
PERIAPSIS_TIME = 2011-05-06T09:38:15.000Z
SPACECRAFT_ORIENTATION = (0.0,-1.0,0.0)
^MEX_ORIENTATION_DESC = "MEX_ORIENTATION_DESC.TXT"
SPACECRAFT_POINTING_MODE = ACROSSTRACK
^MEX_POINTING_DESC = "MEX_POINTING_DESC.TXT"
RIGHT_ASCENSION = -1e+32
DECLINATION = -1e+32
OFFSET_ANGLE = -0.269
SPACECRAFT_SOLAR_DISTANCE = 2.10134e+08
TARGET_NAME = MARS
/* CAMERA DATA ELEMENTS */
DETECTOR_TEMPERATURE = 18.7783
FOCAL_PLANE_TEMPERATURE = 8.7872
INST_CMPRS_NAME = "DISCRETE COSINE TRANSFORMATION (DCT)"
INST_CMPRS_RATIO = 11.2165
INST_CMPRS_QUALITY = 0
INST_CMPRS_QUANTZ_TBL_ID = 0
INSTRUMENT_TEMPERATURE = 11.234
LENS_TEMPERATURE = 9.195
MACROPIXEL_SIZE = 2
MISSING_FRAMES = 0
PIXEL_SUBSAMPLING_FLAG = N
SIGNAL_CHAIN_ID = 1
/* RADIOMETRIC DATA ELEMENTS */
BANDWIDTH = 178.0
CENTER_FILTER_WAVELENGTH = 679.0
RADIANCE_OFFSET = 3.05111
RADIANCE_SCALING_FACTOR = 0.0145177
REFLECTANCE_SCALING_FACTOR = 0.000339486
MEX:REFLECTANCE_OFFSET = 0.071348
/* IMAGE OBJECT DEFINITIONS */
OBJECT = IMAGE
  INTERCHANGE_FORMAT = BINARY
  LINES = 23919
  LINE_SAMPLES = 3557
  SAMPLE_TYPE = UNSIGNED_INTEGER
  SAMPLE_BITS = 8
  BANDS = 1
  BAND_STORAGE_TYPE = BAND_SEQUENTIAL
  MAXIMUM = 255
  MEAN = 120.903
  MINIMUM = 1
  STANDARD_DEVIATION = 25.5487
END_OBJECT = IMAGE
/* MAP OBJECT DEFINITIONS */
OBJECT = IMAGE_MAP_PROJECTION
  ^DATA_SET_MAP_PROJECTION_CATALOG= "DSMAP.CAT"
  A_AXIS_RADIUS = 3396.0
  B_AXIS_RADIUS = 3396.0
  C_AXIS_RADIUS = 3396.0
  CENTER_LATITUDE = 0.0
  CENTER_LONGITUDE = 9.0
  COORDINATE_SYSTEM_NAME = PLANETOGRAPHIC
  COORDINATE_SYSTEM_TYPE = "BODY-FIXED ROTATING"
  EASTERNMOST_LONGITUDE = 9.661709999999999
  FIRST_STANDARD_PARALLEL = "N/A"
  LINE_FIRST_PIXEL = 1
  LINE_LAST_PIXEL = 23919
  LINE_PROJECTION_OFFSET = 32434.25
  MAP_PROJECTION_ROTATION = 0.0
  MAP_PROJECTION_TYPE = SINUSOIDAL
  MAP_RESOLUTION = 2370.85521546667
  MAP_SCALE = 0.025
  MAXIMUM_LATITUDE = 13.7037
  MINIMUM_LATITUDE = 3.61246
  POSITIVE_LONGITUDE_DIRECTION = EAST
  REFERENCE_LATITUDE = "N/A"
  REFERENCE_LONGITUDE = "N/A"
  SAMPLE_FIRST_PIXEL = 1
  SAMPLE_LAST_PIXEL = 3557
  SAMPLE_PROJECTION_OFFSET = 2025.75
  SECOND_STANDARD_PARALLEL = "N/A"
  WESTERNMOST_LONGITUDE = 8.15086
END_OBJECT = IMAGE_MAP_PROJECTION
/* The JPEG2000 image data file associated with this label. */
OBJECT = COMPRESSED_FILE
  FILE_NAME = "H9375_0000_S23.JP2"
  RECORD_TYPE = UNDEFINED
  FILE_RECORDS = UNK
  ENCODING_TYPE = "JP2"
  INTERCHANGE_FORMAT = BINARY
  UNCOMPRESSED_FILE_NAME = "H9375_0000_S23.IMG"
  REQUIRED_STORAGE_BYTES = "85101225"
  ^DESCRIPTION = "JP2INFO.TXT"
END_OBJECT = COMPRESSED_FILE
END
