PDS_VERSION_ID = PDS3
/* FILE DATA ELEMENTS */
RECORD_TYPE = STREAM
/* POINTERS TO DATA OBJECTS */
^COMPRESSED_FILE = "H9384_0000_P23.JP2"
/* IDENTIFICATION DATA ELEMENTS */
DATA_SET_ID = "MEX-M-HRSC-5-REFDR-MAPPROJECTED-V3.0"
DATA_SET_NAME = "MARS EXPRESS HRSC MAP PROJECTED REFDR V3.0"
DETECTOR_ID = MEX_HRSC_P2
EVENT_TYPE = "MARS-REGIONAL-MAPPING-Vo-Te-Pf"
INSTRUMENT_HOST_ID = MEX
INSTRUMENT_HOST_NAME = "MARS EXPRESS"
INSTRUMENT_ID = HRSC
INSTRUMENT_NAME = "HIGH RESOLUTION STEREO CAMERA"
MISSION_NAME = "MARS EXPRESS"
MISSION_PHASE_NAME = ME_Phase_23
PROCESSING_LEVEL_ID = 3
PRODUCT_CREATION_TIME = 2016-10-26T12:35:54.000Z
PRODUCT_ID = "H9384_0000_P23.JP2"
RELEASE_ID = 0096
REVISION_ID = 0000
/* QUALITY DATA ELEMENTS */
DATA_QUALITY_ID = 1
DATA_QUALITY_DESC = "Data calculated based on original SPICE kernels"
/* TIME DATA ELEMENTS */
SPACECRAFT_CLOCK_START_COUNT = "1/0252981324.08240"
SPACECRAFT_CLOCK_STOP_COUNT = "1/0252981571.41049"
START_TIME = 2011-05-09T00:36:20.021Z
STOP_TIME = 2011-05-09T00:39:18.833Z
/* ORBITAL DATA ELEMENTS */
ASCENDING_NODE_LONGITUDE = 38.08
MAXIMUM_RESOLUTION = 59.7
FOOTPRINT_POINT_LATITUDE = (17.4254,17.426,17.4265,17.4273,17.4281 ,17.2441,16.9371,16.7326,16.5282, 16.3239,16.0178,15.7107,15.506,15.3047, 15.0004,14.7973,14.5981,14.3934,14.0875 ,13.8849,13.6827,13.4805,13.2585, 13.0179,12.7774,12.537,12.2969,12.0571, 11.8174,11.5782,11.3391,11.1004,10.8617 ,10.5044,10.1476,9.90969,9.67274, 9.31746,8.96264,8.72659,8.49072,8.25518 ,8.01989,7.78481,7.55022,7.1987,6.96477 ,6.61442,6.38135,6.25275,6.25032, 6.24827,6.24629,6.24369,6.35936,6.59265 ,6.82614,7.06029,7.29459,7.52915, 7.76408,7.99929,8.23478,8.47349,8.70632 ,8.94296,9.17888,9.41579,9.77162, 10.0092,10.2458,10.4851,10.7233,10.9622 ,11.321,11.6804,11.92,12.1598,12.5206, 12.8814,13.1217,13.4657,13.7694,14.0733 ,14.2761,14.5803,14.7826,14.987,15.1906 ,15.3942,15.5979,15.8017,16.0037, 16.3063,16.5137,16.7179,16.923,17.2314, 17.4371,17.4254)
FOOTPRINT_POINT_LONGITUDE = (169.086,168.916,168.733,168.453, 168.172,168.061,168.06,168.059,168.058, 168.057,168.056,168.055,168.054,168.052 ,168.049,168.048,168.044,168.044, 168.042,168.04,168.038,168.036,168.034, 168.032,168.029,168.027,168.024,168.021 ,168.018,168.015,168.012,168.009, 168.006,168.001,167.995,167.992,167.988 ,167.983,167.977,167.973,167.969, 167.965,167.961,167.956,167.952,167.945 ,167.941,167.934,167.929,168.144, 168.376,168.58,168.799,169.112,169.39, 169.389,169.388,169.388,169.387,169.387 ,169.386,169.386,169.386,169.387, 169.385,169.385,169.384,169.384,169.383 ,169.383,169.382,169.383,169.383, 169.383,169.383,169.383,169.383,169.383 ,169.383,169.383,169.383,169.383, 169.384,169.384,169.384,169.384,169.384 ,169.385,169.385,169.386,169.386, 169.386,169.385,169.384,169.386,169.386 ,169.387,169.388,169.389,169.086)
ORBIT_NUMBER = 9384
ORBITAL_ECCENTRICITY = 0.576
ORBITAL_INCLINATION = 86.86
ORBITAL_SEMIMAJOR_AXIS = 8839.87
PERIAPSIS_ALTITUDE = 352.5
PERIAPSIS_ARGUMENT_ANGLE = 158.22
PERIAPSIS_TIME = 2011-05-09T00:34:52.000Z
SPACECRAFT_ORIENTATION = (0.0,-1.0,0.0)
^MEX_ORIENTATION_DESC = "MEX_ORIENTATION_DESC.TXT"
SPACECRAFT_POINTING_MODE = NADIR
^MEX_POINTING_DESC = "MEX_POINTING_DESC.TXT"
RIGHT_ASCENSION = -1e+32
DECLINATION = -1e+32
OFFSET_ANGLE = -1e+32
SPACECRAFT_SOLAR_DISTANCE = 2.10444e+08
TARGET_NAME = MARS
/* CAMERA DATA ELEMENTS */
DETECTOR_TEMPERATURE = 18.5744
FOCAL_PLANE_TEMPERATURE = 8.3794
INST_CMPRS_NAME = "DISCRETE COSINE TRANSFORMATION (DCT)"
INST_CMPRS_RATIO = 10.0519
INST_CMPRS_QUALITY = 0
INST_CMPRS_QUANTZ_TBL_ID = 0
INSTRUMENT_TEMPERATURE = 11.234
LENS_TEMPERATURE = 8.5833
MACROPIXEL_SIZE = 4
MISSING_FRAMES = 0
PIXEL_SUBSAMPLING_FLAG = N
SIGNAL_CHAIN_ID = 3
/* RADIOMETRIC DATA ELEMENTS */
BANDWIDTH = 177.0
CENTER_FILTER_WAVELENGTH = 676.5
RADIANCE_OFFSET = 3.04615
RADIANCE_SCALING_FACTOR = 0.0146003
REFLECTANCE_SCALING_FACTOR = 0.000342838
MEX:REFLECTANCE_OFFSET = 0.0715286
/* IMAGE OBJECT DEFINITIONS */
OBJECT = IMAGE
  INTERCHANGE_FORMAT = BINARY
  LINES = 13292
  LINE_SAMPLES = 1754
  SAMPLE_TYPE = UNSIGNED_INTEGER
  SAMPLE_BITS = 8
  BANDS = 1
  BAND_STORAGE_TYPE = BAND_SEQUENTIAL
  MAXIMUM = 255
  MEAN = 111.264
  MINIMUM = 1
  STANDARD_DEVIATION = 34.4254
END_OBJECT = IMAGE
/* MAP OBJECT DEFINITIONS */
OBJECT = IMAGE_MAP_PROJECTION
  ^DATA_SET_MAP_PROJECTION_CATALOG= "DSMAP.CAT"
  A_AXIS_RADIUS = 3396.0
  B_AXIS_RADIUS = 3396.0
  C_AXIS_RADIUS = 3396.0
  CENTER_LATITUDE = 0.0
  CENTER_LONGITUDE = 169.0
  COORDINATE_SYSTEM_NAME = PLANETOGRAPHIC
  COORDINATE_SYSTEM_TYPE = "BODY-FIXED ROTATING"
  EASTERNMOST_LONGITUDE = 169.39
  FIRST_STANDARD_PARALLEL = "N/A"
  LINE_FIRST_PIXEL = 1
  LINE_LAST_PIXEL = 13292
  LINE_PROJECTION_OFFSET = 20672.875
  MAP_PROJECTION_ROTATION = 0.0
  MAP_PROJECTION_TYPE = SINUSOIDAL
  MAP_RESOLUTION = 1185.42760773333
  MAP_SCALE = 0.05
  MAXIMUM_LATITUDE = 17.4371
  MINIMUM_LATITUDE = 6.24369
  POSITIVE_LONGITUDE_DIRECTION = EAST
  REFERENCE_LATITUDE = "N/A"
  REFERENCE_LONGITUDE = "N/A"
  SAMPLE_FIRST_PIXEL = 1
  SAMPLE_LAST_PIXEL = 1754
  SAMPLE_PROJECTION_OFFSET = 1277.125
  SECOND_STANDARD_PARALLEL = "N/A"
  WESTERNMOST_LONGITUDE = 167.929
END_OBJECT = IMAGE_MAP_PROJECTION
/* The JPEG2000 image data file associated with this label. */
OBJECT = COMPRESSED_FILE
  FILE_NAME = "H9384_0000_P23.JP2"
  RECORD_TYPE = UNDEFINED
  FILE_RECORDS = UNK
  ENCODING_TYPE = "JP2"
  INTERCHANGE_FORMAT = BINARY
  UNCOMPRESSED_FILE_NAME = "H9384_0000_P23.IMG"
  REQUIRED_STORAGE_BYTES = "23333462"
  ^DESCRIPTION = "JP2INFO.TXT"
END_OBJECT = COMPRESSED_FILE
END
