PDS_VERSION_ID = PDS3
/* FILE DATA ELEMENTS */
RECORD_TYPE = STREAM
/* POINTERS TO DATA OBJECTS */
^COMPRESSED_FILE = "H9384_0000_S13.JP2"
/* IDENTIFICATION DATA ELEMENTS */
DATA_SET_ID = "MEX-M-HRSC-5-REFDR-MAPPROJECTED-V3.0"
DATA_SET_NAME = "MARS EXPRESS HRSC MAP PROJECTED REFDR V3.0"
DETECTOR_ID = MEX_HRSC_S1
EVENT_TYPE = "MARS-REGIONAL-MAPPING-Vo-Te-Pf"
INSTRUMENT_HOST_ID = MEX
INSTRUMENT_HOST_NAME = "MARS EXPRESS"
INSTRUMENT_ID = HRSC
INSTRUMENT_NAME = "HIGH RESOLUTION STEREO CAMERA"
MISSION_NAME = "MARS EXPRESS"
MISSION_PHASE_NAME = ME_Phase_23
PROCESSING_LEVEL_ID = 3
PRODUCT_CREATION_TIME = 2016-10-26T12:35:54.000Z
PRODUCT_ID = "H9384_0000_S13.JP2"
RELEASE_ID = 0096
REVISION_ID = 0000
/* QUALITY DATA ELEMENTS */
DATA_QUALITY_ID = 1
DATA_QUALITY_DESC = "Data calculated based on original SPICE kernels"
/* TIME DATA ELEMENTS */
SPACECRAFT_CLOCK_START_COUNT = "1/0252981324.08240"
SPACECRAFT_CLOCK_STOP_COUNT = "1/0252981571.41049"
START_TIME = 2011-05-09T00:35:27.062Z
STOP_TIME = 2011-05-09T00:38:18.219Z
/* ORBITAL DATA ELEMENTS */
ASCENDING_NODE_LONGITUDE = 38.08
MAXIMUM_RESOLUTION = 30.3
FOOTPRINT_POINT_LATITUDE = (17.4423,17.4438,17.4443,17.4437, 17.3058,17.0951,16.884,16.6731,16.462, 16.251,16.0397,15.6201,15.4052,15.193, 14.9814,14.7702,14.5517,14.24,14.0281, 13.8163,13.6042,13.3927,13.1802,12.9682 ,12.6497,12.3312,12.1189,11.8002, 11.5877,11.3752,11.1625,10.9501,10.6314 ,10.4189,10.206,9.99403,9.78083,9.40413 ,9.15048,8.89661,8.64274,8.38892, 8.13541,7.88149,7.62764,7.374,7.1202, 6.86652,6.61283,6.35902,6.20561,6.20451 ,6.20307,6.20099,6.19799,6.32251, 6.57648,6.83077,7.21131,7.46518,7.71907 ,7.97299,8.2269,8.47292,8.73507,8.98886 ,9.2438,9.49805,9.75287,9.96422,10.1784 ,10.4968,10.7098,10.9224,11.1348, 11.3468,11.5598,11.8782,12.0908,12.303, 12.6216,12.8341,13.0469,13.2591,13.4717 ,13.7899,14.0019,14.3201,14.5321, 14.7444,14.9578,15.3793,15.5912,15.8027 ,16.021,16.4424,16.7584,16.9691,17.2838 ,17.4423)
FOOTPRINT_POINT_LONGITUDE = (169.208,168.909,168.659,168.26,168.071 ,168.071,168.07,168.07,168.07,168.069, 168.069,168.068,168.067,168.065,168.065 ,168.064,168.061,168.061,168.059, 168.058,168.057,168.056,168.054,168.052 ,168.05,168.047,168.045,168.042,168.04, 168.038,168.036,168.034,168.03,168.028, 168.025,168.023,168.02,168.015,168.012, 168.009,168.005,168.002,167.998,167.994 ,167.991,167.987,167.983,167.979, 167.974,167.97,168.154,168.382,168.595, 168.836,169.117,169.349,169.349,169.349 ,169.35,169.35,169.35,169.351,169.351, 169.354,169.352,169.352,169.353,169.353 ,169.353,169.354,169.354,169.355, 169.356,169.356,169.357,169.358,169.358 ,169.359,169.36,169.361,169.362,169.362 ,169.363,169.364,169.364,169.366, 169.366,169.368,169.368,169.369,169.37, 169.372,169.373,169.374,169.373,169.375 ,169.377,169.378,169.38,169.208)
ORBIT_NUMBER = 9384
ORBITAL_ECCENTRICITY = 0.576
ORBITAL_INCLINATION = 86.86
ORBITAL_SEMIMAJOR_AXIS = 8839.87
PERIAPSIS_ALTITUDE = 352.5
PERIAPSIS_ARGUMENT_ANGLE = 158.22
PERIAPSIS_TIME = 2011-05-09T00:34:52.000Z
SPACECRAFT_ORIENTATION = (0.0,-1.0,0.0)
^MEX_ORIENTATION_DESC = "MEX_ORIENTATION_DESC.TXT"
SPACECRAFT_POINTING_MODE = NADIR
^MEX_POINTING_DESC = "MEX_POINTING_DESC.TXT"
RIGHT_ASCENSION = -1e+32
DECLINATION = -1e+32
OFFSET_ANGLE = -1e+32
SPACECRAFT_SOLAR_DISTANCE = 2.10444e+08
TARGET_NAME = MARS
/* CAMERA DATA ELEMENTS */
DETECTOR_TEMPERATURE = 17.5549
FOCAL_PLANE_TEMPERATURE = 8.3794
INST_CMPRS_NAME = "DISCRETE COSINE TRANSFORMATION (DCT)"
INST_CMPRS_RATIO = 8.54185
INST_CMPRS_QUALITY = 0
INST_CMPRS_QUANTZ_TBL_ID = 0
INSTRUMENT_TEMPERATURE = 11.234
LENS_TEMPERATURE = 8.5833
MACROPIXEL_SIZE = 2
MISSING_FRAMES = 0
PIXEL_SUBSAMPLING_FLAG = N
SIGNAL_CHAIN_ID = 1
/* RADIOMETRIC DATA ELEMENTS */
BANDWIDTH = 180.0
CENTER_FILTER_WAVELENGTH = 677.0
RADIANCE_OFFSET = 3.59294
RADIANCE_SCALING_FACTOR = 0.0157932
REFLECTANCE_SCALING_FACTOR = 0.000364907
MEX:REFLECTANCE_OFFSET = 0.0830164
/* IMAGE OBJECT DEFINITIONS */
OBJECT = IMAGE
  INTERCHANGE_FORMAT = BINARY
  LINES = 26583
  LINE_SAMPLES = 3507
  SAMPLE_TYPE = UNSIGNED_INTEGER
  SAMPLE_BITS = 8
  BANDS = 1
  BAND_STORAGE_TYPE = BAND_SEQUENTIAL
  MAXIMUM = 255
  MEAN = 108.676
  MINIMUM = 1
  STANDARD_DEVIATION = 34.4098
END_OBJECT = IMAGE
/* MAP OBJECT DEFINITIONS */
OBJECT = IMAGE_MAP_PROJECTION
  ^DATA_SET_MAP_PROJECTION_CATALOG= "DSMAP.CAT"
  A_AXIS_RADIUS = 3396.0
  B_AXIS_RADIUS = 3396.0
  C_AXIS_RADIUS = 3396.0
  CENTER_LATITUDE = 0.0
  CENTER_LONGITUDE = 169.0
  COORDINATE_SYSTEM_NAME = PLANETOGRAPHIC
  COORDINATE_SYSTEM_TYPE = "BODY-FIXED ROTATING"
  EASTERNMOST_LONGITUDE = 169.38
  FIRST_STANDARD_PARALLEL = "N/A"
  LINE_FIRST_PIXEL = 1
  LINE_LAST_PIXEL = 26583
  LINE_PROJECTION_OFFSET = 41346.25
  MAP_PROJECTION_ROTATION = 0.0
  MAP_PROJECTION_TYPE = SINUSOIDAL
  MAP_RESOLUTION = 2370.85521546667
  MAP_SCALE = 0.025
  MAXIMUM_LATITUDE = 17.4443
  MINIMUM_LATITUDE = 6.19799
  POSITIVE_LONGITUDE_DIRECTION = EAST
  REFERENCE_LATITUDE = "N/A"
  REFERENCE_LONGITUDE = "N/A"
  SAMPLE_FIRST_PIXEL = 1
  SAMPLE_LAST_PIXEL = 3507
  SAMPLE_PROJECTION_OFFSET = 2554.75
  SECOND_STANDARD_PARALLEL = "N/A"
  WESTERNMOST_LONGITUDE = 167.97
END_OBJECT = IMAGE_MAP_PROJECTION
/* The JPEG2000 image data file associated with this label. */
OBJECT = COMPRESSED_FILE
  FILE_NAME = "H9384_0000_S13.JP2"
  RECORD_TYPE = UNDEFINED
  FILE_RECORDS = UNK
  ENCODING_TYPE = "JP2"
  INTERCHANGE_FORMAT = BINARY
  UNCOMPRESSED_FILE_NAME = "H9384_0000_S13.IMG"
  REQUIRED_STORAGE_BYTES = "93247623"
  ^DESCRIPTION = "JP2INFO.TXT"
END_OBJECT = COMPRESSED_FILE
END
