PDS_VERSION_ID = PDS3
/* FILE DATA ELEMENTS */
RECORD_TYPE = STREAM
/* POINTERS TO DATA OBJECTS */
^COMPRESSED_FILE = "H9385_0000_RE3.JP2"
/* IDENTIFICATION DATA ELEMENTS */
DATA_SET_ID = "MEX-M-HRSC-5-REFDR-MAPPROJECTED-V3.0"
DATA_SET_NAME = "MARS EXPRESS HRSC MAP PROJECTED REFDR V3.0"
DETECTOR_ID = MEX_HRSC_RED
EVENT_TYPE = "MARS-REGIONAL-MAPPING-Im-Fl-La"
INSTRUMENT_HOST_ID = MEX
INSTRUMENT_HOST_NAME = "MARS EXPRESS"
INSTRUMENT_ID = HRSC
INSTRUMENT_NAME = "HIGH RESOLUTION STEREO CAMERA"
MISSION_NAME = "MARS EXPRESS"
MISSION_PHASE_NAME = ME_Phase_23
PROCESSING_LEVEL_ID = 3
PRODUCT_CREATION_TIME = 2016-10-26T12:35:54.000Z
PRODUCT_ID = "H9385_0000_RE3.JP2"
RELEASE_ID = 0096
REVISION_ID = 0000
/* QUALITY DATA ELEMENTS */
DATA_QUALITY_ID = 1
DATA_QUALITY_DESC = "Data calculated based on original SPICE kernels"
/* TIME DATA ELEMENTS */
SPACECRAFT_CLOCK_START_COUNT = "1/0253006706.09050"
SPACECRAFT_CLOCK_STOP_COUNT = "1/0253006969.00033"
START_TIME = 2011-05-09T07:39:40.648Z
STOP_TIME = 2011-05-09T07:42:39.404Z
/* ORBITAL DATA ELEMENTS */
ASCENDING_NODE_LONGITUDE = 38.06
MAXIMUM_RESOLUTION = 72.5
FOOTPRINT_POINT_LATITUDE = (3.96551,3.95859,3.95196,3.94565, 3.93969,3.93399,3.9158,3.54383,3.25974, 3.06954,2.87968,2.69008,2.50074,2.21246 ,2.01914,1.82616,1.63367,1.44136, 1.24501,0.950566,0.754815,0.559173, 0.360877,0.161351,-0.0378974,-0.2382, -0.436725,-0.638266,-0.840183,-1.04216, -1.34641,-1.5518,-1.75662,-2.0637, -2.27259,-2.58562,-2.89981,-3.11073, -3.32179,-3.53352,-3.74763,-3.96165, -4.17407,-4.38924,-4.70946,-4.93147, -5.15025,-5.37011,-5.58997,-5.81275, -6.03732,-6.25815,-6.26044,-6.25528, -6.24655,-6.23969,-6.22694,-5.88957, -5.56257,-5.34267,-5.12468,-4.89835, -4.6811,-4.46395,-4.24725,-3.9275, -3.60382,-3.38606,-3.17522,-2.96419, -2.75294,-2.54542,-2.34066,-2.034, -1.82885,-1.62285,-1.41783,-1.2116, -0.908921,-0.706862,-0.503788,-0.201316 ,-0.00258462,0.196842,0.396419,0.594699 ,0.790319,0.986542,1.28094,1.47719, 1.76602,1.95893,2.15203,2.34599,2.53771 ,2.91679,3.20174,3.3917,3.76693, 3.96551)
FOOTPRINT_POINT_LONGITUDE = (67.8424,67.6065,67.3727,67.1409, 66.9114,66.6836,66.467,66.4574,66.45, 66.4449,66.4398,66.4347,66.4296,66.4216 ,66.4162,66.4108,66.4054,66.3999, 66.3942,66.3857,66.3799,66.3741,66.3682 ,66.3622,66.3561,66.35,66.3439,66.3376, 66.3312,66.3248,66.3151,66.3084,66.3017 ,66.2916,66.2846,66.2741,66.2635, 66.2562,66.2489,66.2415,66.234,66.2264, 66.2187,66.2109,66.199,66.1911,66.1829, 66.1746,66.1663,66.1579,66.1494,66.1408 ,66.4635,66.9164,67.3197,67.5972, 68.0275,68.104,68.0945,68.0915,68.0869, 68.0884,68.0858,68.083,68.0797,68.0749, 68.0724,68.0738,68.0713,68.0686,68.0661 ,68.0637,68.059,68.0512,68.0493,68.0479 ,68.0456,68.044,68.0411,68.0392,68.0378 ,68.0364,68.0347,68.0333,68.0318, 68.0303,68.0289,68.0278,68.0257,68.0243 ,68.0226,68.0215,68.0204,68.0197, 68.0187,68.0168,68.0155,68.0144,68.0129 ,67.8424)
ORBIT_NUMBER = 9385
ORBITAL_ECCENTRICITY = 0.577
ORBITAL_INCLINATION = 86.87
ORBITAL_SEMIMAJOR_AXIS = 8849.41
PERIAPSIS_ALTITUDE = 351.66
PERIAPSIS_ARGUMENT_ANGLE = 158.05
PERIAPSIS_TIME = 2011-05-09T07:34:26.000Z
SPACECRAFT_ORIENTATION = (0.0,-1.0,0.0)
^MEX_ORIENTATION_DESC = "MEX_ORIENTATION_DESC.TXT"
SPACECRAFT_POINTING_MODE = ACROSSTRACK
^MEX_POINTING_DESC = "MEX_POINTING_DESC.TXT"
RIGHT_ASCENSION = -1e+32
DECLINATION = -1e+32
OFFSET_ANGLE = 0.85
SPACECRAFT_SOLAR_DISTANCE = 2.10479e+08
TARGET_NAME = MARS
/* CAMERA DATA ELEMENTS */
DETECTOR_TEMPERATURE = 18.7783
FOCAL_PLANE_TEMPERATURE = 8.5833
INST_CMPRS_NAME = "DISCRETE COSINE TRANSFORMATION (DCT)"
INST_CMPRS_RATIO = 16.8783
INST_CMPRS_QUALITY = 0
INST_CMPRS_QUANTZ_TBL_ID = 0
INSTRUMENT_TEMPERATURE = 10.8262
LENS_TEMPERATURE = 9.195
MACROPIXEL_SIZE = 4
MISSING_FRAMES = 0
PIXEL_SUBSAMPLING_FLAG = N
SIGNAL_CHAIN_ID = 2
/* RADIOMETRIC DATA ELEMENTS */
BANDWIDTH = 48.0
CENTER_FILTER_WAVELENGTH = 748.0
RADIANCE_OFFSET = 0.55465
RADIANCE_SCALING_FACTOR = 0.00348766
REFLECTANCE_SCALING_FACTOR = 0.000352597
MEX:REFLECTANCE_OFFSET = 0.0560742
/* IMAGE OBJECT DEFINITIONS */
OBJECT = IMAGE
  INTERCHANGE_FORMAT = BINARY
  LINES = 12098
  LINE_SAMPLES = 2269
  SAMPLE_TYPE = UNSIGNED_INTEGER
  SAMPLE_BITS = 8
  BANDS = 1
  BAND_STORAGE_TYPE = BAND_SEQUENTIAL
  MAXIMUM = 255
  MEAN = 87.2725
  MINIMUM = 1
  STANDARD_DEVIATION = 35.9837
END_OBJECT = IMAGE
/* MAP OBJECT DEFINITIONS */
OBJECT = IMAGE_MAP_PROJECTION
  ^DATA_SET_MAP_PROJECTION_CATALOG= "DSMAP.CAT"
  A_AXIS_RADIUS = 3396.0
  B_AXIS_RADIUS = 3396.0
  C_AXIS_RADIUS = 3396.0
  CENTER_LATITUDE = 0.0
  CENTER_LONGITUDE = 67.0
  COORDINATE_SYSTEM_NAME = PLANETOGRAPHIC
  COORDINATE_SYSTEM_TYPE = "BODY-FIXED ROTATING"
  EASTERNMOST_LONGITUDE = 68.104
  FIRST_STANDARD_PARALLEL = "N/A"
  LINE_FIRST_PIXEL = 1
  LINE_LAST_PIXEL = 12098
  LINE_PROJECTION_OFFSET = 4700.375
  MAP_PROJECTION_ROTATION = 0.0
  MAP_PROJECTION_TYPE = SINUSOIDAL
  MAP_RESOLUTION = 1185.42760773333
  MAP_SCALE = 0.05
  MAXIMUM_LATITUDE = 3.96551
  MINIMUM_LATITUDE = -6.26044
  POSITIVE_LONGITUDE_DIRECTION = EAST
  REFERENCE_LATITUDE = "N/A"
  REFERENCE_LONGITUDE = "N/A"
  SAMPLE_FIRST_PIXEL = 1
  SAMPLE_LAST_PIXEL = 2269
  SAMPLE_PROJECTION_OFFSET = 942.625
  SECOND_STANDARD_PARALLEL = "N/A"
  WESTERNMOST_LONGITUDE = 66.1408
END_OBJECT = IMAGE_MAP_PROJECTION
/* The JPEG2000 image data file associated with this label. */
OBJECT = COMPRESSED_FILE
  FILE_NAME = "H9385_0000_RE3.JP2"
  RECORD_TYPE = UNDEFINED
  FILE_RECORDS = UNK
  ENCODING_TYPE = "JP2"
  INTERCHANGE_FORMAT = BINARY
  UNCOMPRESSED_FILE_NAME = "H9385_0000_RE3.IMG"
  REQUIRED_STORAGE_BYTES = "27473052"
  ^DESCRIPTION = "JP2INFO.TXT"
END_OBJECT = COMPRESSED_FILE
END
